Workbook
Name 【記載例】シフト記号: 'シフト記号表（従来型・ユニット型共通）'!$C$6:$C$47
Name 【記載例】シフト記号表: 'シフト記号表（従来型・ユニット型共通）'!$C$6:$C$47
Name 【記載例】シフト記号表: '【記載例】シフト記号表（勤務時間帯）'!$C$6:$C$47
Name ｋ: #REF!
Name ｋ: #N/A
Name ｋ: #REF!
Name ｋ: #REF!
Name あ: #REF!
Name あ: #REF!
Name サービス名: #REF!
Name サービス名: #N/A
Name サービス名: #REF!
Name サービス名: #REF!
Name サービス名称: #REF!
Name サービス名称: #N/A
Name サービス名称: #REF!
Name サービス名称: #REF!
Name シフト記号表: 'シフト記号表（従来型・ユニット型共通）'!$C$6:$C$47
Name だだ: #REF!
Name だだ: #N/A
Name だだ: #REF!
Name だだ: #REF!
Name っっｋ: #N/A
Name っっｋ: #REF!
Name っっっっｌ: #N/A
Name っっっっｌ: #REF!
Name 医師: 'プルダウン・リスト（従来型・ユニット型共通）'!$D$22:$D$31
Name 栄養士: 'プルダウン・リスト（従来型・ユニット型共通）'!$H$22:$H$31
Name 介護支援専門員: 'プルダウン・リスト（従来型・ユニット型共通）'!$J$22:$J$31
Name 介護職員: 'プルダウン・リスト（従来型・ユニット型共通）'!$G$22:$G$31
Name 確認: #N/A
Name 確認: #REF!
Name 看護職員: 'プルダウン・リスト（従来型・ユニット型共通）'!$F$22:$F$31
Name 管理者: 'プルダウン・リスト（従来型・ユニット型共通）'!$C$22:$C$31
Name 機能訓練指導員: 'プルダウン・リスト（従来型・ユニット型共通）'!$I$22:$I$31
Name 職種: 'プルダウン・リスト（従来型・ユニット型共通）'!$C$21:$L$21
Name 生活相談員: 'プルダウン・リスト（従来型・ユニット型共通）'!$E$22:$E$31

Sheet 加算様式２（医療院＋療養SS）
A1: 介護給付費算定に係る体制等に関する届出書・変更届出書 チェック表 （介護医療院） （介護医療院：短期入所療養介護・介護予防短期入所療養介護）
I2: 担当者名
I3: 連絡先（TEL）
A5: ※ 加算が算定されなくなる場合、欠員が解消される場合等についても同様に届け出てください。
A6: ※ （介護予防）通所リハビリテーションに係る届出は、（介護予防）通所リハビリテーション事業所用の様式を使用してください。
A7: ※ （介護予防）訪問リハビリテーションに係る届出は、（介護予防）訪問リハビリテーション事業所用の様式を使用してください。
A8: ※ 別紙1-1及び別紙1-2のうち、「55 介護医療院」「2A 短期入所療養介護」「2B 介護予防短期入所療養介護」のうち、
B9: 施設等の区分が該当しない部分については提出を省略して差し支えありません（「55」「2A」「2B」が１種類ずつ表示されていれば可）
A10: ※ ①を除き従業者の勤務体制及び勤務形態一覧表＜別紙７＞又はこれに準じた勤務割表等は、
B11: 介護医療院及び併設する（介護予防）短期入所療養介護事業所のすべての従業者を記載してください。
A12: ※ ①の別紙７又はこれに準じた勤務割表等は、添付資料の欄のとおり、通所リハビリテーション事業所及び訪問リハビリテーション事業所
B13: も含む全従業者が対象です。
A14: ※ 「従業者の勤務の体制及び勤務形態一覧表（別紙７）又はこれに準じた勤務割表等」については、
B15: 指定申請等に使用した（標準様式１）で作成したものも対象です。
A16: ※ 厚労省様式（「別紙○」の名称のもの）については、記載の注意事項を確認し正しい方法で使用してください。
A17: ※ 参考様式は、算定要件を満たす内容を証するものであれば任意様式で提出しても差し支えありませんが、
B18: 届け出後も同じ様式を継続して使用し、算定要件を毎月確認及び記録してください。
A19: ※ 介護医療院又は（介護予防）短期入所療養介護における届出事項で、重複する添付資料は提出不要です。
E20: 算定・届出対象
A21: 届出事項 | C21: 開設 | D21: 加算 追加 ・ 加算 削除 | E21: 本体 医療院 | F21: 併設 療養SS | G21: 添 付 書 類 | J21: 備 考
A22: 共 通 事 項 （必ず必要な書類） | C22: □ | D22: □ | E22: ○ （共通） | G22: ・ | H22: 介護給付費算定に係る体制等に関する届出書・変更届出書＜加算様式１＞
C23: □ | D23: □ | E23: ○ （共通） | G23: ・ | H23: 本チェック表＜加算様式２＞ | J23: 自主点検したもの（チェック済）を提出すること。
C24: □ | D24: □ | E24: ○ （共通） | G24: ・ | H24: 介護給付費算定に係る体制等状況一覧表＜別紙1-1,1-2＞ | J24: 別シートの「備考（1-1）(1-2)」も必ず確認すること。
D25: □ | E25: ○ | F25: ○ | G25: ・ | H25: 運営規程 | J25: 介護給付費算定に係る体制等に関する変更に伴い，改正したもの。介護の内容・利用料金の変更等について記載が必要。
H26: ※ | I26: 変更後の運営規程又は新旧対照表
B29: LIFEへの登録 | C29: □ | D29: □ | E29: ○ （共通） | J29: 別紙１(届)の変更内容欄にLIFE登録日を記入すること。
B30: 施設等の区分・ 人員配置区分 | C30: □ | D30: □ | E30: ○ （共通） | G30: ・ | H30: 介護医療院の基本施設サービス費に係る届出 ＜Ⅰ型：別紙30，Ⅱ型：別紙30-2＞
C31: □ | D31: □ | E31: ○ （共通） | G31: ・ | H31: 従業者の勤務の体制及び勤務形態一覧表＜別紙７＞又はこれに準じた勤務割表等 | J31: 看護職員、介護職員の配置状況がわかるもの。
B32: 夜間勤務条件基準 | D32: □ | E32: ○ （共通） | G32: ・ | H32: 理由書 | J32: 任意の様式で可。
D33: □ | E33: ○ （共通） | G33: ・ | H33: 従業者の勤務の体制及び勤務形態一覧表＜別紙７＞又はこれに準じた勤務割表等
B34: 職員の欠員による減算の状況 | D34: □ | E34: ○ （共通） | G34: ・ | H34: 理由書 | J34: 任意の様式で可。
D35: □ | E35: ○ （共通） | G35: ① | H35: 従業者の勤務の体制及び勤務形態一覧表＜別紙７＞又はこれに準じた勤務割表等 | J35: 医師、看護職員、介護職員、理学療法士療法士・作業療法士・言語聴覚士、介護支援専門員の配置状況がわかるもの（欠員となり解消された職種のみで可）
H36: ※全従業員（通所ﾘﾊ・訪問ﾘﾊ含む。）の勤務体制表を提出すること。 ※看護職員、介護職員分は、入所と通所リハ・訪問リハ分を別様とすること。それ以外の職種については、通所リハ・訪問リハにおける勤務時間も含めて記載すること。 ※兼務者はそれぞれに分けて記載すること。
D37: □ | E37: ○ （共通） | G37: ・ | H37: 組織体制図 | J37: 任意の様式で可。
D38: □ | E38: ○ （共通） | G38: ・ | H38: 該当する資格証（写） | J38: 欠員が解消される場合。
B39: ユニットケア体制
B40: 身体拘束廃止取組 の有無 | D40: □ | E40: ○ （共通） | G40: ・ | H40: 理由書 | J40: 任意の様式で可。
D41: □ | E41: ○ （共通） | G41: ・ | H41: 身体拘束改善計画又は身体拘束改善報告 | J41: 任意の様式で可（理事長名）。ただし、経緯、今後の改善策・職員教育、対象入所者の現状及び廃止に向けた取組みは必ず記載すること。
B42: 安全管理体制 | D42: □ | E42: ○ | G42: ・ | H42: 理由書 | J42: 任意の様式で可。
D43: □ | E43: ○ | G43: ・ | H43: 運営基準における事故の発生又は再発を防止するための措置を講じるための改善報告書 | J43: 任意の様式で可（理事長名）。ただし、今後の改善計画（指針の整備・体制の整備・従業者研修計画）を必ず記載すること。
B44: 高齢者虐待防止措置実施の有無 | D44: □ | E44: ○ （共通） | G44: ・ | H44: 理由書 | J44: 任意の様式で可。
D45: □ | E45: ○ （共通） | G45: ・ | H45: 高齢者虐待防止措置に係る改善計画又は改善報告書 | J45: 任意の様式で可（代表者名）。ただし、未措置事項（指針、委員会、研修、担当者の設置）の現状及び改善に向けた取組みは必ず記載すること。
B46: 業務継続計画策定の有無 | D46: □ | E46: ○ （共通） | G46: ・ | H46: 理由書 | J46: 任意の様式で可。
D47: □ | E47: ○ （共通） | G47: ・ | H47: 業務継続計画に係る改善計画又は改善報告書 | J47: 任意の様式で可（代表者名）。ただし、未措置事項（BPC策定、訓練、研修）の現状及び改善に向けた取組みは必ず記載すること。
D48: □ | E48: ○ （共通） | G48: ・ | H48: 業務継続計画（BPC） | J48: BCP未策定に伴う減算を解消する場合。感染症及び災害の項目を設定したもの。
B49: 栄養ケア・マネジメントの実施の有無 | D49: □ | E49: ○ | G49: ・ | H49: 栄養マネジメント体制に関する届出書＜別紙38＞
C50: □ | D50: □ | E50: ○ | G50: ・ | H50: 従業者の勤務の体制及び勤務形態一覧表＜別紙７＞又はこれに準じた勤務割表等 | J50: 算定開始する月の分。
C51: □ | D51: □ | E51: ○ | G51: ・ | H51: 栄養士及び管理栄養士の資格証（写）
B52: 夜間勤務等看護加算 | C52: □ | D52: □ | E52: ○ （共通） | G52: ・ | H52: 夜間勤務等看護加算に係る確認書＜参考様式３＞
D53: □ | E53: ○ （共通） | G53: ・ | H53: 従業者の勤務の体制及び勤務形態一覧表＜別紙７＞又はこれに準じた勤務割表等 | J53: 算定開始する月の分。
B54: ユニットケア体制 | C54: □ | D54: □ | E54: ○ （共通）
B55: 療養環境基準 | C55: □ | D55: □ | E55: ○ （共通） | G55: ・ | H55: 廊下幅が設備基準を満たさなくなった病棟、又は廊下幅が設備基準を満たすこととなった病棟の平面図
B56: 若年性認知症入所者受入加算 | C56: □ | D56: □ | E56: ○ （共通） | G56: ・ | H56: 若年性認知症入所者受入加算に関する届出書＜参考様式５＞
B57: 栄養マネジメント強化体制 | C57: □ | D57: □ | E57: □ | G57: ・ | H57: 栄養マネジメント体制に関する届出書＜別紙38＞ | J57: ※LIFEへの登録が必須
D58: □ | E58: ○ | G58: ・ | H58: 従業者の勤務の体制及び勤務形態一覧表＜別紙７＞又はこれに準じた勤務割表等 | J58: 算定開始する月の分。
C59: □ | D59: □ | E59: ○ | G59: ・ | H59: 栄養士及び管理栄養士の資格証（写）
B60: 療養食加算 | C60: □ | D60: □ | E60: ○ （共通） | G60: ・ | H60: 療養食加算に関する届出書＜参考様式５＞
B61: 特別療養費加算項目 | C61: □ | D61: □ | E61: ○ （共通） | G61: ・ | H61: 「特別診療費」に相当する診療報酬の算定のために届け出た届出書類（写） | J61: 施設等の区分が、「1 Ⅰ型介護医療院」「2 Ⅱ型介護医療院」「4ユニット型Ⅰ型介護医療院」「5 ユニット型Ⅱ型介護医療院」に該当する場合。
C62: □ | D62: □ | E62: ○ （共通） | G62: ・ | H62: 重症皮膚潰瘍管理指導の施設基準に係る届出書添付書類＜様式５＞
C63: □ | D63: □ | E63: ○ （共通） | G63: ・ | H63: 薬剤管理指導の施設基準に係る届出書添付書類＜様式６＞
C64: □ | D64: □ | E64: ○ （共通） | G64: ・ | H64: 〔 （当該届出の施設基準の名称） 〕に勤務する従事者の名簿＜様式７＞
C65: □ | D65: □ | E65: ○ （共通） | G65: ・ | H65: 理学療法、作業療法、言語聴覚療法又は集団コミュニケーション療法の施設基準に係る届出書添付書類＜様式８＞
C66: □ | D66: □ | E66: ○ （共通） | G66: ・ | H66: 該当する医師免許証（写）、薬剤師免許証（写）、言語聴覚士の資格証（写）
B67: リハビリテーション提供体制 | C67: □ | D67: □ | E67: ○ （共通） | G67: ・ | H67: 「特定診療費」に相当する診療報酬の算定のために届け出た届出書類（写） | J67: 施設等の区分が、「1病院療養型」「2診療所型」「6ユニット型病院療養型」「7ユニット型診療所型」「A病院経過型」「Cユニット型病院経過型」に該当する場合。
C68: □ | D68: □ | E68: ○ （共通） | G68: ・ | H68: 〔 （当該届出の施設基準の名称） 〕に勤務する従事者の名簿＜様式７＞
C69: □ | D69: □ | E69: ○ （共通） | G69: ・ | H69: 理学療法、作業療法、言語聴覚療法又は集団コミュニケーション療法の施設基準に係る届出書添付書類＜様式８＞
C70: □ | D70: □ | E70: ○ （共通） | G70: ・ | H70: 精神科作業療法の施設基準に係る届出書添付書類＜様式９＞
C71: □ | D71: □ | E71: ○ （共通） | G71: ・ | H71: 該当する言語聴覚士、作業療法士の資格証（写）
B72: ﾘﾊﾋﾞﾘﾃｰｼｮﾝ・口腔・栄養に係る計画の提出 | C72: □ | D72: □ | E72: ○
B73: 認知症短期集中リハビリテーション加算 | C73: □ | D73: □ | E73: ○ | G73: ・ | H73: 認知症短期集中リハビリテーション実施加算に関する届出書＜参考様式12＞
D74: □ | E74: ○ | G74: ・ | H74: 従業者の勤務の体制及び勤務形態一覧表＜別紙７＞又はこれに準じた勤務割表等 | J74: 算定開始する月の分。
C75: □ | D75: □ | E75: ○ | G75: ・ | H75: 該当する資格証（写）等 | J75: 理学療法士、作業療法士、言語聴覚士、認知症リハビリテーションの専門研修を修了した医師。
B76: 認知症専門ケア加算 | C76: □ | D76: □ | E76: ○ （共通） | G76: ・ | H76: 認知症専門ケア加算に係る届出書＜別紙12-２＞
C77: □ | D77: □ | E77: ○ （共通） | G77: ・ | H77: 認知症介護実践リーダー研修の修了証書（写）
C78: □ | D78: □ | E78: ○ （共通） | G78: ・ | H78: 認知症介護指導者養成研修の修了証書（写） | J78: 加算Ⅱを算定する場合。
C79: □ | D79: □ | E79: ○ （共通） | G79: ・ | H79: 認知症看護に係る適切な研修の修了証等（写）
C80: □ | D80: □ | E80: ○ （共通） | G80: ・ | H80: 認知症ケアに関する留意事項の伝達又は技術的指導に係る会議の開催状況がわかるもの | J80: 予定の場合は、開催スケジュール（年間計画、実施フロー等開催時期と頻度がわかるもの）及び開催内容の概要を記載すること。
C81: □ | D81: □ | E81: ○ （共通） | G81: ・ | H81: 算定開始月を含む年間又は年度の研修計画（認知症ケアに関する研修計画） | J81: 加算Ⅱを算定する場合。
B82: 認知症チームケア推進加算 | C82: □ | D82: □ | E82: ○ | G82: ・ | H82: 認知症チームケア推進加算に係る届出書＜別紙40＞
C83: □ | D83: □ | E83: ○ | G83: ・ | H83: 前３月の各月末時点での利用者総数に占める、要件に該当する利用者の割合（平均）を記録（計算）したもの | J83: 各月末時点ごとの利用者数及び自立度Ⅱ・Ⅲ・Ⅳ又はMに該当する利用者総数がわかるもの。
C84: □ | D84: □ | E84: ○ | G84: ・ | H84: 認知症介護指導者養成研修の修了証（写） | J84: 加算Ⅰを算定する場合
C85: □ | D85: □ | E85: ○ | G85: ・ | H85: 認知症介護実践リーダー研修の修了証（写） | J85: 加算Ⅱを算定する場合
C86: □ | D86: □ | E86: ○ | G86: ・ | H86: 認知症チームケア推進研修の修了証（写）
B87: 重度認知症疾患療養体制加算 | C87: □ | D87: □ | E87: ○ | G87: ・ | H87: 介護医療院における重度認知症疾患療養体制加算に係る届出＜別紙３１＞
D88: □ | E88: ○ | G88: ・ | H88: 従業者の勤務の体制及び勤務形態一覧表＜別紙７＞又はこれに準じた勤務割表等 | J88: 算定開始する月の分。
C89: □ | D89: □ | E89: ○ | G89: ・ | H89: 該当する資格証（写）等 | J89: 精神保健福祉士、理学療法士、作業療法士、言語聴覚士。
B90: 排せつ支援加算 | C90: □ | D90: □ | E90: ○ | G90: ・ | H90: 排せつ支援加算に関する届出書＜参考様式９＞ | J90: ※LIFEへの登録が必須
B91: 自立支援促進加算 | C91: □ | D91: □ | E91: ○ | G91: ・ | H91: 自立支援加算に関する届出書＜参考様式10＞ | J91: ※LIFEへの登録が必須
B92: 科学的介護推進体制加算 | C92: □ | D92: □ | E92: ○ | J92: ※LIFEへの登録が必須
B93: 安全対策体制 | C93: □ | D93: □ | E93: ○ | G93: ・ | H93: 安全管理対策体制に関する確認書＜参考様式11＞
B94: 高齢者施設等感染症対策向上加算 | C94: □ | D94: □ | E94: ○ | G94: ・ | H94: 高齢者施設等感染者対策向上加算に係る届出書＜別紙35＞
C95: □ | D95: □ | E95: ○ | G95: ・ | H95: 院内感染対策に関する研修又は訓練の参加記録 | J95: 加算Ⅰを算定する場合。
C96: □ | D96: □ | E96: ○ | G96: ・ | H96: 実地指導を受けた日時及び指導概要 | J96: 加算Ⅱを算定する場合。
E97: ○ | G97: ※ | H97: 協力医療機関について年１回届け出るとともに、内容変更の場合は速やかに、その変更内容について変更届を提出すること。 | J97: 協力医療機関が（変更）未届の場合は、算定不可。
B98: 生産性向上推進体制加算 | D98: □ | E98: ○ | G98: ・ | H98: 生産性向上推進体制加算に係る届出書＜別紙28＞
D99: □ | E99: ○ | G99: ・ | H99: 利用者の安全やケアの質の確保、職員の負担の軽減を図るための委員会の議事概要 | J99: 導入後から３月以上、継続して定期的に実施していることがわかるようにすること。
D100: □ | E100: ○ | G100: ・ | H100: 各種指標に関する調査結果 | J100: 導入前後を比較して各指標の改善状況等の調査結果がわかるようにすること。
D101: □ | E101: ○ | G101: ・ | H101: 指針、業務フロー、手順書等算定要件に該当する取組の全体像（概要・体制）がわかる資料 | J101: 算定要件である事務処理手順（各調査や研修等）がいつどのくらいの頻度でどのような形で実施（予定）されているのかがわかるもの。
B102: サービス提供体制強化加算 | D102: □ | E102: ○ （共通） | G102: ・ | H102: サービス提供体制強化加算に関する届出書＜別紙14-4＞
D103: □ | E103: ○ （共通） | G103: ・ | H103: 従業者の勤務の体制及び勤務形態一覧表＜別紙７＞又はこれに準じた勤務割表等 | J103: 前年度４月～２月の分。なお，前年度実績が６月に満たない場合は届出前３か月分
...

Sheet 加算様式２（老健＋療養SS）
A1: 介護給付費算定に係る体制等に関する届出書・変更届出書 チェック表 （介護老人保健施設（介護療養型老人保健施設を含む。）） （介護老人保健施設：短期入所療養介護・介護予防短期入所療養介護）
I2: 担当者名
I3: 連絡先（TEL）
A5: ※ 加算が算定されなくなる場合、欠員が解消される場合等についても同様に届け出てください。
A6: ※ （介護予防）通所リハビリテーションに係る届出は、（介護予防）通所リハビリテーション事業所用の様式を使用してください。
A7: ※ （介護予防）訪問リハビリテーションに係る届出は、（介護予防）訪問リハビリテーション事業所用の様式を使用してください。
A8: ※ 別紙1-1及び別紙1-2のうち、「52 介護老人保健施設」「22 短期入所療養介護」「25 介護予防短期入所療養介護」のうち、
B9: 施設等の区分が該当しない部分については提出を省略して差し支えありません（「52」「22」「25」が１種類ずつ表示されていれば可）
A10: ※ ①を除き従業者の勤務体制及び勤務形態一覧表＜別紙７＞又はこれに準じた勤務割表等は、
B11: 介護老人保健施設及び併設する（介護予防）短期入所療養介護事業所のすべての従業者を記載してください。
A12: ※ ①の別紙７又はこれに準じた勤務割表等は、添付資料の欄のとおり、通所リハビリテーション事業所及び訪問リハビリテーション事業所
B13: も含む全従業者が対象です。
A14: ※ 「従業者の勤務の体制及び勤務形態一覧表（別紙７）又はこれに準じた勤務割表等」については、
B15: 指定申請等に使用した（標準様式１）で作成したものも対象です。
A16: ※ 厚労省様式（「別紙○」の名称のもの）については、記載の注意事項を確認し正しい方法で使用してください。
A17: ※ 参考様式は、算定要件を満たす内容を証するものであれば任意様式で提出しても差し支えありませんが、
B18: 届け出後も同じ様式を継続して使用し、算定要件を毎月確認及び記録してください。
A19: ※ 介護老人保健施設又は（介護予防）短期入所療養介護における届出事項で、重複する添付資料は提出不要です。
E20: 算定・届出対象
A21: 届出事項 | C21: 開設 | D21: 加算 追加 ・ 加算 削除 | E21: 本体 老健 | F21: 併設 療養SS | G21: 添 付 書 類 | J21: 備 考
A22: 共 通 事 項 （必ず必要な書類） | C22: □ | D22: □ | E22: ○ （共通） | G22: ・ | H22: 介護給付費算定に係る体制等に関する届出書・変更届出書＜加算様式１＞
C23: □ | D23: □ | E23: ○ （共通） | G23: ・ | H23: 本チェック表＜加算様式２＞ | J23: 自主点検したもの（チェック済）を提出すること。
C24: □ | D24: □ | E24: ○ （共通） | G24: ・ | H24: 介護給付費算定に係る体制等状況一覧表＜別紙1-1,1-2＞ | J24: 別シートの「備考（1-1）(1-2)」も必ず確認すること。
D25: □ | E25: ○ | F25: ○ | G25: ・ | H25: 運営規程 | J25: 介護給付費算定に係る体制等に関する変更に伴い，改正したもの。介護の内容・利用料金の変更等について記載が必要。
H26: ※ | I26: 変更後の運営規程又は新旧対照表
B29: LIFEへの登録 | C29: □ | D29: □ | E29: ○ （共通） | J29: 別紙１(届)の変更内容欄にLIFE登録日を記入すること。
B30: 施設等の区分・ 人員配置区分 | C30: □ | D30: □ | E30: ○ | G30: ・ | H30: 介護老人保健施設（基本型・在宅強化型）の基本施設サービス費及び在宅復帰・在宅療養支援機能加算に係る届出＜別紙29（R6.9月提供分まで）又は別紙29-2(R6.10月提供以降）＞ | J30: 施設等の区分が、「1介護老人保健施設（Ⅰ）」又は「2ユニット型介護老人保健施設（Ⅰ）」に該当する場合。
C31: □ | D31: □ | E31: ○ | G31: ・ | H31: 介護老人保健施設（療養型）の基本施設サービス費及び療養体制維持特別加算（Ⅱ）に係る届出＜別紙29-3＞ | J31: 施設等の区分が、「介護老人保健施設（Ⅱ）」又は「介護老人保健施設（Ⅲ）に該当する場合。
B32: 夜間勤務条件基準 | D32: □ | E32: ○ （共通） | G32: ・ | H32: 理由書 | J32: 任意の様式で可。
D33: □ | E33: ○ （共通） | G33: ・ | H33: 従業者の勤務の体制及び勤務形態一覧表＜別紙７＞又はこれに準じた勤務割表等
B34: 職員の欠員による減算の状況 | D34: □ | E34: ○ （共通） | G34: ・ | H34: 理由書 | J34: 任意の様式で可。
D35: □ | E35: ○ （共通） | G35: ① | H35: 従業者の勤務の体制及び勤務形態一覧表＜別紙７＞又はこれに準じた勤務割表等 | J35: 医師、看護職員、介護職員、理学療法士療法士・作業療法士・言語聴覚士、介護支援専門員の配置状況がわかるもの。
H36: ※全従業員（通所ﾘﾊ・訪問ﾘﾊ含む。）の勤務体制表を提出すること。 ※看護職員、介護職員分は、入所と通所リハ・訪問リハ分を別様とすること。それ以外の職種については、通所リハ・訪問リハにおける勤務時間も含めて記載すること。 ※兼務者はそれぞれに分けて記載すること。
D39: □ | E39: ○ （共通） | G39: ・ | H39: 組織体制図 | J39: 任意の様式で可。
D40: □ | E40: ○ （共通） | G40: ・ | H40: 該当する資格証（写） | J40: 欠員が解消される場合。
B41: ユニットケア体制
B42: 身体拘束廃止取組 の有無 | D42: □ | E42: ○ （共通） | G42: ・ | H42: 理由書 | J42: 任意の様式で可。
D43: □ | E43: ○ （共通） | G43: ・ | H43: 身体拘束改善計画又は身体拘束改善報告 | J43: 任意の様式で可（理事長名）。ただし、経緯、今後の改善策・職員教育、対象入所者の現状及び廃止に向けた取組みは必ず記載すること。
B44: 安全管理体制 | D44: □ | E44: ○ | G44: ・ | H44: 理由書 | J44: 任意の様式で可。
D45: □ | E45: ○ | G45: ・ | H45: 運営基準における事故の発生又は再発を防止するための措置を講じるための改善報告書 | J45: 任意の様式で可（理事長名）。ただし、今後の改善計画（指針の整備・体制の整備・従業者研修計画）を必ず記載すること。
B46: 高齢者虐待防止措置実施の有無 | D46: □ | E46: ○ （共通） | G46: ・ | H46: 理由書 | J46: 任意の様式で可。
D47: □ | E47: ○ （共通） | G47: ・ | H47: 高齢者虐待防止措置に係る改善計画又は改善報告書 | J47: 任意の様式で可（代表者名）。ただし、未措置事項（指針、委員会、研修、担当者の設置）の現状及び改善に向けた取組みは必ず記載すること。
B48: 業務継続計画策定の有無 | D48: □ | E48: ○ （共通） | G48: ・ | H48: 理由書 | J48: 任意の様式で可。
D49: □ | E49: ○ （共通） | G49: ・ | H49: 業務継続計画に係る改善計画又は改善報告書 | J49: 任意の様式で可（代表者名）。ただし、未措置事項（BPC策定、訓練、研修）の現状及び改善に向けた取組みは必ず記載すること。
D50: □ | E50: ○ （共通） | G50: ・ | H50: 業務継続計画（BPC） | J50: BCP未策定に伴う減算を解消する場合。感染症及び災害の項目を設定したもの。
B51: 栄養ケア・マネジメントの実施の有無 | D51: □ | E51: ○ | G51: ・ | H51: 栄養マネジメント体制に関する届出書＜別紙38＞
C52: □ | D52: □ | E52: ○ | G52: ・ | H52: 従業者の勤務の体制及び勤務形態一覧表＜別紙７＞又はこれに準じた勤務割表等 | J52: 算定開始する月の分。
C53: □ | D53: □ | E53: ○ | G53: ・ | H53: 栄養士及び管理栄養士の資格証（写）
B54: 夜勤職員配置加算 | C54: □ | D54: □ | E54: ○ （共通） | G54: ・ | H54: 夜勤職員配置加算に係る確認書＜参考様式３＞
D55: □ | E55: ○ （共通） | G55: ・ | H55: 従業者の勤務の体制及び勤務形態一覧表＜別紙７＞又はこれに準じた勤務割表等 | J55: 算定開始する月の分。
G56: ≪テクノロジーを導入した夜間職員配置緩和措置を適用する場合≫
D57: □ | E57: ○ （共通） | G57: ・ | H57: テクノロジーを導入する場合の夜間の人員配置基準（ユニット型を除く）に係る届出書＜別紙＞
D58: □ | E58: ○ （共通） | G58: ・ | H58: 利用者の安全やケアの質の確保、職員の負担の軽減を図るための委員会の議事概要 | J58: 導入後から３月以上、継続して定期的に実施していることがわかるようにすること。
D59: □ | E59: ○ （共通） | G59: ・ | H59: 介護機器の使用方法の講習やヒヤリ・ハット事例等の周知、その事例を通じた再発防止策の実習等を含む職員研修の記録 | J59: 算定開始月時点で予定の場合は、予定している研修等の概要がわかるもの。
D60: □ | E60: ○ （共通） | G60: ・ | H60: 算定開始月を含む年間又は年度研修計画 若しくは介護機器の使用方法の講習等を定期的かつ臨機応変に実施するためのフロー（手順書）等 | J60: 上記の研修等に相当するもの（複数の研修や通常業務の手順等を組み合わせて内容を網羅する場合は、どの研修等で何を実施するのか）がわかるようにすること。
B61: 認知症短期集中リハビリテーション加算 | C61: □ | D61: □ | E61: ○ | G61: ・ | H61: 認知症短期集中リハビリテーション実施加算に関する届出書＜参考様式12＞
D62: □ | E62: ○ | G62: ・ | H62: 従業者の勤務の体制及び勤務形態一覧表＜別紙７＞又はこれに準じた勤務割表等 | J62: 算定開始する月の分。
C63: □ | D63: □ | E63: ○ | G63: ・ | H63: 該当する資格証（写）等 | J63: 理学療法士、作業療法士、言語聴覚士、認知症リハビリテーションの専門研修を修了した医師。
B64: 認知症ケア加算 | D64: □ | E64: ○ （共通） | G64: ・ | H64: 従業者の勤務の体制及び勤務形態一覧表＜別紙７＞又はこれに準じた勤務割表等 | J64: 認知症専門棟の配置職員のみ。算定開始する月の分。
D65: □ | E65: ○ （共通） | G65: ・ | H65: 認知症専門棟となる施設（フロア）の平面図
B66: 若年性認知症入所者受入加算 | C66: □ | D66: □ | E66: ○ （共通） | G66: ・ | H66: 若年性認知症入所者受入加算に関する届出書＜参考様式５＞
B67: 在宅復帰・在宅療養支援機能加算 ＊開設時からの算定は不可 | D67: □ | E67: ○ （共通） | G67: ・ | H67: 介護老人保健施設（基本型・在宅強化型）の基本施設サービス費及び在宅復帰・在宅療養支援機能加算に係る届出＜別紙29又は別紙29-2＞ | J67: 施設等の区分が、「1介護老人保健施設（Ⅰ）」又は「2ユニット型介護老人保健施設（Ⅰ）」に該当する場合。
B68: ターミナルケア体制 | C68: □ | D68: □ | E68: ○ | G68: ・ | H68: ターミナルケアに係る計画書様式 | J68: 施設サービス計画の標準様式例以外の様式を使用する場合。
B69: 栄養マネジメント強化体制 | C69: □ | D69: □ | E69: ○ | G69: ・ | H69: 栄養マネジメント体制に関する届出書＜別紙38＞ | J69: ※LIFEへの登録が必須
D70: □ | E70: ○ | G70: ・ | H70: 従業者の勤務の体制及び勤務形態一覧表＜別紙７＞又はこれに準じた勤務割表等 | J70: 算定開始する月の分。
C71: □ | D71: □ | E71: ○ | G71: ・ | H71: 栄養士及び管理栄養士の資格証（写）
B72: 療養食加算 | C72: □ | D72: □ | E72: ○ （共通） | G72: ・ | H72: 療養食加算に関する届出書＜参考様式５＞
B73: 認知症専門ケア加算 | C73: □ | D73: □ | E73: ○ （共通） | G73: ・ | H73: 認知症専門ケア加算に係る届出書＜別紙12-２＞
C74: □ | D74: □ | E74: ○ （共通） | G74: ・ | H74: 認知症介護実践リーダー研修の修了証書（写）
C75: □ | D75: □ | E75: ○ （共通） | G75: ・ | H75: 認知症介護指導者養成研修の修了証書（写） | J75: 加算（Ⅱ）を算定する場合。
C76: □ | D76: □ | E76: ○ （共通） | G76: ・ | H76: 認知症看護に係る適切な研修の修了証等（写）
C77: □ | D77: □ | E77: ○ （共通） | G77: ・ | H77: 認知症ケアに関する留意事項の伝達又は技術的指導に係る会議の開催状況がわかるもの | J77: 予定の場合は、開催スケジュール（年間計画、実施フロー等開催時期と頻度がわかるもの）及び開催内容の概要を記載すること。
C78: □ | D78: □ | E78: ○ （共通） | G78: ・ | H78: 算定開始月を含む年間又は年度の研修計画（認知症ケアに関する研修計画） | J78: 加算Ⅱを算定する場合。
B79: 認知症チームケア推進加算 | C79: □ | D79: □ | E79: ○ | G79: ・ | H79: 認知症チームケア推進加算に係る届出書＜別紙40＞
C80: □ | D80: □ | E80: ○ | G80: ・ | H80: 前３月の各月末時点での利用者総数に占める、要件に該当する利用者の割合（平均）を記録（計算）したもの | J80: 各月末時点ごとの利用者数及び自立度Ⅱ・Ⅲ・Ⅳ又はMに該当する利用者総数がわかるもの。
C81: □ | D81: □ | E81: ○ | G81: ・ | H81: 認知症介護指導者養成研修の修了証（写） | J81: 加算Ⅰを算定する場合
C82: □ | D82: □ | E82: ○ | G82: ・ | H82: 認知症介護実践リーダー研修の修了証（写） | J82: 加算Ⅱを算定する場合
C83: □ | D83: □ | E83: ○ | G83: ・ | H83: 認知症チームケア推進研修の修了証（写）
B84: リハビリ計画書情報加算 | C84: □ | D84: □ | E84: ○ | J84: ※LIFEへの登録が必須
B85: 褥瘡マネジメント加算 | C85: □ | D85: □ | E85: ○ | G85: ・ | H85: 褥瘡マネジメントに関する届出書＜別紙41＞ | J85: ※LIFEへの登録が必須
B86: 排せつ支援加算 | C86: □ | D86: □ | E86: ○ | G86: ・ | H86: 排せつ支援加算に関する届出書＜参考様式９＞ | J86: ※LIFEへの登録が必須
B87: 自立支援促進加算 | C87: □ | D87: □ | E87: ○ | G87: ・ | H87: 自立支援加算に関する届出書＜参考様式10＞ | J87: ※LIFEへの登録が必須
B88: 科学的介護推進体制加算 | C88: □ | D88: □ | E88: ○ | J88: ※LIFEへの登録が必須
B89: 安全対策体制 | C89: □ | D89: □ | E89: ○ | G89: ・ | H89: 安全管理対策体制に関する確認書＜参考様式11＞
B90: 高齢者施設等感染症対策向上加算 | C90: □ | D90: □ | E90: ○ | G90: ・ | H90: 高齢者施設等感染者対策向上加算に係る届出書＜別紙35＞
C91: □ | D91: □ | E91: ○ | G91: ・ | H91: 院内感染対策に関する研修又は訓練の参加記録 | J91: 加算Ⅰを算定する場合。
C92: □ | D92: □ | E92: ○ | G92: ・ | H92: 実地指導を受けた日時及び指導概要 | J92: 加算Ⅱを算定する場合。
E93: ○ | G93: ※ | H93: 協力医療機関について年１回届け出るとともに、内容変更の場合は速やかに、その変更内容について変更届を提出すること。 | J93: 協力医療機関が（変更）未届の場合は、算定不可。
B94: 生産性向上推進体制加算 | D94: □ | E94: ○ | G94: ・ | H94: 生産性向上推進体制加算に係る届出書＜別紙28＞
D95: □ | E95: ○ | G95: ・ | H95: 利用者の安全やケアの質の確保、職員の負担の軽減を図るための委員会の議事概要 | J95: 導入後から３月以上、継続して定期的に実施していることがわかるようにすること。
D96: □ | E96: ○ | G96: ・ | H96: 各種指標に関する調査結果 | J96: 導入前後を比較して各指標の改善状況等の調査結果がわかるようにすること。
D97: □ | E97: ○ | G97: ・ | H97: 指針、業務フロー、手順書等算定要件に該当する取組の全体像（概要・体制）がわかる資料 | J97: 算定要件である事務処理手順（各調査や研修等）がいつどのくらいの頻度でどのような形で実施（予定）されているのかがわかるもの。
B98: サービス提供体制強化加算 | D98: □ | E98: ○ （共通） | G98: ・ | H98: サービス提供体制強化加算に関する届出書＜別紙14-4＞
D99: □ | E99: ○ （共通） | G99: ・ | H99: 従業者の勤務の体制及び勤務形態一覧表＜別紙７＞又はこれに準じた勤務割表等 | J99: 前年度４月～２月の分。なお，前年度実績が６月に満たない場合は届出前３か月分
D100: □ | E100: ○ （共通） | G100: ・ | H100: 有資格者等の割合の参考計算書＜別紙７-2＞又はこれに準じた計算資料 | J100: 算定する加算の要件に応じた有資格者等の常勤換算を計算し平均したもの
B101: 送迎体制 | C101: □ | D101: □ | F101: ○ | G101: ・ | H101: 送迎車両の写真 | J101: ナンバーが確認できるように撮影のこと。
C102: □ | D102: □ | F102: ○ | G102: ・ | H102: 送迎車両の車検証（写）
C103: □ | D103: □ | F103: ○ | G103: ・ | H103: 送迎車両の任意保険証書（写）
C104: □ | D104: □ | F104: ○ | G104: ・ | H104: 送迎記録簿 | J104: 任意の様式で可。
B105: 口腔連携強化加算 | C105: □ | D105: □ | F105: ○ | G105: ・ | H105: 口腔連携強化加算に関する届出書＜別紙11＞
...

Sheet 【R6.5月まで】加算様式２（GH）
A1: 介護給付費算定に係る体制等に関する届出書・変更届出書 チェック表 （認知症対応型共同生活介護・介護予防認知症対応型共同生活介護）
A2: ○ R6.4.1～R6.5.31 版
G3: 担当者名
G4: 連絡先（TEL）
A6: ※ 加算が算定されなくなる場合、欠員が解消される場合等についても同様に届け出てください。
A7: ※ 厚労省様式（「別紙○」の名称のもの）については、記載の注意事項を確認し正しい方法で使用してください。
A8: ※ 参考様式は、算定要件を満たす内容を証するものであれば任意様式で提出しても差し支えありませんが、
B9: 届け出後も同じ様式を継続して使用し、算定要件を毎月確認及び記録してください。
A10: ※ 「従業者の勤務の体制及び勤務形態一覧表（別紙７）又はこれに準じた勤務割表等」については、
B11: 指定申請等に使用した（標準様式１）で作成したものも対象です。
A12: 届出事項 | C12: 開設 | D12: 加算 追加 ・ 加算 削除 | E12: 添 付 書 類 | H12: 備 考
A13: 共 通 事 項 （必ず必要な書類） | C13: □ | D13: □ | E13: ・ | F13: 介護給付費算定に係る体制等に関する届出書・変更届出書＜加算様式１＞
C14: □ | D14: □ | E14: ・ | F14: 本チェック表＜加算様式２＞ | H14: 自主点検したもの（チェック済）を提出すること。
C15: □ | D15: □ | E15: ・ | F15: 介護給付費算定に係る体制等状況一覧表＜別紙1-3＞ | H15: 別シートの「備考（1-3）」も必ず確認すること。
D16: □ | E16: ・ | F16: 運営規程 | H16: 介護給付費算定に係る体制等に関する変更に伴い，改正したもの。介護の内容・利用料金の変更等について記載が必要。
F17: ※ | G17: 変更後の運営規程又は新旧対照表
B20: LIFEへの登録 | C20: □ | D20: □ | H20: 別紙1(届)の変更内容欄にLIFE登録日を記入すること。
B21: 割引をする場合 | C21: □ | D21: □ | E21: ・ | F21: 指定居宅サービス事業者等による介護給付費の割引に係る割引率の設定について＜別紙５-２＞
B22: 施設等の区分
B23: 職員の欠員による減算の状況 | D23: □ | E23: ・ | F23: 理由書 | H23: 任意の様式で可。
D24: □ | E24: ・ | F24: 従業者の勤務の体制及び勤務形態一覧表＜別紙７＞又はこれに準じた勤務割表等 | H24: 介護従業者の勤務状況がわかるもの。
D25: □ | E25: ・ | F25: 組織体制図 | H25: 任意の様式で可。
B26: 夜間勤務条件基準 | D26: □ | E26: ・ | F26: 理由書 | H26: 任意の様式で可。
D27: □ | E27: ・ | F27: 従業者の勤務の体制及び勤務形態一覧表＜別紙７＞又はこれに準じた勤務割表等
B28: 身体拘束廃止取組 の有無 | D28: □ | E28: ・ | F28: 理由書 | H28: 任意の様式で可。
D29: □ | E29: ・ | F29: 身体拘束改善計画又は身体拘束改善報告 | H29: 任意の様式で可（代表者名）。ただし、経緯、今後の改善策・職員教育、対象入所者の現状及び廃止に向けた取組みは必ず記載すること。
B30: 高齢者虐待防止措置実施の有無 | D30: □ | E30: ・ | F30: 理由書 | H30: 任意の様式で可。
D31: □ | E31: ・ | F31: 高齢者虐待防止措置に係る改善計画又は改善報告書 | H31: 任意の様式で可（代表者名）。ただし、未措置事項（指針、委員会、研修、担当者の設置）の現状及び改善に向けた取組みは必ず記載すること。
B32: 業務継続計画策定の有無 | D32: □ | E32: ・ | F32: 理由書 | H32: 任意の様式で可。
D33: □ | E33: ・ | F33: 業務継続計画に係る改善計画又は改善報告書 | H33: 任意の様式で可（代表者名）。ただし、未措置事項（BPC策定、訓練、研修）の現状及び改善に向けた取組みは必ず記載すること。
D34: □ | E34: ・ | F34: 業務継続計画（BPC） | H34: BCP未策定に伴う減算を解消する場合。感染症及び災害の項目を設定したもの。
B35: ３ユニットの事業所が夜勤職員を２人以上とする場合 | D35: □ | E35: ・ | F35: 従業者の勤務の体制及び勤務形態一覧表＜別紙７＞又はこれに準じた勤務割表等 | H35: 介護従業者の勤務状況がわかるもの。
D36: □ | E36: ・ | F36: 事業所の平面図＜別紙６＞ | H36: 最新の状況であれば、指定時に提出した平面図と同等のもの（任意様式）での提出可。
B37: 夜間支援体制加算 | D37: □ | E37: ・ | F37: 夜間支援体制加算に係る届出書＜別紙46＞
D38: □ | E38: ・ | F38: 従業者の勤務の体制及び勤務形態一覧表＜別紙７＞又はこれに準じた勤務割表等 | H38: 夜間及び深夜の時間帯を明記すること。算定開始する月の分。
D39: □ | E39: ・ | F39: ≪見守り機器等を導入した緩和措置を適用する場合≫ 利用者の安全やケアの質の確保、職員の負担の軽減を図るための委員会の議事概要 | H39: 導入後から９週間以上、継続して定期的に実施していることがわかるようにすること。
B40: 若年性認知症利用者受入加算 | C40: □ | D40: □ | E40: ・ | F40: 若年性認知症利用者受入加算に関する届出書＜参考様式５＞
B41: 利用者の入院期間中の体制（入院時費用） | C41: □ | D41: □ | E41: ・ | F41: 入院時費用に関する調書＜参考様式15＞
B42: 看取り介護加算 ＊介護サービス（短期利用型を除く）のみ | C42: □ | D42: □ | E42: ・ | F42: 看取り介護加算に関する届出書＜別紙47＞
C43: □ | D43: □ | E43: ・ | F43: 看取りに関する指針 | H43: 必要な要件を満たしている場合は，重度化した場合の対応に係る指針をもって代えることも可。
B44: 医療連携体制 ＊介護サービスのみ | C44: □ | D44: □ | E44: ・ | F44: 医療連携体制加算（Ⅰ）に係る届出書＜別紙48＞
C45: □ | D45: □ | E45: ・ | F45: 医療連携体制加算（Ⅱ）に係る届出書＜別紙48-2＞ | H45: 加算Ⅱを算定する場合のみ。
D46: □ | E46: ・ | F46: 従業者の勤務の体制及び勤務形態一覧表＜別紙７＞又はこれに準じた勤務割表等 | H46: 算定開始する月の分。
C47: □ | D47: □ | E47: ・ | F47: ≪病院、訪問看護ｽﾃｰｼｮﾝ等との連携による場合≫ ２４時間連絡体制に係る契約書・協定書（写）
C48: □ | D48: □ | E48: ・ | F48: 事業所に配置される看護職員，または２４時間連絡体制に係る看護師の免許証（写）
C49: □ | D49: □ | E49: ・ | F49: 重度化した場合の対応に係る指針（案）
D50: □ | E50: ・ | F50: 喀痰吸引等の「要件となる利用者の状態」ごとに、前３月の利用者数を記録（計算）したもの | H50: 加算Ⅱを算定する場合のみ。 該当者がいない「利用者の状態」については利用者数の記録不要。
B51: 認知症専門ケア加算 | C51: □ | D51: □ | E51: ・ | F51: 認知症専門ケア加算に係る届出書＜別紙12-２＞
C52: □ | D52: □ | E52: ・ | F52: 認知症介護実践リーダー研修の修了証（写）
C53: □ | D53: □ | E53: ・ | F53: 認知症介護指導者養成研修の修了証（写） | H53: 加算Ⅱを算定する場合。
C54: □ | D54: □ | E54: ・ | F54: 認知症看護に係る適切な研修の修了証等（写）
C55: □ | D55: □ | E55: ・ | F55: 認知症ケアに関する留意事項の伝達又は技術的指導に係る会議の開催状況がわかるもの | H55: 予定の場合は、開催スケジュール（年間計画、実施フロー等開催時期と頻度がわかるもの）及び開催内容の概要を記載すること。
C56: □ | D56: □ | E56: ・ | F56: 算定開始月を含む年間又は年度の研修計画（認知症ケアに関する研修計画） | H56: 加算Ⅱを算定する場合。
B57: 認知症チームケア推進加算 | D57: □ | E57: ・ | F57: 認知症チームケア推進加算に係る届出書＜別紙40＞
D58: □ | E58: ・ | F58: 前３月の各月末時点での利用者総数に占める、要件に該当する利用者の割合（平均）を記録（計算）したもの | H58: 各月末時点ごとの利用者数及び自立度Ⅱ・Ⅲ・Ⅳ又はMに該当する利用者総数がわかるもの。
D59: □ | E59: ・ | F59: 認知症介護指導者養成研修の修了証（写） | H59: 加算Ⅰを算定する場合
D60: □ | E60: ・ | F60: 認知症介護実践リーダー研修の修了証（写） | H60: 加算Ⅱを算定する場合
D61: □ | E61: ・ | F61: 認知症チームケア推進研修の修了証（写）
B62: 科学的介護推進体制加算 | C62: □ | D62: □ | H62: ※LIFEへの登録が必須
B63: 高齢者施設等感染症対策向上加算 | C63: □ | D63: □ | E63: ・ | F63: 高齢者施設等感染者対策向上加算に係る届出書＜別紙35＞
C64: □ | D64: □ | E64: ・ | F64: 院内感染対策に関する研修又は訓練の参加記録 | H64: 加算（Ⅰ）を算定する場合。
C65: □ | D65: □ | E65: ・ | F65: 実地指導を受けた日時及び指導概要 | H65: 加算（Ⅱ）を算定する場合。
E66: ※ | F66: 協力医療機関について年１回届け出るとともに、内容変更の場合は速やかに、その変更内容について変更届を提出すること。 | H66: 協力医療機関が（変更）未届の場合は、算定不可。
B67: 生産性向上推進体制加算 | D67: □ | E67: ・ | F67: 生産性向上推進体制加算に係る届出書＜別紙28＞
D68: □ | E68: ・ | F68: 利用者の安全やケアの質の確保、職員の負担の軽減を図るための委員会の議事概要 | H68: 導入後から３月以上、継続して定期的に実施していることがわかるようにすること。
D69: □ | E69: ・ | F69: 各種指標に関する調査結果 | H69: 導入前後を比較して各指標の改善状況等の調査結果がわかるようにすること。
D70: □ | E70: ・ | F70: 指針、業務フロー、手順書等算定要件に該当する取組の全体像（概要・体制）がわかる資料 | H70: 算定要件である事務処理手順（各調査や研修等）がいつどのくらいの頻度でどのような形で実施（予定）されているのかがわかるもの。
B71: サービス提供体制強化加算 | D71: □ | E71: ・ | F71: サービス提供体制強化加算に関する届出書＜別紙14－６＞ | H71: 様式中「（看護・）介護職員」は「介護従業者」と読み替えること。
D72: □ | E72: ・ | F72: 従業者の勤務の体制及び勤務形態一覧表＜別紙７＞又はこれに準じた勤務割表等 | H72: 前年度４月～２月の分。なお，前年度実績が６月に満たない場合は届出前３か月分
D73: □ | E73: ・ | F73: 有資格者等の割合の参考計算書＜別紙７-2＞又はこれに準じた計算資料 | H73: 算定する加算の要件に応じた有資格者等の常勤換算を計算し平均したもの
B74: 介護職員処遇改善加算 | C74: □ | D74: □ | E74: ・ | F74: 介護処遇改善加算等の専用受付に専用の届出一式を提出すること | H74: 別紙1(届)の変更内容欄に、左記の提出日を記入すること
B75: 介護職員等特定処遇改善加算 | C75: □ | D75: □ | E75: ・ | F75: 介護処遇改善加算等の専用受付に専用の届出一式を提出すること | H75: 別紙1(届)の変更内容欄に、左記の提出日を記入すること
B76: 介護職員等ベースアップ等支援加算 | C76: □ | D76: □ | E76: ・ | F76: 介護処遇改善加算等の専用受付に専用の届出一式を提出すること | H76: 別紙1(届)の変更内容欄に、左記の提出日を記入すること
B77: 短期利用型 ＊介護事業の指定を受けた日から起算して３年以上経過している場合のみ | C77: □ | D77: □ | E77: ・ | F77: 短期利用型に関する調書＜参考様式15＞
D78: □ | E78: ・ | F78: 従業者の勤務の体制及び勤務形態一覧表＜別紙７＞又はこれに準じた勤務割表等 | H78: 算定開始する月の分。
C79: □ | D79: □ | E79: ・ | F79: 該当する研修の修了証書（写） | H79: ・認知症介護実務者研修専門課程 ・認知症介護実践研修（実践リーダー研修） ・認知症介護指導者養成研修

Sheet 【R6.5月まで】加算様式２（地密特定）
A1: 介護給付費算定に係る体制等に関する届出書・変更届出書 チェック表 （地域密着型特定施設入居者生活介護）
A2: ○ R6.4.1～R6.5.31 版
G3: 担当者名
G4: 連絡先（TEL）
A6: ※ 加算が算定されなくなる場合、欠員が解消される場合等についても同様に届け出てください。
A7: ※ 厚労省様式（「別紙○」の名称のもの）については、記載の注意事項を確認し正しい方法で使用してください。
A8: ※ 参考様式は、算定要件を満たす内容を証するものであれば任意様式で提出しても差し支えありませんが、
B9: 届け出後も同じ様式を継続して使用し、算定要件を毎月確認及び記録してください。
A10: ※ 「従業者の勤務の体制及び勤務形態一覧表（別紙７）又はこれに準じた勤務割表等」については、
B11: 指定申請等に使用した（標準様式１）で作成したものも対象です。
A12: 届出事項 | C12: 開設 | D12: 加算 追加 ・ 加算 削除 | E12: 添 付 書 類 | H12: 備 考
A13: 共 通 事 項 （必ず必要な書類） | C13: □ | D13: □ | E13: ・ | F13: 介護給付費算定に係る体制等に関する届出書・変更届出書＜加算様式１＞
C14: □ | D14: □ | E14: ・ | F14: 本チェック表＜加算様式２＞ | H14: 自主点検したもの（チェック済）を提出すること。
C15: □ | D15: □ | E15: ・ | F15: 介護給付費算定に係る体制等状況一覧表＜別紙1-3＞ | H15: 別シートの「備考（1-3）」も必ず確認すること。
D16: □ | E16: ・ | F16: 運営規程 | H16: 介護給付費算定に係る体制等に関する変更に伴い、改正したもの。介護の内容・利用料金の変更等について記載が必要。
F17: ※ | G17: 変更後の運営規程又は新旧対照表
B20: LIFEへの登録 | C20: □ | D20: □ | H20: 別紙1(届)の変更内容欄にLIFE登録日を記入すること。
B21: 割引をする場合 | C21: □ | D21: □ | E21: ・ | F21: 指定居宅サービス事業者等による介護給付費の割引に係る割引率の設定について＜別紙５＞
B22: 施設等の区分
B23: 職員の欠員による減算の状況 | D23: □ | E23: ・ | F23: 理由書 | H23: 任意の様式で可。
D24: □ | E24: ・ | F24: 従業者の勤務の体制及び勤務形態一覧表＜別紙７＞又はこれに準じた勤務割表等 | H24: 看護職員、介護職員の配置状況がわかるもの。
D25: □ | E25: ・ | F25: 組織体制図 | H25: 任意の様式で可。
D26: □ | E26: ・ | F26: 該当する資格証（写） | H26: 看護職員の欠員が解消される場合。
B27: 身体拘束廃止取組の有無 | D27: □ | E27: ・ | F27: 理由書 | H27: 任意の様式で可。
D28: □ | E28: ・ | F28: 身体拘束改善計画又は身体拘束改善報告 | H28: 任意の様式で可（代表者名）。ただし、経緯、今後の改善策・職員教育、対象入居者の現状及び廃止に向けた取組みは必ず記載すること。
B29: 高齢者虐待防止措置実施の有無 | D29: □ | E29: ・ | F29: 理由書 | H29: 任意の様式で可。
D30: □ | E30: ・ | F30: 高齢者虐待防止措置に係る改善計画又は改善報告書 | H30: 任意の様式で可（代表者名）。ただし、未措置事項（指針、委員会、研修、担当者の設置）の現状及び改善に向けた取組みは必ず記載すること。
B31: 業務継続計画策定の有無 | D31: □ | E31: ・ | F31: 理由書 | H31: 任意の様式で可。
D32: □ | E32: ・ | F32: 業務継続計画に係る改善計画又は改善報告書 | H32: 任意の様式で可（代表者名）。ただし、未措置事項（BPC策定、訓練、研修）の現状及び改善に向けた取組みは必ず記載すること。
D33: □ | E33: ・ | F33: 業務継続計画（BPC） | H33: BCP未策定に伴う減算を解消する場合。感染症及び災害の項目を設定したもの。
B34: 入居継続支援加算 ＊介護サービスのみ | D34: □ | E34: ・ | F34: 入居継続支援加算に関する届出書＜別紙32＞
D35: □ | E35: ・ | F35: 入居継続支援加算に関する確認書＜参考様式32＞
D36: □ | E36: ・ | F36: 従業者の勤務の体制及び勤務形態一覧表＜別紙７＞又はこれに準じた勤務割表等
D37: □ | E37: ・ | F37: 有資格者等の割合の参考計算書＜別紙７-2＞又はこれに準じた計算資料 | H37: 届出月前３月間における介護福祉士の常勤換算数及び平均を求めたもの
D38: □ | E38: ・ | F38: ≪別紙32の要件③・④が「有」の場合≫ 該当する資格証（写） | H38: 看護に係る責任者である常勤看護師の分のみ
B39: テクノロジーの導入 （入居継続支援加算関係） | D39: □ | E39: ・ | F39: テクノロジーの導入による入居継続支援加算に関する届出書＜別紙32-２＞
D40: □ | E40: ・ | F40: 利用者の安全やケアの質の確保、職員の負担の軽減を図るための委員会の議事概要 | H40: 導入後から３月以上、継続して定期的に実施していることがわかるようにすること。
D41: □ | E41: ・ | F41: 介護機器の使用方法の講習やヒヤリ・ハット事例等の周知、その事例を通じた再発防止策の実習等を含む職員研修の記録 | H41: 算定開始月時点で予定の場合は、予定している研修等の概要がわかるもの。
D42: □ | E42: ・ | F42: 算定開始月を含む年間又は年度研修計画 若しくは介護機器の使用方法の講習等を定期的かつ臨機応変に実施するためのフロー（手順書）等 | H42: 上記の研修等に相当するもの（複数の研修や通常業務の手順等を組み合わせて内容を網羅する場合は、どの研修等で何を実施するのか）がわかるようにすること。
B43: 生活機能向上連携加算 | C43: □ | D43: □ | E43: ・ | F43: 生活機能向上連携加算に関する確認書＜参考様式４＞
C44: □ | D44: □ | E44: ・ | F44: 訪問リハビリテーション若しくは通所リハビリテーションを実施している事業所又はリハビリテーションを実施している医療提供施設との協定書等
C45: □ | D45: □ | E45: ・ | F45: 共同等する上記事業所又は医療施設の理学療法士、作業療法士、言語聴覚士又は医師の資格証（写）
B46: 個別機能訓練加算 | D46: □ | E46: ・ | F46: 従業者の勤務の体制及び勤務形態一覧表＜別紙７＞又はこれに準じた勤務割表等 | H46: 算定開始する月の分。
C47: □ | D47: □ | E47: ・ | F47: 該当する資格証（写） | H47: 理学療法士、作業療法士、言語聴覚士、看護職員、柔道整復師、あん摩マッサージ指圧師、はり師、きゅう師。
D48: □ | E48: ・ | F48: ≪はり師又はきゅう師を機能訓練指導員として配置する場合≫ 理学療法士、作業療法士、言語聴覚士、看護職員、柔道整復師又はあん摩マッサージ指圧師の資格を有する機能訓練指導員を配置した事業所で６月以上機能訓練指導に従事した経験を有する者であることが分かる証明書 | H48: 任意の様式で可。
B49: ＡＤＬ維持等加算（申出の有無） | C49: □ | D49: □ | H49: ※LIFEへの登録が必須
B50: 夜間看護体制 ＊介護サービスのみ | C50: □ | D50: □ | E50: ・ | F50: 夜間看護体制に係る届出書＜別紙33＞
D51: □ | E51: ・ | F51: 従業者の勤務の体制及び勤務形態一覧表＜別紙７＞又はこれに準じた勤務割表等 | H51: 算定開始する月の分。
C52: □ | D52: □ | E52: ・ | F52: 該当する資格証（写） | H52: 看護師又は准看護師
C53: □ | D53: □ | E53: ・ | F53: 夜間における連絡・対応体制（オンコール体制）に関する取り決め（指針やマニュアル等で、看護職員不在時の介護職員による入所者の観察項目を含む。案でも可）
C54: □ | D54: □ | E54: ・ | F54: 重度化した場合の対応に係る指針（案でも可）
C55: □ | D55: □ | E55: ・ | F55: ＜病院、訪問看護ｽﾃｰｼｮﾝ等との連携による場合＞ 24時間連絡体制に係る契約書・協定書（写）
B56: 若年性認知症入居者受入加算 | C56: □ | D56: □ | E56: ・ | F56: 若年性認知症入居者受入加算に関する届出書＜参考様式５＞
B57: 科学的介護推進体制加算 | C57: □ | D57: □ | H57: ※LIFEへの登録が必須
B58: 看取り介護加算 ＊介護サービス（短期利用型を除く）のみ | C58: □ | D58: □ | E58: ・ | F58: 看取り介護加算に係る届出書＜別紙34-2＞
C59: □ | D59: □ | E59: ・ | F59: 看取りに関する指針（案でも可）
B60: 短期利用型 ＊事業者が介護保険事業の等運営について３年以上の経験有する場合のみ | C60: □ | D60: □ | E60: ・ | F60: 短期利用型に関する調書＜参考様式14＞
D61: □ | E61: ・ | F61: 従業者の勤務の体制及び勤務形態一覧表＜別紙７＞又はこれに準じた勤務割表等 | H61: 算定開始する月の分。
C62: □ | D62: □ | E62: ・ | F62: 短期利用者に対する利用料を説明する文書（重要事項説明書、その他の利用料がわかる文書）
B63: 認知症専門ケア加算 | C63: □ | D63: □ | E63: ・ | F63: 認知症専門ケア加算に係る届出書＜別紙12-２＞
C64: □ | D64: □ | E64: ・ | F64: 認知症介護実践リーダー研修の修了証書（写）
C65: □ | D65: □ | E65: ・ | F65: 認知症介護指導者養成研修の修了証書（写） | H65: 加算（Ⅱ）を算定する場合。
C66: □ | D66: □ | E66: ・ | F66: 認知症看護に係る適切な研修の修了証等（写）
C67: □ | D67: □ | E67: ・ | F67: 認知症ケアに関する留意事項の伝達又は技術的指導に係る会議の開催状況がわかるもの | H67: 予定の場合は、開催スケジュール（年間計画、実施フロー等開催時期と頻度がわかるもの）及び開催内容の概要を記載すること。
C68: □ | D68: □ | E68: ・ | F68: 算定開始月を含む年間又は年度の研修計画（認知症ケアに関する研修計画） | H68: 加算（Ⅱ）を算定する場合。
B69: 高齢者施設等感染症対策向上加算 | C69: □ | D69: □ | E69: ・ | F69: 高齢者施設等感染者対策向上加算に係る届出書＜別紙35＞
C70: □ | D70: □ | E70: ・ | F70: 院内感染対策に関する研修又は訓練の参加記録 | H70: 加算（Ⅰ）を算定する場合。
C71: □ | D71: □ | E71: ・ | F71: 実地指導を受けた日時及び指導概要 | H71: 加算（Ⅱ）を算定する場合。
E72: ※ | F72: 協力医療機関について年１回届け出るとともに、内容変更の場合は速やかに、その変更内容について変更届を提出すること。 | H72: 協力医療機関が（変更）未届の場合は、算定不可。
B73: 生産性向上推進体制加算 | D73: □ | E73: ・ | F73: 生産性向上推進体制加算に係る届出書＜別紙28＞
D74: □ | E74: ・ | F74: 利用者の安全やケアの質の確保、職員の負担の軽減を図るための委員会の議事概要 | H74: 導入後から３月以上、継続して定期的に実施していることがわかるようにすること。
D75: □ | E75: ・ | F75: 各種指標に関する調査結果 | H75: 導入前後を比較して各指標の改善状況等の調査結果がわかるようにすること。
D76: □ | E76: ・ | F76: 指針、業務フロー、手順書等算定要件に該当する取組の全体像（概要・体制）がわかる資料 | H76: 算定要件である事務処理手順（各調査や研修等）がいつどのくらいの頻度でどのような形で実施（予定）されているのかがわかるもの。
B77: サービス提供体制強化加算 | D77: □ | E77: ・ | F77: サービス提供体制強化加算に関する届出書＜別紙14－６＞
D78: □ | E78: ・ | F78: 従業者の勤務の体制及び勤務形態一覧表＜別紙７＞又はこれに準じた勤務割表等 | H78: 前年度４月～２月の分。なお、前年度実績が６月に満たない場合は届出前３か月分。
D79: □ | E79: ・ | F79: 有資格者等の割合の参考計算書＜別紙７-2＞又はこれに準じた計算資料 | H79: 算定する加算の要件に応じた有資格者等の常勤換算を計算し平均したもの
B80: 介護職員処遇改善加算 | C80: □ | D80: □ | E80: ・ | F80: 介護処遇改善加算等の専用受付に専用の届出一式を提出すること | H80: 別紙1(届)の変更内容欄に、左記の提出日を記入すること
B81: 介護職員等特定処遇改善加算 | C81: □ | D81: □ | E81: ・ | F81: 介護処遇改善加算等の専用受付に専用の届出一式を提出すること | H81: 別紙1(届)の変更内容欄に、左記の提出日を記入すること
B82: 介護職員等ベースアップ等支援加算 | C82: □ | D82: □ | E82: ・ | F82: 介護処遇改善加算等の専用受付に専用の届出一式を提出すること | H82: 別紙1(届)の変更内容欄に、左記の提出日を記入すること

Sheet 【R6.5月まで】加算様式２（特定）
A1: 介護給付費算定に係る体制等に関する届出書・変更届出書 チェック表 （特定施設入居者生活介護・介護予防特定施設入居者生活介護）
A2: ○ R6.4.1～R6.5.31 版
G3: 担当者名
G4: 連絡先（TEL）
A6: ※ 加算が算定されなくなる場合、欠員が解消される場合等についても同様に届け出てください。
A7: ※ 厚労省様式（「別紙○」の名称のもの）については、記載の注意事項を確認し正しい方法で使用してください。
A8: ※ 参考様式は、算定要件を満たす内容を証するものであれば任意様式で提出しても差し支えありませんが、
B9: 届け出後も同じ様式を継続して使用し、算定要件を毎月確認及び記録してください。
A10: ※ 「従業者の勤務の体制及び勤務形態一覧表（別紙７）又はこれに準じた勤務割表等」については、
B11: 指定申請等に使用した（標準様式１）で作成したものも対象です。
A12: 届出事項 | C12: 開設 | D12: 加算 追加 ・ 加算 削除 | E12: 添 付 書 類 | H12: 備 考
A13: 共 通 事 項 （必ず必要な書類） | C13: □ | D13: □ | E13: ・ | F13: 介護給付費算定に係る体制等に関する届出書・変更届出書＜加算様式１＞
C14: □ | D14: □ | E14: ・ | F14: 本チェック表＜加算様式２＞ | H14: 自主点検したもの（チェック済）を提出すること。
C15: □ | D15: □ | E15: ・ | F15: 介護給付費算定に係る体制等状況一覧表＜別紙1-1、1-2＞ | H15: 別シートの「備考（1-1）（1-2）」も必ず確認すること。
D16: □ | E16: ・ | F16: 運営規程 | H16: 介護給付費算定に係る体制等に関する変更に伴い、改正したもの。介護の内容・利用料金の変更等について記載が必要。
F17: ※ | G17: 変更後の運営規程又は新旧対照表
B20: LIFEへの登録 | C20: □ | D20: □ | H20: 別紙1(届)の変更内容欄にLIFE登録日を記入すること。
B21: 割引をする場合 | C21: □ | D21: □ | E21: ・ | F21: 指定居宅サービス事業者等による介護給付費の割引に係る割引率の設定について＜別紙５＞
B22: 施設等の区分
B23: 人員配置区分 | E23: 〔外部サービス利用型〕
D24: □ | E24: ・ | F24: 従業者の勤務の体制及び勤務形態一覧表＜別紙７＞又はこれに準じた勤務割表等
C25: □ | D25: □ | E25: ・ | F25: 居宅サービスの委託契約書（写）
E26: 〔一般型から外部サービス利用型への変更〕
D27: □ | E27: ・ | F27: 従業者の勤務の体制及び勤務形態一覧表＜別紙７＞又はこれに準じた勤務割表等
D28: □ | E28: ・ | F28: 居宅サービスの委託契約書（写）
E29: 〔外部サービス利用型から一般型への変更〕
D30: □ | E30: ・ | F30: 従業者の勤務の体制及び勤務形態一覧表＜別紙７＞又はこれに準じた勤務割表等
D31: □ | E31: ・ | F31: 従業者の資格証（写） | H31: 資格を要する職種のみ。
B32: 職員の欠員による減算の状況 | D32: □ | E32: ・ | F32: 理由書 | H32: 任意の様式で可。
D33: □ | E33: ・ | F33: 従業者の勤務の体制及び勤務形態一覧表＜別紙７＞又はこれに準じた勤務割表等 | H33: 看護職員、介護職員の配置状況がわかるもの。
D34: □ | E34: ・ | F34: 組織体制図 | H34: 任意の様式で可。
D35: □ | E35: ・ | F35: 該当する資格証（写） | H35: 看護職員の欠員が解消される場合。
B36: 身体拘束廃止取組の有無 | D36: □ | E36: ・ | F36: 理由書 | H36: 任意の様式で可。
D37: □ | E37: ・ | F37: 身体拘束改善計画又は身体拘束改善報告 | H37: 任意の様式で可（代表者名）。ただし、経緯、今後の改善策・職員教育、対象入居者の現状及び廃止に向けた取組みは必ず記載すること。
B38: 高齢者虐待防止措置実施の有無 | D38: □ | E38: ・ | F38: 理由書 | H38: 任意の様式で可。
D39: □ | E39: ・ | F39: 高齢者虐待防止措置に係る改善計画又は改善報告書 | H39: 任意の様式で可（代表者名）。ただし、未措置事項（指針、委員会、研修、担当者の設置）の現状及び改善に向けた取組みは必ず記載すること。
B40: 業務継続計画策定の有無 | D40: □ | E40: ・ | F40: 理由書 | H40: 任意の様式で可。
D41: □ | E41: ・ | F41: 業務継続計画に係る改善計画又は改善報告書 | H41: 任意の様式で可（代表者名）。ただし、未措置事項（BPC策定、訓練、研修）の現状及び改善に向けた取組みは必ず記載すること。
D42: □ | E42: ・ | F42: 業務継続計画（BPC） | H42: BCP未策定に伴う減算を解消する場合。感染症及び災害の項目を設定したもの。
B43: 入居継続支援加算 ＊介護サービスのみ | D43: □ | E43: ・ | F43: 入居継続支援加算に関する届出書＜別紙32＞
D44: □ | E44: ・ | F44: 入居継続支援加算に関する確認書＜参考様式32＞
D45: □ | E45: ・ | F45: 従業者の勤務の体制及び勤務形態一覧表＜別紙７＞又はこれに準じた勤務割表等
D46: □ | E46: ・ | F46: 有資格者等の割合の参考計算書＜別紙７-2＞又はこれに準じた計算資料 | H46: 届出月前３月間における介護福祉士の常勤換算数及び平均を求めたもの
D47: □ | E47: ・ | F47: ≪別紙32の要件③・④が「有」の場合≫ 該当する資格証（写） | H47: 看護に係る責任者である常勤看護師の分のみ
B48: テクノロジーの導入 （入居継続支援加算関係） | D48: □ | E48: ・ | F48: テクノロジーの導入による入居継続支援加算に関する届出書＜別紙32-２＞
D49: □ | E49: ・ | F49: 利用者の安全やケアの質の確保、職員の負担の軽減を図るための委員会の議事概要 | H49: 導入後から３月以上、継続して定期的に実施していることがわかるようにすること。
D50: □ | E50: ・ | F50: 介護機器の使用方法の講習やヒヤリ・ハット事例等の周知、その事例を通じた再発防止策の実習等を含む職員研修の記録 | H50: 算定開始月時点で予定の場合は、予定している研修等の概要がわかるもの。
D51: □ | E51: ・ | F51: 算定開始月を含む年間又は年度研修計画 若しくは介護機器の使用方法の講習等を定期的かつ臨機応変に実施するためのフロー（手順書）等 | H51: 上記の研修等に相当するもの（複数の研修や通常業務の手順等を組み合わせて内容を網羅する場合は、どの研修等で何を実施するのか）がわかるようにすること。
B52: 生活機能向上連携加算 | C52: □ | D52: □ | E52: ・ | F52: 生活機能向上連携加算に関する確認書＜参考様式４＞
C53: □ | D53: □ | E53: ・ | F53: 訪問リハビリテーション若しくは通所リハビリテーションを実施している事業所又はリハビリテーションを実施している医療提供施設との協定書等
C54: □ | D54: □ | E54: ・ | F54: 共同等する上記事業所又は医療施設の理学療法士、作業療法士、言語聴覚士又は医師の資格証（写）
B55: 個別機能訓練加算 | D55: □ | E55: ・ | F55: 従業者の勤務の体制及び勤務形態一覧表＜別紙７＞又はこれに準じた勤務割表等 | H55: 算定開始する月の分。
C56: □ | D56: □ | E56: ・ | F56: 該当する資格証（写） | H56: 理学療法士、作業療法士、言語聴覚士、看護職員、柔道整復師、あん摩マッサージ指圧師、はり師、きゅう師。
D57: □ | E57: ・ | F57: ≪はり師又はきゅう師を機能訓練指導員として配置する場合≫ 理学療法士、作業療法士、言語聴覚士、看護職員、柔道整復師又はあん摩マッサージ指圧師の資格を有する機能訓練指導員を配置した事業所で６月以上機能訓練指導に従事した経験を有する者であることが分かる証明書 | H57: 任意の様式で可。
B58: ＡＤＬ維持等加算（申出の有無） | C58: □ | D58: □ | H58: ※LIFEへの登録が必須
B59: 夜間看護体制 ＊介護サービスのみ | C59: □ | D59: □ | E59: ・ | F59: 夜間看護体制に係る届出書＜別紙33＞
D60: □ | E60: ・ | F60: 従業者の勤務の体制及び勤務形態一覧表＜別紙７＞又はこれに準じた勤務割表等 | H60: 算定開始する月の分。
C61: □ | D61: □ | E61: ・ | F61: 該当する資格証（写） | H61: 看護師又は准看護師
C62: □ | D62: □ | E62: ・ | F62: 夜間における連絡・対応体制（オンコール体制）に関する取り決め（指針やマニュアル等で、看護職員不在時の介護職員による入所者の観察項目を含む。案でも可）
C63: □ | D63: □ | E63: ・ | F63: 重度化した場合の対応に係る指針（案でも可）
C64: □ | D64: □ | E64: ・ | F64: ＜病院、訪問看護ｽﾃｰｼｮﾝ等との連携による場合＞ 24時間連絡体制に係る契約書・協定書（写）
B65: 若年性認知症入居者受入加算 | C65: □ | D65: □ | E65: ・ | F65: 若年性認知症入居者受入加算に関する届出書＜参考様式５＞
B66: 科学的介護推進体制加算 | C66: □ | D66: □ | H66: ※LIFEへの登録が必須
B67: 看取り介護加算 ＊介護サービス（短期利用型を除く）のみ | C67: □ | D67: □ | E67: ・ | F67: 看取り介護加算に係る届出書＜別紙34-2＞
C68: □ | D68: □ | E68: ・ | F68: 看取りに関する指針（案でも可）
B69: 短期利用型 ＊事業者が介護保険事業の等運営について３年以上の経験有する場合のみ | C69: □ | D69: □ | E69: ・ | F69: 短期利用型に関する調書＜参考様式14＞
D70: □ | E70: ・ | F70: 従業者の勤務の体制及び勤務形態一覧表＜別紙７＞又はこれに準じた勤務割表等 | H70: 算定開始する月の分。
C71: □ | D71: □ | E71: ・ | F71: 短期利用者に対する利用料を説明する文書（重要事項説明書、その他の利用料がわかる文書）
B72: 認知症専門ケア加算 | C72: □ | D72: □ | E72: ・ | F72: 認知症専門ケア加算に係る届出書＜別紙12-２＞
C73: □ | D73: □ | E73: ・ | F73: 認知症介護実践リーダー研修の修了証書（写）
C74: □ | D74: □ | E74: ・ | F74: 認知症介護指導者養成研修の修了証書（写） | H74: 加算（Ⅱ）を算定する場合。
C75: □ | D75: □ | E75: ・ | F75: 認知症看護に係る適切な研修の修了証等（写）
C76: □ | D76: □ | E76: ・ | F76: 認知症ケアに関する留意事項の伝達又は技術的指導に係る会議の開催状況がわかるもの | H76: 予定の場合は、開催スケジュール（年間計画、実施フロー等開催時期と頻度がわかるもの）及び開催内容の概要を記載すること。
C77: □ | D77: □ | E77: ・ | F77: 算定開始月を含む年間又は年度の研修計画（認知症ケアに関する研修計画） | H77: 加算（Ⅱ）を算定する場合。
B78: 高齢者施設等感染症対策向上加算 | C78: □ | D78: □ | E78: ・ | F78: 高齢者施設等感染者対策向上加算に係る届出書＜別紙35＞
C79: □ | D79: □ | E79: ・ | F79: 院内感染対策に関する研修又は訓練の参加記録 | H79: 加算（Ⅰ）を算定する場合。
C80: □ | D80: □ | E80: ・ | F80: 実地指導を受けた日時及び指導概要 | H80: 加算（Ⅱ）を算定する場合。
E81: ※ | F81: 協力医療機関について年１回届け出るとともに、内容変更の場合は速やかに、その変更内容について変更届を提出すること。 | H81: 協力医療機関が（変更）未届の場合は、算定不可。
B82: 生産性向上推進体制加算 | D82: □ | E82: ・ | F82: 生産性向上推進体制加算に係る届出書＜別紙28＞
D83: □ | E83: ・ | F83: 利用者の安全やケアの質の確保、職員の負担の軽減を図るための委員会の議事概要 | H83: 導入後から３月以上、継続して定期的に実施していることがわかるようにすること。
D84: □ | E84: ・ | F84: 各種指標に関する調査結果 | H84: 導入前後を比較して各指標の改善状況等の調査結果がわかるようにすること。
D85: □ | E85: ・ | F85: 指針、業務フロー、手順書等算定要件に該当する取組の全体像（概要・体制）がわかる資料 | H85: 算定要件である事務処理手順（各調査や研修等）がいつどのくらいの頻度でどのような形で実施（予定）されているのかがわかるもの。
B86: サービス提供体制強化加算 | D86: □ | E86: ・ | F86: サービス提供体制強化加算に関する届出書＜別紙14－６＞
D87: □ | E87: ・ | F87: 従業者の勤務の体制及び勤務形態一覧表＜別紙７＞又はこれに準じた勤務割表等 | H87: 前年度４月～２月の分。なお、前年度実績が６月に満たない場合は届出前３か月分。
D88: □ | E88: ・ | F88: 有資格者等の割合の参考計算書＜別紙７-2＞又はこれに準じた計算資料 | H88: 算定する加算の要件に応じた有資格者等の常勤換算を計算し平均したもの
B89: 介護職員処遇改善加算 | C89: □ | D89: □ | E89: ・ | F89: 介護処遇改善加算等の専用受付に専用の届出一式を提出すること | H89: 別紙1(届)の変更内容欄に、左記の提出日を記入すること
B90: 介護職員等特定処遇改善加算 | C90: □ | D90: □ | E90: ・ | F90: 介護処遇改善加算等の専用受付に専用の届出一式を提出すること | H90: 別紙1(届)の変更内容欄に、左記の提出日を記入すること
B91: 介護職員等ベースアップ等支援加算 | C91: □ | D91: □ | E91: ・ | F91: 介護処遇改善加算等の専用受付に専用の届出一式を提出すること | H91: 別紙1(届)の変更内容欄に、左記の提出日を記入すること

Sheet 【R6.5月まで】加算様式２（SS）
A1: 介護給付費算定に係る体制等に関する届出書・変更届出書 チェック表 （短期入所生活介護・介護予防短期入所生活介護）
A2: ○ R6.4.1～R6.5.31 版
G3: 担当者名
G4: 連絡先（TEL）
A6: ※ 加算が算定されなくなる場合、欠員が解消される場合等についても同様に届け出てください。
A7: ※ 厚労省様式（「別紙○」の名称のもの）については、記載の注意事項を確認し正しい方法で使用してください。
A8: ※ 参考様式は、算定要件を満たす内容を証するものであれば任意様式で提出しても差し支えありませんが、
B9: 届け出後も同じ様式を継続して使用し、算定要件を毎月確認及び記録してください。
A10: ※ 「従業者の勤務の体制及び勤務形態一覧表（別紙７）又はこれに準じた勤務割表等」については、
B11: 指定申請等に使用した（標準様式１）で作成したものも対象です。
B12: （本ファイルには特養用の（標準様式１）をセットしています。プルダウンリストの修正等、特定施設にあわせた修正作業に
B13: 不安がある場合は、特定施設の加算届ファイルにセットされた（標準様式１）を使用してください）
A14: ※ 本体が特養かつ併設型・空床型の両方を実施している場合で、「空床型のみ算定する加算」を新たに届け出る場合は、
B15: 当該加算算定に係る特養の届出と同時に提出するか、特養の別紙1-1～３（直近の届出状況）を添付すること。
B16: （その場合、下記チェック表で加算ごとに指定している添付書類については提出不要）
A17: 届出事項 | C17: 開設 | D17: 加算 追加 ・ 加算 削除 | E17: 添 付 書 類 | H17: 備 考
A18: 共 通 事 項 （必ず必要な書類） | C18: □ | D18: □ | E18: ・ | F18: 介護給付費算定に係る体制等に関する届出書・変更届出書＜加算様式１＞
C19: □ | D19: □ | E19: ・ | F19: 本チェック表＜加算様式２＞ | H19: 自主点検したもの（チェック済）を提出すること。
C20: □ | D20: □ | E20: ・ | F20: 介護給付費算定に係る体制等状況一覧表＜別紙1-1、1-2＞ | H20: 別シートの「備考（1-1）（1-2）」も必ず確認すること。
D21: □ | E21: ・ | F21: 運営規程 | H21: 介護給付費算定に係る体制等に関する変更に伴い、改正したもの。介護の内容・利用料金の変更等について記載が必要。
F22: ※ | G22: 変更後の運営規程又は新旧対照表
B25: LIFEへの登録 | C25: □ | D25: □ | H25: 別紙１(届)の変更内容欄にLIFE登録日を記入すること。
B26: 割引をする場合 | C26: □ | D26: □ | E26: ・ | F26: 指定居宅サービス事業者等による介護給付費の割引に係る割引率の設定について＜別紙５＞
B27: 施設等の区分
B28: 夜間勤務条件基準 | D28: □ | E28: ・ | F28: 理由書 | H28: 任意の様式で可。
D29: □ | E29: ・ | F29: 従業者の勤務の体制及び勤務形態一覧表＜別紙7＞又はこれに準じた勤務割表等
B30: 職員の欠員による減算の状況 | D30: □ | E30: ・ | F30: 理由書 | H30: 任意の様式で可。
D31: □ | E31: ・ | F31: 従業者の勤務の体制及び勤務形態一覧表＜別紙7＞又はこれに準じた勤務割表等 | H31: 看護職員、介護職員の配置状況がわかるもの。
D32: □ | E32: ・ | F32: 組織体制図 | H32: 任意の様式で可。
D33: □ | E33: ・ | F33: 該当する資格証（写） | H33: 欠員が解消される場合。
B34: ユニットケア体制
B35: 高齢者虐待防止措置実施の有無 | D35: □ | E35: ・ | F35: 理由書 | H35: 任意の様式で可。
D36: □ | E36: ・ | F36: 高齢者虐待防止措置に係る改善計画又は改善報告書 | H36: 任意の様式で可（代表者名）。ただし、未措置事項（指針、委員会、研修、担当者の設置）の現状及び改善に向けた取組みは必ず記載すること。
B37: 業務継続計画策定の有無 | D37: □ | E37: ・ | F37: 理由書 | H37: 任意の様式で可。
D38: □ | E38: ・ | F38: 業務継続計画に係る改善計画又は改善報告書 | H38: 任意の様式で可（代表者名）。ただし、未措置事項（BPC策定、訓練、研修）の現状及び改善に向けた取組みは必ず記載すること。
D39: □ | E39: ・ | F39: 業務継続計画（BPC） | H39: BCP未策定に伴う減算を解消する場合。感染症及び災害の項目を設定したもの。
B40: 共生型サービスの提供 （短期入所事業所）
B41: 生活相談員配置等加算 | C41: □ | D41: □ | E41: ・ | F41: 生活相談員配置等加算に係る届出書＜別紙21＞
C42: □ | D42: □ | E42: ・ | F42: 該当する資格証（写）
D43: □ | E43: ・ | F43: 従業者の勤務の体制及び勤務形態一覧表＜別紙7＞又はこれに準じた勤務割表等
B44: 生活機能向上連携加算 | C44: □ | D44: □ | E44: ・ | F44: 生活機能向上連携加算に関する確認書＜参考様式４＞
D45: □ | E45: ・ | F45: 訪問リハビリテーション若しくは通所リハビリテーションを実施している事業所又はリハビリテーションを実施している医療提供施設との協定書等
C46: □ | D46: □ | E46: ・ | F46: 共同等する上記事業所又は医療施設の理学療法士、作業療法士、言語聴覚士又は医師の資格証（写）
B47: 機能訓練指導体制 | D47: □ | E47: ・ | F47: 従業者の勤務の体制及び勤務形態一覧表＜別紙7＞又はこれに準じた勤務割表等 | H47: 請求する月の分。
C48: □ | D48: □ | E48: ・ | F48: 該当する資格証（写） | H48: 理学療法士、作業療法士、言語聴覚士、看護師、准看護師、柔道整復師、あん摩マッサージ指圧師、はり師、きゅう師。
B49: 個別機能訓練体制 | D49: □ | E49: ・ | F49: 従業者の勤務の体制及び勤務形態一覧表＜別紙7＞又はこれに準じた勤務割表等 | H49: 請求する月の分。
C50: □ | D50: □ | E50: ・ | F50: 該当する資格証（写） | H50: 理学療法士、作業療法士、言語聴覚士、看護師、准看護師、柔道整復師、あん摩マッサージ指圧師、はり師、きゅう師。
C51: □ | D51: □ | E51: ・ | F51: ≪はり師又はきゅう師を機能訓練指導員として配置する場合≫ 理学療法士、作業療法士、言語聴覚士、看護職員、柔道整復師又はあん摩マッサージ指圧師の資格を有する機能訓練指導員を配置した事業所で６月以上機能訓練指導に従事した経験を有する者であることが分かる証明書 | H51: 任意の様式で可。
B52: 看護体制加算 ＊介護サービスのみ | C52: □ | D52: □ | E52: ・ | F52: 看護体制加算に係る届出書＜別紙25＞
D53: □ | E53: ・ | F53: 従業者の勤務の体制及び勤務形態一覧表＜別紙7＞又はこれに準じた勤務割表等 | H53: 請求する月の分。
C54: □ | D54: □ | E54: ・ | F54: 該当する資格証（写） | H54: 看護師、准看護師。
C55: □ | D55: □ | E55: ・ | F55: 夜間における連絡・対応体制（オンコール体制）に関する取り決め（指針やマニュアル等で、看護職員不在時の介護職員による入所者の観察項目を含む。案でも可） | H55: 加算Ⅱを算定する場合。
C56: □ | D56: □ | E56: ・ | F56: ≪病院、訪問看護ｽﾃｰｼｮﾝ等との連携による場合≫ ２４時間連絡体制に係る契約書・協定書（写）
B57: 医療連携強化加算 ＊介護サービスのみ | C57: □ | D57: □ | E57: ・ | F57: 医療連携強化加算に係る届出書＜別紙26＞
C58: □ | D58: □ | E58: ・ | F58: 協力医療機関との協定書(写）
C59: □ | D59: □ | E59: ・ | F59: 急変時に医療提供の方針について、利用者からの合意文書 | H59: 任意の様式で可。（重要事項説明書に記載がしてある際には重要事項説明書を提出）
B60: 看取り連携体制加算 | C60: □ | D60: □ | E60: ・ | F60: 看取り連携体制加算に係る届出書＜別紙13＞
C61: □ | D61: □ | E61: ・ | F61: 看取り期における対応方針（案でも可）
B62: 夜勤職員配置加算 ＊介護サービスのみ | C62: □ | D62: □ | E62: ・ | F62: 夜勤職員配置加算に係る確認書＜参考様式３＞
D63: □ | E63: ・ | F63: 従業者の勤務の体制及び勤務形態一覧表＜別紙7＞又はこれに準じた勤務割表等 | H63: 請求する月の分。
C64: □ | D64: □ | E64: ・ | F64: 登録喀痰吸引等事業者としての登録通知書（写） | H64: Ⅲ・Ⅳを算定する場合。
C65: □ | D65: □ | E65: ・ | F65: 介護福祉士・認定特定行為業務従事者名簿（写） | H65: Ⅲ・Ⅳを算定する場合。
B66: テクノロジーの導入 （夜勤職員配置加算関係） | D66: □ | E66: ・ | F66: テクノロジーの導入による夜勤職員配置加算に関する届出書＜別紙7-3＞又は＜別紙27＞
D67: □ | E67: ・ | F67: 利用者の安全やケアの質の確保、職員の負担の軽減を図るための委員会の議事概要 | H67: 導入後から３月以上、継続して定期的に実施していることがわかるようにすること。
D68: □ | E68: ・ | F68: 介護機器の使用方法の講習やヒヤリ・ハット事例等の周知、その事例を通じた再発防止策の実習等を含む職員研修の記録 | H68: 算定開始月時点で予定の場合は、予定している研修等の概要がわかるもの。
D69: □ | E69: ・ | F69: 算定開始月を含む年間又は年度研修計画 若しくは介護機器の使用方法の講習等を定期的かつ臨機応変に実施するためのフロー（手順書）等 | H69: 上記の研修等に相当するもの（複数の研修や通常業務の手順等を組み合わせて内容を網羅する場合は、どの研修等で何を実施するのか）がわかるようにすること。
B70: 若年性認知症利用者受入加算 | C70: □ | D70: □ | E70: ・ | F70: 若年性認知症利用者受入加算に関する届出書＜参考様式５＞
B71: 送迎体制 | C71: □ | D71: □ | E71: ・ | F71: 送迎車両の写真 | H71: ナンバーが確認できるように撮影すること。
C72: □ | D72: □ | E72: ・ | F72: 送迎車両の車検証（写）
C73: □ | D73: □ | E73: ・ | F73: 送迎車両の任意保険証書（写）
C74: □ | D74: □ | E74: ・ | F74: 送迎記録簿 | H74: 任意の様式で可。
B75: 口腔連携強化加算 | C75: □ | D75: □ | E75: ・ | F75: 口腔連携強化加算に関する届出書＜別紙11＞
C76: □ | D76: □ | E76: ・ | F76: 協力医療機関との協定書(写）等相談できる体制を確保していることがわかるもの
B77: 療養食加算 | C77: □ | D77: □ | E77: ・ | F77: 療養食加算に関する届出書＜参考様式５＞
C78: □ | D78: □ | E78: ・ | F78: 管理栄養士・栄養士の資格証（写） | H78: 単独型の場合。
B79: 認知症専門ケア加算 | C79: □ | D79: □ | E79: ・ | F79: 認知症専門ケア加算に係る届出書＜別紙12-２＞
C80: □ | D80: □ | E80: ・ | F80: 認知症介護実践リーダー研修の修了証（写）
C81: □ | D81: □ | E81: ・ | F81: 認知症介護指導者養成研修の修了証（写） | H81: 加算Ⅱを算定する場合。
C82: □ | D82: □ | E82: ・ | F82: 認知症看護に係る適切な研修の修了証等（写）
C83: □ | D83: □ | E83: ・ | F83: 認知症ケアに関する留意事項の伝達又は技術的指導に係る会議の開催状況がわかるもの | H83: 予定の場合は、開催スケジュール（年間計画、実施フロー等開催時期と頻度がわかるもの）及び開催内容の概要を記載すること。
C84: □ | D84: □ | E84: ・ | F84: 算定開始月を含む年間又は年度の研修計画（認知症ケアに関する研修計画） | H84: 加算Ⅱを算定する場合。
B85: 生産性向上推進体制加算 | D85: □ | E85: ・ | F85: 生産性向上推進体制加算に係る届出書＜別紙28＞
D86: □ | E86: ・ | F86: 利用者の安全やケアの質の確保、職員の負担の軽減を図るための委員会の議事概要 | H86: 導入後から３月以上、継続して定期的に実施していることがわかるようにすること。
D87: □ | E87: ・ | F87: 各種指標に関する調査結果 | H87: 導入前後を比較して各指標の改善状況等の調査結果がわかるようにすること。
D88: □ | E88: ・ | F88: 指針、業務フロー、手順書等算定要件に該当する取組の全体像（概要・体制）がわかる資料 | H88: 算定要件である事務処理手順（各調査や研修等）がいつどのくらいの頻度でどのような形で実施（予定）されているのかがわかるもの。
B89: サービス提供体制強化加算 | D89: □ | E89: ・ | F89: サービス提供体制強化加算に関する届出書＜別紙１4－４＞
D90: □ | E90: ・ | F90: 従業者の勤務の体制及び勤務形態一覧表＜別紙7＞又はこれに準じた勤務割表等 | H90: 前年度４月～２月の分。なお、前年度実績が６月に満たない場合は届出前３か月分
D91: □ | E91: ・ | F91: 有資格者等の割合の参考計算書＜別紙７-2＞又はこれに準じた計算資料 | H91: 算定する加算の要件に応じた有資格者等の常勤換算を計算し平均したもの
B92: 介護職員処遇改善加算 | C92: □ | D92: □ | E92: ・ | F92: 介護処遇改善加算等の専用受付に専用の届出一式を提出すること | H92: 別紙1(届)の変更内容欄に、左記の提出日を記入すること
B93: 介護職員等特定処遇改善加算 | C93: □ | D93: □ | E93: ・ | F93: 介護処遇改善加算等の専用受付に専用の届出一式を提出すること | H93: 別紙1(届)の変更内容欄に、左記の提出日を記入すること
B94: 介護職員等ベースアップ等支援加算 | C94: □ | D94: □ | E94: ・ | F94: 介護処遇改善加算等の専用受付に専用の届出一式を提出すること | H94: 別紙1(届)の変更内容欄に、左記の提出日を記入すること

Sheet 【R6.5月まで】加算様式２（特養）
A1: 介護給付費算定に係る体制等に関する届出書・変更届出書 チェック表 （介護老人福祉施設）
A2: ○ R6.4.1～R6.5.31 版
G3: 担当者名
G4: 連絡先（TEL）
A6: ※ 加算が算定されなくなる場合、欠員が解消される場合等についても同様に届け出てください。
A7: ※ 厚労省様式（「別紙○」の名称のもの）については、記載の注意事項を確認し正しい方法で使用してください。
A8: ※ 参考様式は、算定要件を満たす内容を証するものであれば任意様式で提出しても差し支えありませんが、
B9: 届け出後も同じ様式を継続して使用し、算定要件を毎月確認及び記録してください。
A10: ※ 「従業者の勤務の体制及び勤務形態一覧表（別紙７）又はこれに準じた勤務割表等」については、
B11: 指定申請等に使用した（標準様式１）で作成したものも対象です。
A12: 届出事項 | C12: 開設 | D12: 加算 追加 ・ 加算 削除 | E12: 添 付 書 類 | H12: 備 考
A13: 共 通 事 項 （必ず必要な書類） | C13: □ | D13: □ | E13: ・ | F13: 介護給付費算定に係る体制等に関する届出書・変更届出書＜加算様式１＞
C14: □ | D14: □ | E14: ・ | F14: 本チェック表＜加算様式２＞ | H14: 自主点検したもの（チェック済）を提出すること。
C15: □ | D15: □ | E15: ・ | F15: 介護給付費算定に係る体制等状況一覧表＜別紙1-1＞ | H15: 別シートの「備考（1-1）」も必ず確認すること。
D16: □ | E16: ・ | F16: 運営規程 | H16: 介護給付費算定に係る体制等に関する変更に伴い，改正したもの。介護の内容・利用料金の変更等について記載が必要。
F17: ※ | G17: 変更後の運営規程又は新旧対照表
B20: LIFEへの登録 | C20: □ | D20: □ | H20: 別紙１(届)の変更内容欄にLIFE登録日を記入すること。
B21: 割引をする場合 | C21: □ | D21: □ | E21: ・ | F21: 指定居宅サービス事業者等による介護給付費の割引に係る割引率の設定について＜別紙５＞
B22: 施設等の区分
B23: 夜間勤務条件基準 | D23: □ | E23: ・ | F23: 理由書 | H23: 任意の様式で可。
D24: □ | E24: ・ | F24: 従業者の勤務の体制及び勤務形態一覧表＜別紙７＞又はこれに準じた勤務割表等
B25: 職員の欠員による減算の状況 | D25: □ | E25: ・ | F25: 理由書 | H25: 任意の様式で可。
D26: □ | E26: ・ | F26: 従業者の勤務の体制及び勤務形態一覧表＜別紙７＞又はこれに準じた勤務割表等 | H26: 看護職員、介護職員、介護支援専門員の配置状況がわかるもの。
D27: □ | E27: ・ | F27: 組織体制図 | H27: 任意の様式で可。
D28: □ | E28: ・ | F28: 該当する資格証（写） | H28: 欠員が解消される場合。
B29: ユニットケア体制
B30: 身体拘束廃止取組 の有無 | D30: □ | E30: ・ | F30: 理由書 | H30: 任意の様式で可。
D31: □ | E31: ・ | F31: 身体拘束改善計画又は身体拘束改善報告 | H31: 任意の様式で可（理事長名）。ただし、経緯、今後の改善策・職員教育、対象入所者の現状及び廃止に向けた取組みは必ず記載すること。
B32: 安全管理体制 | D32: □ | E32: ・ | F32: 理由書 | H32: 任意の様式で可。
D33: □ | E33: ・ | F33: 運営基準における事故の発生又は再発を防止するための措置を講じるための改善報告書 | H33: 任意の様式で可（理事長名）。ただし、今後の改善計画（指針の整備・体制の整備・従業者研修計画）を必ず記載すること。
D34: □ | E34: ・ | F34: 安全管理対策体制に関する確認書＜参考様式11＞ | H34: 担当者未設置に伴う減算を解消する場合。研修の欄以外を埋めること。
B35: 高齢者虐待防止措置実施の有無 | D35: □ | E35: ・ | F35: 理由書 | H35: 任意の様式で可。
D36: □ | E36: ・ | F36: 高齢者虐待防止措置に係る改善計画又は改善報告書 | H36: 任意の様式で可（代表者名）。ただし、未措置事項（指針、委員会、研修、担当者の設置）の現状及び改善に向けた取組みは必ず記載すること。
B37: 業務継続計画策定の有無 | D37: □ | E37: ・ | F37: 理由書 | H37: 任意の様式で可。
D38: □ | E38: ・ | F38: 業務継続計画に係る改善計画又は改善報告書 | H38: 任意の様式で可（代表者名）。ただし、未措置事項（BPC策定、訓練、研修）の現状及び改善に向けた取組みは必ず記載すること。
D39: □ | E39: ・ | F39: 業務継続計画（BPC） | H39: BCP未策定に伴う減算を解消する場合。感染症及び災害の項目を設定したもの。
B40: 栄養ケア・マネジメントの実施の有無 | C40: □ | D40: □ | E40: ・ | F40: 栄養マネジメント体制に関する届出書＜別紙38＞
D41: □ | E41: ・ | F41: 従業者の勤務の体制及び勤務形態一覧表＜別紙７＞又はこれに準じた勤務割表等 | H41: 算定開始する月の分。
C42: □ | D42: □ | E42: ・ | F42: 栄養士及び管理栄養士の資格証（写）
B43: 日常生活継続支援加算 ＊開設時からの算定は不可 | D43: □ | E43: ・ | F43: 日常生活継続支援加算に関する届出書＜別紙37＞
D44: □ | E44: ・ | F44: 日常生活継続支援加算に関する確認書①＜参考様式2-1＞ | H44: 前６月又は前12月における別紙37の人数等を計算したもの
D45: □ | E45: ・ | F45: 有資格者等の割合の参考計算書＜別紙７-2＞又はこれに準じた計算資料 | H45: 届出前３か月の介護職員のうち介護福祉士の常勤換算数を平均したもの
B46: テクノロジーの導入 （日常生活継続支援加算関係） | D46: □ | E46: ・ | F46: テクノロジーの導入による日常生活継続支援加算に関する届出書＜別紙37-2＞
D47: □ | E47: ・ | F47: 利用者の安全やケアの質の確保、職員の負担の軽減を図るための委員会の議事概要 | H47: 導入後から３月以上、継続して定期的に実施していることがわかるようにすること。
D48: □ | E48: ・ | F48: 介護機器の使用方法の講習やヒヤリ・ハット事例等の周知、その事例を通じた再発防止策の実習等を含む職員研修の記録 | H48: 算定開始月時点で予定の場合は、予定している研修等の概要がわかるもの。
D49: □ | E49: ・ | F49: 算定開始月を含む年間又は年度研修計画 若しくは介護機器の使用方法の講習等を定期的かつ臨機応変に実施するためのフロー（手順書）等 | H49: 上記の研修等に相当するもの（複数の研修や通常業務の手順等を組み合わせて内容を網羅する場合は、どの研修等で何を実施するのか）がわかるようにすること。
B50: 看護体制加算 | C50: □ | D50: □ | E50: ・ | F50: 看護体制加算に係る届出書＜別紙25-2＞
D51: □ | E51: ・ | F51: 従業者の勤務の体制及び勤務形態一覧表＜別紙７＞又はこれに準じた勤務割表等 | H51: 算定開始する月の分。
C52: □ | D52: □ | E52: ・ | F52: 該当する資格証（写） | H52: 看護師、准看護師。
C53: □ | D53: □ | E53: ・ | F53: 夜間における連絡・対応体制（オンコール体制）に関する取り決め（指針やマニュアル等で、看護職員不在時の介護職員による入所者の観察項目を含む。案でも可） | H53: 加算Ⅱを算定する場合。
C54: □ | D54: □ | E54: ・ | F54: ≪病院、訪問看護ｽﾃｰｼｮﾝ等との連携による場合≫ ２４時間連絡体制に係る契約書・協定書等（写）
B55: 夜勤職員配置加算 | C55: □ | D55: □ | E55: ・ | F55: 夜勤職員配置加算に係る確認書＜参考様式３＞
D56: □ | E56: ・ | F56: 従業者の勤務の体制及び勤務形態一覧表＜別紙７＞又はこれに準じた勤務割表等 | H56: 算定開始する月の分。
C57: □ | D57: □ | E57: ・ | F57: 登録喀痰吸引等事業者としての登録通知書（写） | H57: Ⅲ・Ⅳを算定する場合。
C58: □ | D58: □ | E58: ・ | F58: 介護福祉士・認定特定行為業務従事者名簿（写） | H58: Ⅲ・Ⅳを算定する場合。
B59: テクノロジーの導入 （夜勤職員配置加算関係） | D59: □ | E59: ・ | F59: テクノロジーの導入による夜勤職員配置加算に関する届出書＜別紙7-3＞又は＜別紙27＞
D60: □ | E60: ・ | F60: 利用者の安全やケアの質の確保、職員の負担の軽減を図るための委員会の議事概要 | H60: 導入後から３月以上、継続して定期的に実施していることがわかるようにすること。
D61: □ | E61: ・ | F61: 介護機器の使用方法の講習やヒヤリ・ハット事例等の周知、その事例を通じた再発防止策の実習等を含む職員研修の記録 | H61: 算定開始月時点で予定の場合は、予定している研修等の概要がわかるもの。
D62: □ | E62: ・ | F62: 算定開始月を含む年間又は年度研修計画 若しくは介護機器の使用方法の講習等を定期的かつ臨機応変に実施するためのフロー（手順書）等 | H62: 上記の研修等に相当するもの（複数の研修や通常業務の手順等を組み合わせて内容を網羅する場合は、どの研修等で何を実施するのか）がわかるようにすること。
B63: 準ユニットケア体制 | C63: □ | D63: □ | E63: ・ | F63: 従業者の勤務の体制及び勤務形態一覧表＜別紙７＞又はこれに準じた勤務割表等 | H63: 準ユニット部分の配置職員のみ。算定開始する月の分。
C64: □ | D64: □ | E64: ・ | F64: 準ユニット部分の平面図
B65: 生活機能向上連携加算 | C65: □ | D65: □ | E65: ・ | F65: 生活機能向上連携加算に関する確認書＜参考様式４＞
C66: □ | D66: □ | E66: ・ | F66: 訪問リハビリテーション若しくは通所リハビリテーションを実施している事業所又はリハビリテーションを実施している医療提供施設との協定書等
C67: □ | D67: □ | E67: ・ | F67: 共同等する上記事業所又は医療施設の理学療法士，作業療法士，言語聴覚士又は医師の資格証（写）
B68: 個別機能訓練加算 | D68: □ | E68: ・ | F68: 従業者の勤務の体制及び勤務形態一覧表＜別紙７＞又はこれに準じた勤務割表等 | H68: 算定開始する月の分。
C69: □ | D69: □ | E69: ・ | F69: 該当する資格証（写） | H69: 理学療法士、作業療法士、言語聴覚士、看護師、准看護師、柔道整復師、あん摩マッサージ指圧師、はり師、きゅう師。
C70: □ | D70: □ | E70: ・ | F70: ≪はり師又はきゅう師を機能訓練指導員として配置する場合≫ 理学療法士、作業療法士、言語聴覚士、看護職員、柔道整復師又はあん摩マッサージ指圧師の資格を有する機能訓練指導員を配置した事業所で６月以上機能訓練指導に従事した経験を有する者であることが分かる証明書 | H70: 任意の様式で可。
B71: ＡＤＬ維持等加算（申出の有無） | C71: □ | D71: □ | H71: ※LIFEへの登録が必須
B72: 若年性認知症利用者受入加算 | C72: □ | D72: □ | E72: ・ | F72: 若年性認知症入所者受入加算に関する届出書＜参考様式５＞
B73: 常勤専従医師配置 | D73: □ | E73: ・ | F73: 従業者の勤務の体制及び勤務形態一覧表＜別紙７＞又はこれに準じた勤務割表等 | H73: 算定開始する月の分。
C74: □ | D74: □ | E74: ・ | F74: 医師免許証（写）
C75: □ | D75: □ | E75: ・ | F75: 常勤専従医師の契約書（写）又は辞令（写）
B76: 精神科医師定期的療養指導 | C76: □ | D76: □ | E76: ・ | F76: 精神科医師定期的療養指導に関する届出書＜参考様式６＞
C77: □ | D77: □ | E77: ・ | F77: 医師免許証（写）
C78: □ | D78: □ | E78: ・ | F78: 精神科医師の契約書（写）
B79: 障害者生活支援体制 | C79: □ | D79: □ | E79: ・ | F79: 障害者生活支援体制に関する届出書＜参考様式７＞
D80: □ | E80: ・ | F80: 従業者の勤務の体制及び勤務形態一覧表＜別紙７＞又はこれに準じた勤務割表等 | H80: 算定開始する月の分。
C81: □ | D81: □ | E81: ・ | F81: 障害者生活支援員の経歴書（写）又は資格証（写） | H81: ①視覚障がい 点字の指導、点訳、歩行支援等のできる者 ②聴覚障がい又は言語機能障がい 手話通訳等のできる者 ③知的障がい 知的障害者福祉法第14条各号のいずれかに該当する者又はこれらに準ずる者 ④精神障害 精神保健福祉士又は精神保健及び精神障害者福祉に関する法律施行令第12条各号に掲げる者
C82: □ | D82: □ | E82: ・ | F82: 対象入所者全員分の身障手帳（写）又は療育手帳（写）
B83: 栄養マネジメント強化体制 | C83: □ | D83: □ | E83: ・ | F83: 栄養マネジメント体制に関する届出書＜別紙38＞ | H83: ※LIFEへの登録が必須
D84: □ | E84: ・ | F84: 従業者の勤務の体制及び勤務形態一覧表＜別紙７＞又はこれに準じた勤務割表等 | H84: 算定開始する月の分。
C85: □ | D85: □ | E85: ・ | F85: 栄養士及び管理栄養士の資格証（写）
B86: 療養食加算 | C86: □ | D86: □ | E86: ・ | F86: 療養食加算に関する届出書＜参考様式５＞
B87: 配置医師緊急時対応加算 | C87: □ | D87: □ | E87: ・ | F87: 配置医師緊急時対応加算に係る届出書＜別紙39＞
C88: □ | D88: □ | E88: ・ | F88: 医師の資格証（写）
B89: 看取り介護体制 | C89: □ | D89: □ | E89: ・ | F89: 看取り介護体制に係る届出書＜別紙34＞
C90: □ | D90: □ | E90: ・ | F90: 該当する資格証（写） | H90: 看護師。
C91: □ | D91: □ | E91: ・ | F91: 看取りに関する指針（案でも可）
C92: □ | D92: □ | E92: ・ | F92: 夜間における連絡・対応体制（オンコール体制）に関する取り決め（指針やマニュアル等で、看護職員不在時の介護職員による入所者の観察項目を含む。案でも可）
C93: □ | D93: □ | E93: ・ | F93: ≪病院、訪問看護ｽﾃｰｼｮﾝ等との連携による場合≫ ２４時間連絡体制に係る契約書・協定書等（写）
B94: 在宅・入所相互利用体制 | C94: □ | D94: □ | E94: ・ | F94: 居宅介護支援事業者との合意書等（写）
C95: □ | D95: □ | E95: ・ | F95: 在宅・入所相互利用の介護に関する目標及び方針（案でも可。） | H95: 任意の様式で可。
C96: □ | D96: □ | E96: ・ | F96: 介護に関する目標及び方針の説明書・同意書様式 | H96: 任意の様式で可。
B97: 認知症専門ケア加算 | C97: □ | D97: □ | E97: ・ | F97: 認知症専門ケア加算に係る届出書＜別紙12-２＞
C98: □ | D98: □ | E98: ・ | F98: 認知症介護実践リーダー研修の修了証（写）
C99: □ | D99: □ | E99: ・ | F99: 認知症介護指導者養成研修の修了証（写） | H99: 加算Ⅱを算定する場合。
C100: □ | D100: □ | E100: ・ | F100: 認知症看護に係る適切な研修の修了証等（写）
C101: □ | D101: □ | E101: ・ | F101: 認知症ケアに関する留意事項の伝達又は技術的指導に係る会議の開催状況がわかるもの | H101: 予定の場合は、開催スケジュール（年間計画、実施フロー等開催時期と頻度がわかるもの）及び開催内容の概要を記載すること。
C102: □ | D102: □ | E102: ・ | F102: 算定開始月を含む年間又は年度の研修計画（認知症ケアに関する研修計画） | H102: 加算Ⅱを算定する場合。
B103: 認知症チームケア推進加算 | C103: □ | D103: □ | E103: ・ | F103: 認知症チームケア推進加算に係る届出書＜別紙40＞
...

Sheet チェック表
A1: 介護給付費算定に係る体制等に関する届出書・変更届出書 チェック表 （地域密着型介護老人福祉施設入所者生活介護）
A6: ※ 加算が算定されなくなる場合、欠員が解消される場合等についても同様に届け出てください。
A7: 届出事項 | C7: 開設 | D7: 加算 追加 ・ 加算 削除 | E7: 添 付 書 類 | H7: 備 考
A8: 共 通 事 項 （必ず必要な書類） | C8: □ | D8: □ | E8: ・ | F8: 介護給付費算定に係る体制等に関する届出書・変更届出書＜別紙3-2＞
C9: □ | D9: □ | E9: ・ | F9: 本チェック表 | H9: 自主点検したもの（チェック済）を提出すること。
C10: □ | D10: □ | E10: ・ | F10: 介護給付費算定に係る体制等状況一覧表＜別紙1-3＞ | H10: 別シートの「備考（1-3）」も必ず確認すること。
D11: □ | E11: ・ | F11: 運営規程 | H11: 介護給付費算定に係る体制等に関する変更に伴い，改正したもの。介護の内容・利用料金の変更等について記載が必要。
F12: ※ | G12: 変更後の運営規程又は新旧対照表
B15: LIFEへの登録 | C15: □ | D15: □ | H15: 別紙１(届)の変更内容欄にLIFE登録日を記入すること。
B16: 割引をする場合 | C16: □ | D16: □ | E16: ・ | F16: 指定居宅サービス事業者等による介護給付費の割引に係る割引率の設定について＜別紙５-2＞
B17: 施設等の区分
B18: 夜間勤務条件基準 | D18: □ | E18: ・ | F18: 理由書 | H18: 任意の様式で可。
D19: □ | E19: ・ | F19: 従業者の勤務の体制及び勤務形態一覧表＜別紙７＞又はこれに準じた勤務割表等
B20: 職員の欠員による減算の状況 | D20: □ | E20: ・ | F20: 理由書 | H20: 任意の様式で可。
D21: □ | E21: ・ | F21: 従業者の勤務の体制及び勤務形態一覧表＜別紙７＞又はこれに準じた勤務割表等 | H21: 看護職員、介護職員、介護支援専門員の配置状況がわかるもの。
D22: □ | E22: ・ | F22: 組織体制図 | H22: 任意の様式で可。
D23: □ | E23: ・ | F23: 該当する資格証（写） | H23: 欠員が解消される場合。
B24: ユニットケア体制
B25: 身体拘束廃止取組 の有無 | D25: □ | E25: ・ | F25: 理由書 | H25: 任意の様式で可。
D26: □ | E26: ・ | F26: 身体拘束改善計画又は身体拘束改善報告 | H26: 任意の様式で可（理事長名）。ただし、経緯、今後の改善策・職員教育、対象入所者の現状及び廃止に向けた取組みは必ず記載すること。
B27: 安全管理体制 | D27: □ | E27: ・ | F27: 理由書 | H27: 任意の様式で可。
D28: □ | E28: ・ | F28: 運営基準における事故の発生又は再発を防止するための措置を講じるための改善報告書 | H28: 任意の様式で可（理事長名）。ただし、今後の改善計画（指針の整備・体制の整備・従業者研修計画）を必ず記載すること。
D29: □ | E29: ・ | F29: 安全対策体制に関する確認書＜参考様式11＞ | H29: 担当者未設置に伴う減算を解消する場合。研修の欄以外を埋めること。
B30: 高齢者虐待防止措置実施の有無 | D30: □ | E30: ・ | F30: 理由書 | H30: 任意の様式で可。
D31: □ | E31: ・ | F31: 高齢者虐待防止措置に係る改善計画又は改善報告書 | H31: 任意の様式で可（代表者名）。ただし、未措置事項（指針、委員会、研修、担当者の設置）の現状及び改善に向けた取組みは必ず記載すること。
B32: 業務継続計画策定の有無 | D32: □ | E32: ・ | F32: 理由書 | H32: 任意の様式で可。
D33: □ | E33: ・ | F33: 業務継続計画に係る改善計画又は改善報告書 | H33: 任意の様式で可（代表者名）。ただし、未措置事項（BCP策定、訓練、研修）の現状及び改善に向けた取組みは必ず記載すること。
D34: □ | E34: ・ | F34: 業務継続計画（BCP） | H34: BCP未策定に伴う減算を解消する場合。感染症及び災害の項目を設定したもの。
B35: 栄養ケア・マネジメントの実施の有無 | C35: □ | D35: □ | E35: ・ | F35: 栄養マネジメント体制に関する届出書＜別紙38＞
D36: □ | E36: ・ | F36: 従業者の勤務の体制及び勤務形態一覧表＜別紙７＞又はこれに準じた勤務割表等 | H36: 算定開始する月の分。
C37: □ | D37: □ | E37: ・ | F37: 栄養士及び管理栄養士の資格証（写）
B38: 日常生活継続支援加算 ＊開設時からの算定は不可 | D38: □ | E38: ・ | F38: 日常生活継続支援加算に関する届出書＜別紙37＞
D39: □ | E39: ・ | F39: 日常生活継続支援加算に関する確認書①＜参考様式2-1＞ | H39: 前６月又は前12月における別紙37の人数等を計算したもの
D40: □ | E40: ・ | F40: 有資格者等の割合の参考計算書＜別紙７-2＞又はこれに準じた計算資料 | H40: 届出前３か月の介護職員のうち介護福祉士の常勤換算数を平均したもの
B41: テクノロジーの導入 （日常生活継続支援加算関係） | D41: □ | E41: ・ | F41: テクノロジーの導入による日常生活継続支援加算に関する届出書＜別紙37-2＞
D42: □ | E42: ・ | F42: 利用者の安全やケアの質の確保、職員の負担の軽減を図るための委員会の議事概要 | H42: 導入後から３月以上、継続して定期的に実施していることがわかるようにすること。
D43: □ | E43: ・ | F43: 介護機器の使用方法の講習やヒヤリ・ハット事例等の周知、その事例を通じた再発防止策の実習等を含む職員研修の記録 | H43: 算定開始月時点で予定の場合は、予定している研修等の概要がわかるもの。
D44: □ | E44: ・ | F44: 算定開始月を含む年間又は年度研修計画 若しくは介護機器の使用方法の講習等を定期的かつ臨機応変に実施するためのフロー（手順書）等 | H44: 上記の研修等に相当するもの（複数の研修や通常業務の手順等を組み合わせて内容を網羅する場合は、どの研修等で何を実施するのか）がわかるようにすること。
B45: 看護体制加算 | C45: □ | D45: □ | E45: ・ | F45: 看護体制加算に係る届出書＜別紙25-2＞
D46: □ | E46: ・ | F46: 従業者の勤務の体制及び勤務形態一覧表＜別紙７＞又はこれに準じた勤務割表等 | H46: 算定開始する月の分。
C47: □ | D47: □ | E47: ・ | F47: 該当する資格証（写） | H47: 看護師、准看護師。
C48: □ | D48: □ | E48: ・ | F48: 夜間における連絡・対応体制（オンコール体制）に関する取り決め（指針やマニュアル等で、看護職員不在時の介護職員による入所者の観察項目を含む。案でも可） | H48: 加算Ⅱを算定する場合。
C49: □ | D49: □ | E49: ・ | F49: ≪病院、訪問看護ｽﾃｰｼｮﾝ等との連携による場合≫ ２４時間連絡体制に係る契約書・協定書等（写）
B50: 夜勤職員配置加算 | C50: □ | D50: □ | E50: ・ | F50: 夜勤職員配置加算に係る確認書＜参考様式３＞
D51: □ | E51: ・ | F51: 従業者の勤務の体制及び勤務形態一覧表＜別紙７＞又はこれに準じた勤務割表等 | H51: 算定開始する月の分。
C52: □ | D52: □ | E52: ・ | F52: 登録喀痰吸引等事業者としての登録通知書（写） | H52: Ⅲ・Ⅳを算定する場合。
C53: □ | D53: □ | E53: ・ | F53: 介護福祉士・認定特定行為業務従事者名簿（写） | H53: Ⅲ・Ⅳを算定する場合。
B54: テクノロジーの導入 （夜勤職員配置加算関係） | D54: □ | E54: ・ | F54: テクノロジーの導入による夜勤職員配置加算に関する届出書＜別紙7-3＞又は＜別紙27＞
D55: □ | E55: ・ | F55: 利用者の安全やケアの質の確保、職員の負担の軽減を図るための委員会の議事概要 | H55: 導入後から３月以上、継続して定期的に実施していることがわかるようにすること。
D56: □ | E56: ・ | F56: 介護機器の使用方法の講習やヒヤリ・ハット事例等の周知、その事例を通じた再発防止策の実習等を含む職員研修の記録 | H56: 算定開始月時点で予定の場合は、予定している研修等の概要がわかるもの。
D57: □ | E57: ・ | F57: 算定開始月を含む年間又は年度研修計画 若しくは介護機器の使用方法の講習等を定期的かつ臨機応変に実施するためのフロー（手順書）等 | H57: 上記の研修等に相当するもの（複数の研修や通常業務の手順等を組み合わせて内容を網羅する場合は、どの研修等で何を実施するのか）がわかるようにすること。
B58: 準ユニットケア体制 | C58: □ | D58: □ | E58: ・ | F58: 従業者の勤務の体制及び勤務形態一覧表＜別紙７＞又はこれに準じた勤務割表等 | H58: 準ユニット部分の配置職員のみ。算定開始する月の分。
C59: □ | D59: □ | E59: ・ | F59: 準ユニット部分の平面図
B60: 生活機能向上連携加算 | C60: □ | D60: □ | E60: ・ | F60: 生活機能向上連携加算に関する確認書＜参考様式４＞
C61: □ | D61: □ | E61: ・ | F61: 訪問リハビリテーション若しくは通所リハビリテーションを実施している事業所又はリハビリテーションを実施している医療提供施設との協定書等
C62: □ | D62: □ | E62: ・ | F62: 共同等する上記事業所又は医療施設の理学療法士，作業療法士，言語聴覚士又は医師の資格証（写）
B63: 個別機能訓練加算 | D63: □ | E63: ・ | F63: 従業者の勤務の体制及び勤務形態一覧表＜別紙７＞又はこれに準じた勤務割表等 | H63: 算定開始する月の分。
C64: □ | D64: □ | E64: ・ | F64: 該当する資格証（写） | H64: 理学療法士、作業療法士、言語聴覚士、看護師、准看護師、柔道整復師、あん摩マッサージ指圧師、はり師、きゅう師。
C65: □ | D65: □ | E65: ・ | F65: ≪はり師又はきゅう師を機能訓練指導員として配置する場合≫ 理学療法士、作業療法士、言語聴覚士、看護職員、柔道整復師又はあん摩マッサージ指圧師の資格を有する機能訓練指導員を配置した事業所で６月以上機能訓練指導に従事した経験を有する者であることが分かる証明書 | H65: 任意の様式で可。
B66: ＡＤＬ維持等加算（申出の有無） | C66: □ | D66: □ | H66: ※LIFEへの登録が必須
B67: 若年性認知症利用者受入加算 | C67: □ | D67: □ | E67: ・ | F67: 若年性認知症入所者受入加算に関する届出書＜参考様式５＞
B68: 常勤専従医師配置 | D68: □ | E68: ・ | F68: 従業者の勤務の体制及び勤務形態一覧表＜別紙７＞又はこれに準じた勤務割表等 | H68: 算定開始する月の分。
C69: □ | D69: □ | E69: ・ | F69: 医師免許証（写）
C70: □ | D70: □ | E70: ・ | F70: 常勤専従医師の契約書（写）又は辞令（写）
B71: 精神科医師定期的療養指導 | C71: □ | D71: □ | E71: ・ | F71: 精神科医師定期的療養指導に関する届出書＜参考様式６＞
C72: □ | D72: □ | E72: ・ | F72: 医師免許証（写）
C73: □ | D73: □ | E73: ・ | F73: 精神科医師の契約書（写）
B74: 障害者生活支援体制 | C74: □ | D74: □ | E74: ・ | F74: 障害者生活支援体制に関する届出書＜参考様式７＞
D75: □ | E75: ・ | F75: 従業者の勤務の体制及び勤務形態一覧表＜別紙７＞又はこれに準じた勤務割表等 | H75: 算定開始する月の分。
C76: □ | D76: □ | E76: ・ | F76: 障害者生活支援員の経歴書（写）又は資格証（写） | H76: ①視覚障がい 点字の指導、点訳、歩行支援等のできる者 ②聴覚障がい又は言語機能障がい 手話通訳等のできる者 ③知的障がい 知的障害者福祉法第14条各号のいずれかに該当する者又はこれらに準ずる者 ④精神障害 精神保健福祉士又は精神保健及び精神障害者福祉に関する法律施行令第12条各号に掲げる者
C77: □ | D77: □ | E77: ・ | F77: 対象入所者全員分の身障手帳（写）又は療育手帳（写）
B78: 栄養マネジメント強化体制 | C78: □ | D78: □ | E78: ・ | F78: 栄養マネジメント体制に関する届出書＜別紙38＞ | H78: ※LIFEへの登録が必須
D79: □ | E79: ・ | F79: 従業者の勤務の体制及び勤務形態一覧表＜別紙７＞又はこれに準じた勤務割表等 | H79: 算定開始する月の分。
C80: □ | D80: □ | E80: ・ | F80: 栄養士及び管理栄養士の資格証（写）
B81: 療養食加算 | C81: □ | D81: □ | E81: ・ | F81: 療養食加算に関する届出書＜参考様式５＞
B82: 配置医師緊急時対応加算 | C82: □ | D82: □ | E82: ・ | F82: 配置医師緊急時対応加算に係る届出書＜別紙39＞
C83: □ | D83: □ | E83: ・ | F83: 医師の資格証（写）
B84: 看取り介護体制 | C84: □ | D84: □ | E84: ・ | F84: 看取り介護体制に係る届出書＜別紙34＞
C85: □ | D85: □ | E85: ・ | F85: 該当する資格証（写） | H85: 看護師。
C86: □ | D86: □ | E86: ・ | F86: 看取りに関する指針（案でも可）
C87: □ | D87: □ | E87: ・ | F87: 夜間における連絡・対応体制（オンコール体制）に関する取り決め（指針やマニュアル等で、看護職員不在時の介護職員による入所者の観察項目を含む。案でも可）
C88: □ | D88: □ | E88: ・ | F88: ≪病院、訪問看護ｽﾃｰｼｮﾝ等との連携による場合≫ ２４時間連絡体制に係る契約書・協定書等（写）
B89: 在宅・入所相互利用体制 | C89: □ | D89: □ | E89: ・ | F89: 居宅介護支援事業者との合意書等（写）
C90: □ | D90: □ | E90: ・ | F90: 在宅・入所相互利用の介護に関する目標及び方針（案でも可。） | H90: 任意の様式で可。
C91: □ | D91: □ | E91: ・ | F91: 介護に関する目標及び方針の説明書・同意書様式 | H91: 任意の様式で可。
B92: 小規模拠点集合体制 | C92: □ | D92: □
B93: 認知症専門ケア加算 | C93: □ | D93: □ | E93: ・ | F93: 認知症専門ケア加算に係る届出書＜別紙12-２＞
C94: □ | D94: □ | E94: ・ | F94: 認知症介護実践リーダー研修の修了証（写）
C95: □ | D95: □ | E95: ・ | F95: 認知症介護指導者養成研修の修了証（写） | H95: 加算Ⅱを算定する場合。
C96: □ | D96: □ | E96: ・ | F96: 認知症看護に係る適切な研修の修了証等（写）
C97: □ | D97: □ | E97: ・ | F97: 認知症ケアに関する留意事項の伝達又は技術的指導に係る会議の開催状況がわかるもの | H97: 予定の場合は、開催スケジュール（年間計画、実施フロー等開催時期と頻度がわかるもの）及び開催内容の概要を記載すること。
C98: □ | D98: □ | E98: ・ | F98: 算定開始月を含む年間又は年度の研修計画（認知症ケアに関する研修計画） | H98: 加算Ⅱを算定する場合。
B99: 認知症チームケア推進加算 | C99: □ | D99: □ | E99: ・ | F99: 認知症チームケア推進加算に係る届出書＜別紙40＞
C100: □ | D100: □ | E100: ・ | F100: 前３月の各月末時点での利用者総数に占める、要件に該当する利用者の割合（平均）を記録（計算）したもの | H100: 各月末時点ごとの利用者数及び自立度Ⅱ・Ⅲ・Ⅳ又はMに該当する利用者総数がわかるもの。
C101: □ | D101: □ | E101: ・ | F101: 認知症介護指導者養成研修の修了証（写） | H101: 加算Ⅰを算定する場合
C102: □ | D102: □ | E102: ・ | F102: 認知症介護実践リーダー研修の修了証（写） | H102: 加算Ⅱを算定する場合
C103: □ | D103: □ | E103: ・ | F103: 認知症チームケア推進研修の修了証（写）
B104: 褥瘡マネジメント加算 | C104: □ | D104: □ | E104: ・ | F104: 褥瘡マネジメントに関する届出書＜別紙41＞ | H104: ※LIFEへの登録が必須
B105: 排せつ支援加算 | C105: □ | D105: □ | E105: ・ | F105: 排せつ支援加算に関する届出書＜参考様式９＞ | H105: ※LIFEへの登録が必須
B106: 自立支援促進加算 | C106: □ | D106: □ | E106: ・ | F106: 自立支援促進加算に関する届出書＜参考様式10＞ | H106: ※LIFEへの登録が必須
...

Sheet 届出書 別紙3－2
B2: （別紙３－２）
AB3: 受付番号
B5: 介護給付費算定に係る体制等に関する届出書
B6: ＜地域密着型サービス事業者・地域密着型介護予防サービス事業者用＞＜居宅介護支援事業者・介護予防支援事業者用＞
AE7: 令和 | AH7: 年 | AK7: 月 | AN7: 日
H8: 嘉麻市長 | K8: 殿
AA9: 所在地
Z10: 名称
AA11: 代表者
C12: このことについて、以下のとおり関係書類を添えて届け出ます。
B14: 届 出 者 | C14: フリガナ
C15: 名 称
C16: 主たる事務所の所在地 | M16: (郵便番号 | T16: ー | X16: ）
Q17: 県 | V17: 群市
M18: (ビルの名称等)
C19: 連 絡 先 | M19: 電話番号 | AB19: FAX番号
C20: 法人である場合その種別 | V20: 法人所轄庁
C21: 代表者の職・氏名 | M21: 職名 | AB21: 氏名
C22: 代表者の住所 | M22: (郵便番号 | T22: ー | X22: ）
Q23: 県 | V23: 群市
B25: 事業所の状況 | C25: フリガナ
C26: 事業所・施設の名称
C27: 主たる事業所の所在地 | M27: (郵便番号 | T27: ー | X27: ）
Q28: 県 | V28: 群市
C30: 連 絡 先 | M30: 電話番号 | AB30: FAX番号
C31: 主たる事業所の所在地以外の場所で一部実施する場合の出張所等の所在地 | M31: (郵便番号 | T31: ー | X31: ）
Q32: 県 | V32: 群市
C34: 連 絡 先 | M34: 電話番号 | AB34: FAX番号
C35: 管理者の氏名
C36: 管理者の住所 | M36: (郵便番号 | T36: ー | X36: ）
Q37: 県 | V37: 群市
B39: 届出を行う事業所の状況 | C39: 同一所在地において行う 事業等の種類 | M39: 実施事業 | O39: 指定年 | R39: 異動等の区分 | AA39: 異動（予定） | AE39: 異動項目 | AI39: 市町村が定める単位の有無
O40: 月日 | AA40: 年月日 | AE40: (※変更の場合) | AI40: (市町村記載)
C41: 地域密着型サービス | E41: 夜間対応型訪問介護 | R41: □ | S41: 1新規 | U41: □ | V41: 2変更 | X41: □ | Y41: 3終了 | AI41: □ | AJ41: 1 有 | AL41: □ | AM41: 2 無
E42: 地域密着型通所介護 | R42: □ | S42: 1新規 | U42: □ | V42: 2変更 | X42: □ | Y42: 3終了 | AI42: □ | AJ42: 1 有 | AL42: □ | AM42: 2 無
E43: 療養通所介護 | R43: □ | S43: 1新規 | U43: □ | V43: 2変更 | X43: □ | Y43: 3終了 | AI43: □ | AJ43: 1 有 | AL43: □ | AM43: 2 無
E44: 認知症対応型通所介護 | R44: □ | S44: 1新規 | U44: □ | V44: 2変更 | X44: □ | Y44: 3終了 | AI44: □ | AJ44: 1 有 | AL44: □ | AM44: 2 無
E45: 小規模多機能型居宅介護 | R45: □ | S45: 1新規 | U45: □ | V45: 2変更 | X45: □ | Y45: 3終了 | AI45: □ | AJ45: 1 有 | AL45: □ | AM45: 2 無
E46: 認知症対応型共同生活介護 | R46: □ | S46: 1新規 | U46: □ | V46: 2変更 | X46: □ | Y46: 3終了 | AI46: □ | AJ46: 1 有 | AL46: □ | AM46: 2 無
E47: 地域密着型特定施設入居者生活介護 | R47: □ | S47: 1新規 | U47: □ | V47: 2変更 | X47: □ | Y47: 3終了 | AI47: □ | AJ47: 1 有 | AL47: □ | AM47: 2 無
E48: 地域密着型介護老人福祉施設入所者生活介護 | R48: □ | S48: 1新規 | U48: □ | V48: 2変更 | X48: □ | Y48: 3終了 | AI48: □ | AJ48: 1 有 | AL48: □ | AM48: 2 無
E49: 定期巡回・随時対応型訪問介護看護 | R49: □ | S49: 1新規 | U49: □ | V49: 2変更 | X49: □ | Y49: 3終了 | AI49: □ | AJ49: 1 有 | AL49: □ | AM49: 2 無
E50: 複合型サービス | R50: □ | S50: 1新規 | U50: □ | V50: 2変更 | X50: □ | Y50: 3終了 | AI50: □ | AJ50: 1 有 | AL50: □ | AM50: 2 無
E51: 介護予防認知症対応型通所介護 | R51: □ | S51: 1新規 | U51: □ | V51: 2変更 | X51: □ | Y51: 3終了 | AI51: □ | AJ51: 1 有 | AL51: □ | AM51: 2 無
E52: 介護予防小規模多機能型居宅介護 | R52: □ | S52: 1新規 | U52: □ | V52: 2変更 | X52: □ | Y52: 3終了 | AI52: □ | AJ52: 1 有 | AL52: □ | AM52: 2 無
E53: 介護予防認知症対応型共同生活介護 | R53: □ | S53: 1新規 | U53: □ | V53: 2変更 | X53: □ | Y53: 3終了 | AI53: □ | AJ53: 1 有 | AL53: □ | AM53: 2 無
C54: 居宅介護支援 | R54: □ | S54: 1新規 | U54: □ | V54: 2変更 | X54: □ | Y54: 3終了
C55: 介護予防支援 | R55: □ | S55: 1新規 | U55: □ | V55: 2変更 | X55: □ | Y55: 3終了
B56: 地域密着型サービス事業所番号等
B57: 指定を受けている市町村
B58: 介護保険事業所番号 | V58: （指定を受けている場合）
B59: 既に指定等を受けている事業
B60: 医療機関コード等
B61: 特記事項 | C61: 変 更 前 | U61: 変 更 後
B66: 関係書類 | G66: 別添のとおり
B68: 備考1 「受付番号」欄には記載しないでください。
B69: 2 「法人である場合その種別」欄は、申請者が法人である場合に、「社会福祉法人」「医療法人」「社団法人」
B70: 「財団法人」「株式会社」「有限会社」等の別を記入してください。
B71: 3 「法人所轄庁」欄、申請者が認可法人である場合に、その主務官庁の名称を記載してください。
B72: 4 「実施事業」欄は、該当する欄に「〇」を記入してください。
B73: 5 「異動等の区分」欄には、今回届出を行う事業所について該当する数字の横の□を■にしてください。
B74: 6 「異動項目」欄には、(別紙1－３)「介護給付費算定に係る体制等状況一覧表」に掲げる項目（施設等の区分、
E75: 人員配置区分、その他該当する体制等、割引）を記載してください。
B76: 7 「特記事項」欄には、異動の状況について具体的に記載してください。
B77: 8 「主たる事業所の所在地以外の場所で一部実施する場合の出張所等の所在地」について、複数の出張所等を
B78: 有する場合は、適宜欄を補正して、全ての出張所等の状況について記載してください。
B93: 2 「法人である場合その種別」欄は、申請者が法人である場合に、「社会福祉法人」「医療法人」「社団法人」「財団法人」「株式会社」「有限会社」等の別を記入してください。
B94: 3 「法人所轄庁」欄、申請者が認可法人である場合に、その主務官庁の名称を記載してください。
B95: 4 「実施事業」欄は、該当する欄に「〇」を記入してください。
B96: 5 「異動等の区分」欄には、今回届出を行う事業所について該当する数字に「〇」を記入してください。
B97: 6 「異動項目」欄には、(別紙1)「介護給付費算定に係る体制等状況一覧表」に掲げる項目を記載してください。
B98: 7 「市町村が定める率」欄には、全国共通の介護報酬額に対する市町村が定める率を記載してください。
B99: 8 「特記事項」欄には、異動の状況について具体的に記載してください。
B100: 9 「主たる事業所の所在地以外の場所で一部実施する場合の出張所等の所在地」について、複数の出張所等を有する場合は、適宜欄を補正して、全ての出張所等の状況について記載してください。

Sheet 別紙1-3 
A2: （別紙１－３）
A3: 介 護 給 付 費 算 定 に 係 る 体 制 等 状 況 一 覧 表 （地域密着型サービス・地域密着型介護予防サービス）
S5: 事 業 所 番 号
A7: 提供サービス | D7: 施設等の区分 | F7: 人員配置区分 | H7: そ の 他 該 当 す る 体 制 等 | Y7: LIFEへの登録 | AC7: 割 引
A8: 各サービス共通 | H8: 地域区分 | I8: □ | J8: １ １級地 | M8: □ | N8: ６ ２級地 | Q8: □ | R8: ７ ３級地 | U8: □ | V8: ２ ４級地
I9: □ | J9: ３ ５級地 | M9: □ | N9: ４ ６級地 | Q9: □ | R9: ９ ７級地 | U9: □ | V9: ５ その他
H10: 夜間勤務条件基準 | I10: □ | J10: １ 基準型 | M10: □ | N10: ６ 減算型 | Y10: □ | Z10: １ なし | AC10: □ | AD10: １ なし
H11: 職員の欠員による減算の状況 | I11: □ | J11: １ なし | M11: □ | N11: ２ 看護職員 | Q11: □ | R11: ３ 介護職員 | Y11: □ | Z11: ２ あり | AC11: □ | AD11: ２ あり
I12: □ | J12: ４ 介護支援専門員
H13: ユニットケア体制 | I13: □ | J13: １ 対応不可 | M13: □ | N13: ２ 対応可
H14: 身体拘束廃止取組の有無 | I14: □ | J14: １ 減算型 | M14: □ | N14: ２ 基準型
H15: 安全管理体制 | I15: □ | J15: １ 減算型 | M15: □ | N15: ２ 基準型
H16: 高齢者虐待防止措置実施の有無 | I16: □ | J16: １ 減算型 | M16: □ | N16: ２ 基準型
H17: 業務継続計画策定の有無 | I17: □ | J17: １ 減算型 | M17: □ | N17: ２ 基準型
H18: 栄養ケア・マネジメントの 実施の有無 | I18: □ | J18: １ なし | L18: □ | M18: ２ あり
H20: 日常生活継続支援加算 | I20: □ | J20: １ なし | L20: □ | M20: ２ あり
H21: テクノロジーの導入 （日常生活継続支援加算関係） | I21: □ | J21: １ なし | L21: □ | M21: ２ あり
H23: 看護体制加算Ⅰ | I23: □ | J23: １ なし | L23: □ | M23: ２ あり
H24: 看護体制加算Ⅱ | I24: □ | J24: １ なし | L24: □ | M24: ２ あり
H25: 夜勤職員配置加算 | I25: □ | J25: １ なし | L25: □ | M25: ２ 加算Ⅰ・加算Ⅱ | Q25: □ | R25: ３ 加算Ⅲ・加算Ⅳ
H26: テクノロジーの導入 （夜勤職員配置加算関係） | I26: □ | J26: １ なし | L26: □ | M26: ２ あり
H28: 準ユニットケア体制 | I28: □ | J28: １ 対応不可 | M28: □ | N28: ２ 対応可
D29: □ | E29: １ 地域密着型介護老人福祉施設 | H29: 生活機能向上連携加算 | I29: □ | J29: １ なし | L29: □ | M29: ３ 加算Ⅰ | O29: □ | P29: ２ 加算Ⅱ
C30: 地域密着型 | D30: □ | E30: ２ サテライト型地域密着型 | F30: □ | G30: １ 経過的施設以外 | H30: 個別機能訓練加算 | I30: □ | J30: １ なし | L30: □ | M30: ３ 加算Ⅰ | O30: □ | P30: ４ 加算Ⅱ | R30: □ | S30: ５ 加算Ⅲ
A31: □ | B31: 54 | C31: 介護老人福祉施設 | E31: 介護老人福祉施設 | F31: □ | G31: ２ 経過的施設 | H31: ADL維持等加算〔申出〕の有無 | I31: □ | J31: １ なし | L31: □ | M31: ２ あり
C32: 入所者生活介護 | D32: □ | E32: ３ ユニット型地域密着型介護老人福祉施設 | H32: 若年性認知症入所者受入加算 | I32: □ | J32: １ なし | L32: □ | M32: ２ あり
D33: □ | E33: ４ サテライト型ユニット型 | H33: 常勤専従医師配置 | I33: □ | J33: １ なし | L33: □ | M33: ２ あり
E34: 地域密着型介護老人福祉施設 | H34: 精神科医師定期的療養指導 | I34: □ | J34: １ なし | L34: □ | M34: ２ あり
H35: 障害者生活支援体制 | I35: □ | J35: １ なし | L35: □ | M35: ２ 加算Ⅰ | O35: □ | P35: ３ 加算Ⅱ
H36: 栄養マネジメント強化体制 | I36: □ | J36: １ なし | L36: □ | M36: ２ あり
H37: 療養食加算 | I37: □ | J37: １ なし | L37: □ | M37: ２ あり
H38: 配置医師緊急時対応加算 | I38: □ | J38: １ なし | L38: □ | M38: ２ あり
H39: 看取り介護体制 | I39: □ | J39: １ なし | L39: □ | M39: ２ 加算Ⅰ | O39: □ | P39: ３ 加算Ⅱ
H40: 在宅・入所相互利用体制 | I40: □ | J40: １ 対応不可 | M40: □ | N40: ２ 対応可
H41: 小規模拠点集合体制 | I41: □ | J41: １ なし | L41: □ | M41: ２ あり
H42: 認知症専門ケア加算 | I42: □ | J42: １ なし | L42: □ | M42: ２ 加算Ⅰ | O42: □ | P42: ３ 加算Ⅱ
H43: 認知症チームケア推進加算 | I43: □ | J43: １ なし | L43: □ | M43: ２ 加算Ⅰ | O43: □ | P43: ３ 加算Ⅱ
H44: 褥瘡マネジメント加算 | I44: □ | J44: １ なし | L44: □ | M44: ２ あり
H45: 排せつ支援加算 | I45: □ | J45: １ なし | L45: □ | M45: ２ あり
H46: 自立支援促進加算 | I46: □ | J46: １ なし | L46: □ | M46: ２ あり
H47: 科学的介護推進体制加算 | I47: □ | J47: １ なし | L47: □ | M47: ２ あり
H48: 安全対策体制 | I48: □ | J48: １ なし | L48: □ | M48: ２ あり
H49: 高齢者施設等感染対策向上加算Ⅰ | I49: □ | J49: １ なし | L49: □ | M49: ２ あり
H50: 高齢者施設等感染対策向上加算Ⅱ | I50: □ | J50: １ なし | L50: □ | M50: ２ あり
H51: 生産性向上推進体制加算 | I51: □ | J51: １ なし | L51: □ | M51: ２ 加算Ⅰ | O51: □ | P51: ３ 加算Ⅱ
H52: サービス提供体制強化加算 | I52: □ | J52: １ なし | L52: □ | M52: ６ 加算Ⅰ | O52: □ | P52: ５ 加算Ⅱ | R52: □ | S52: ７ 加算Ⅲ
H53: 介護職員等処遇改善加算 | I53: □ | J53: １ なし | L53: □ | M53: ７ 加算Ⅰイ | O53: □ | P53: S 加算Ⅰロ
I54: □ | J54: ８ 加算Ⅱイ | L54: □ | M54: T 加算Ⅱロ | O54: □ | P54: ９ 加算Ⅲ | R54: □ | S54: Ａ 加算Ⅳ

Sheet 備考1-3
B1: 備考 （別紙１－３）地域密着型サービス・地域密着型介護予防サービス
B3: 備考 １ 事業所・施設において、施設等の区分欄、人員配置区分欄、LIFE（科学的介護情報システム（Long-term care Information system For Evidence）への登録欄、その他該当する体制等欄に掲げる項目 につき該当する番号の横の□を■にしてください。
B4: ２ 「施設等の区分」及び「その他該当する体制等」欄で施設・設備等に係る加算（減算）の届出については、「平面図」（別紙６）を添付してください。
B5: ３ 人員配置に係る届出については、勤務体制がわかる書類（「従業者の勤務の体制及び勤務形態一覧表」（別紙７）又はこれに準じた勤務割表等）を添付してください。
B6: ４ 「割引｣を｢あり｣と記載する場合は「地域密着型サービス事業者等による介護給付費の割引に係る割引率の設定について」（別紙5－2）を添付してください。
B7: ５ 「訪問看護体制減算」、「看護体制強化加算」及び「サテライト体制未整備減算」については、「看護体制及びサテライト体制に係る届出書」（別紙49）を添付してください。
B8: ６ 「緊急時訪問看護加算」「緊急時対応加算」「特別管理体制」「ターミナルケア体制」については、「緊急時（介護予防）訪問看護加算・緊急時対応加算・特別管理体制・ターミナルケア体制に係る届出書」（別紙16）を添付してください。
B9: ７ 「総合マネジメント体制強化加算」については、「総合マネジメント体制強化加算に係る届出書」（別紙42）を添付してください。
B10: ８ 「認知症専門ケア加算」については、「認知症専門ケア加算に係る届出書（訪問介護、（介護予防）訪問入浴介護、定期巡回・随時対応型訪問介護看護、夜間対応型訪問介護）」（別紙12）又は 「認知症専門ケア加算に係る届出書（（介護予防）短期入所生活介護、（介護予防）短期入所療養介護、（介護予防）特定施設入居者生活介護、（介護予防）認知症対応型共同生活介護、地域密着型特定施設入居者生活介護、 地域密着型介護老人福祉施設入所者生活介護、介護老人福祉施設、介護老人保健施設、介護医療院）」（別紙12-2）」を添付してください。
B11: また、「認知症チームケア推進加算」については、「認知症チームケア推進加算に係る届出書」（別紙40）を添付してください。
B12: ９ 「24時間通報対応加算」については、「24時間通報対応加算に係る届出書」（別紙43）を添付してください。
B13: 10 「その他該当する体制等」欄で人員配置に係る加算（減算）の届出については、それぞれ加算（減算）の要件となる職員の配置状況や勤務体制がわかる書類を添付してください。
... B43: 備考 １ この表は、事業所所在地以外の場所で一部事業を実施する出張所等がある場合について記載することとし、複数出張所等を有する場合は出張所ごとに提出してください。

Sheet 【結合済】別紙１－２
A2: （別紙１－２）
A3: 介 護 給 付 費 算 定 に 係 る 体 制 等 状 況 一 覧 表 （介護予防サービス）
S5: 事 業 所 番 号
A7: 提供サービス | D7: 施設等の区分 | F7: 人員配置区分 | H7: そ の 他 該 当 す る 体 制 等 | Y7: LIFEへの登録 | AC7: 割 引
A8: 各サービス共通 | H8: 地域区分 | I8: □ | J8: １ １級地 | M8: □ | N8: ６ ２級地 | Q8: □ | R8: ７ ３級地 | U8: □ | V8: ２ ４級地
I9: □ | J9: ３ ５級地 | M9: □ | N9: ４ ６級地 | Q9: □ | R9: ９ ７級地 | U9: □ | V9: ５ その他
H10: 高齢者虐待防止措置実施の有無 | I10: □ | J10: １ 減算型 | M10: □ | N10: ２ 基準型 | Y10: □ | Z10: １ なし | AC10: □ | AD10: １ なし
H11: 特別地域加算 | I11: □ | J11: １ なし | L11: □ | M11: ２ あり | Y11: □ | Z11: ２ あり | AC11: □ | AD11: ２ あり
H12: 中山間地域等における小規模事業所 加算（地域に関する状況） | I12: □ | J12: １ 非該当 | M12: □ | N12: ２ 該当
H14: 中山間地域等における小規模事業所 加算（規模に関する状況） | I14: □ | J14: １ 非該当 | M14: □ | N14: ２ 該当
A15: □ | B15: 62 | C15: 介護予防訪問入浴介護
H16: 認知症専門ケア加算 | I16: □ | J16: １ なし | L16: □ | M16: ２ 加算Ⅰ | O16: □ | P16: ３ 加算Ⅱ
H17: サービス提供体制強化加算 | I17: □ | J17: １ なし | L17: □ | M17: ４ 加算Ⅰ | O17: □ | P17: ３ 加算Ⅱ | R17: □ | S17: ５ 加算Ⅲ
H18: 介護職員処遇改善加算 | I18: □ | J18: １ なし | L18: □ | M18: ６ 加算Ⅰ | O18: □ | P18: ５ 加算Ⅱ | R18: □ | S18: ２ 加算Ⅲ
H19: 介護職員等特定処遇改善加算 | I19: □ | J19: １ なし | L19: □ | M19: ２ 加算Ⅰ | O19: □ | P19: ３ 加算Ⅱ
H20: 介護職員等ベースアップ等支援加算 | I20: □ | J20: １ なし | L20: □ | M20: ２ あり
H21: 特別地域加算 | I21: □ | J21: １ なし | L21: □ | M21: ２ あり | Y21: □ | Z21: １ なし
H22: 中山間地域等における小規模事業所 加算（地域に関する状況） | I22: □ | J22: １ 非該当 | M22: □ | N22: ２ 該当 | Y22: □ | Z22: ２ あり
H24: 中山間地域等における小規模事業所 加算（規模に関する状況） | I24: □ | J24: １ 非該当 | M24: □ | N24: ２ 該当
A25: □ | B25: 63 | C25: 介護予防訪問看護 | D25: □ | E25: １ 訪問看護ステーション
D26: □ | E26: ２ 病院又は診療所 | H26: 緊急時介護予防訪問看護加算 | I26: □ | J26: １ なし | L26: □ | M26: ２ あり
H27: 特別管理体制 | I27: □ | J27: １ 対応不可 | M27: □ | N27: ２ 対応可
H28: 看護体制強化加算 | I28: □ | J28: １ なし | L28: □ | M28: ２ あり
H29: サービス提供体制強化加算 | I29: □ | J29: １ なし | L29: □ | M29: ３ 加算Ⅰ | O29: □ | P29: ４ 加算Ⅱ
H30: 特別地域加算 | I30: □ | J30: １ なし | L30: □ | M30: ２ あり | Y30: □ | Z30: １ なし
H31: 中山間地域等における小規模事業所加算（地域に関する状況） | I31: □ | J31: １ 非該当 | M31: □ | N31: ２ 該当 | Y31: □ | Z31: ２ あり
D32: □ | E32: １ 病院又は診療所
A33: □ | B33: 64 | C33: 介護予防訪問 | D33: □ | E33: ２ 介護老人保健施設 | H33: 中山間地域等における小規模事業所加算（規模に関する状況） | I33: □ | J33: １ 非該当 | M33: □ | N33: ２ 該当
C34: リハビリテーション | D34: □ | E34: ３ 介護医療院
H35: サービス提供体制強化加算 | I35: □ | J35: １ なし | L35: □ | M35: ３ 加算Ⅰ | O35: □ | P35: ４ 加算Ⅱ
H36: 特別地域加算 | I36: □ | J36: １ なし | L36: □ | M36: ２ あり | Y36: □ | Z36: １ なし
H37: 中山間地域等における小規模事業所加算（地域に関する状況） | I37: □ | J37: １ 非該当 | M37: □ | N37: ２ 該当 | Y37: □ | Z37: ２ あり
A38: □ | B38: 34 | C38: 介護予防
C39: 居宅療養管理指導 | H39: 中山間地域等における小規模事業所加算（規模に関する状況） | I39: □ | J39: １ 非該当 | M39: □ | N39: ２ 該当
H41: 職員の欠員による減算の状況 | I41: □ | J41: １ なし | M41: □ | N41: ２ 医師 | Q41: □ | R41: ３ 看護職員 | U41: □ | V41: ４ 介護職員 | Y41: □ | Z41: １ なし
I42: □ | J42: ５ 理学療法士 | M42: □ | N42: ６ 作業療法士 | Q42: □ | R42: ７ 言語聴覚士 | Y42: □ | Z42: ２ あり
H43: 生活行為向上ﾘﾊﾋﾞﾘﾃｰｼｮﾝ実施加算 | I43: □ | J43: １ なし | L43: □ | M43: ２ あり
H44: 若年性認知症利用者受入加算 | I44: □ | J44: １ なし | L44: □ | M44: ２ あり
H45: 運動器機能向上体制 | I45: □ | J45: １ なし | L45: □ | M45: ２ あり
D46: □ | E46: １ 病院又は診療所 | H46: 栄養アセスメント・栄養改善体制 | I46: □ | J46: １ なし | L46: □ | M46: ２ あり
A47: □ | B47: 66 | C47: 介護予防通所 | D47: □ | E47: ２ 介護老人保健施設 | H47: 口腔機能向上加算 | I47: □ | J47: １ なし | L47: □ | M47: ２ あり
C48: リハビリテーション | D48: □ | E48: ３ 介護医療院 | H48: 選択的サービス複数実施加算 | I48: □ | J48: １ なし | L48: □ | M48: ２ あり
H49: 科学的介護推進体制加算 | I49: □ | J49: １ なし | L49: □ | M49: ２ あり
H50: サービス提供体制強化加算 | I50: □ | J50: １ なし | L50: □ | M50: ５ 加算Ⅰ | O50: □ | P50: ４ 加算Ⅱ | R50: □ | S50: ６ 加算Ⅲ
H51: 介護職員処遇改善加算 | I51: □ | J51: １ なし | L51: □ | M51: ６ 加算Ⅰ | O51: □ | P51: ５ 加算Ⅱ | R51: □ | S51: ２ 加算Ⅲ
H52: 介護職員等特定処遇改善加算 | I52: □ | J52: １ なし | L52: □ | M52: ２ 加算Ⅰ | O52: □ | P52: ３ 加算Ⅱ
H53: 介護職員等ベースアップ等支援加算 | I53: □ | J53: １ なし | L53: □ | M53: ２ あり
H54: 夜間勤務条件基準 | I54: □ | J54: １ 基準型 | M54: □ | N54: ６ 減算型 | Y54: □ | Z54: １ なし | AC54: □ | AD54: １ なし
H55: 職員の欠員による減算の状況 | I55: □ | J55: １ なし | M55: □ | N55: ２ 看護職員 | Q55: □ | R55: ３ 介護職員 | Y55: □ | Z55: ２ あり | AC55: □ | AD55: ２ あり
H56: ユニットケア体制 | I56: □ | J56: １ 対応不可 | M56: □ | N56: ２ 対応可
H57: 高齢者虐待防止措置実施の有無 | I57: □ | J57: １ 減算型 | M57: □ | N57: ２ 基準型
H58: 業務継続計画策定の有無 | I58: □ | J58: １ 減算型 | M58: □ | N58: ２ 基準型
H59: 共生型サービスの提供 （短期入所事業所） | I59: □ | J59: １ なし | L59: □ | M59: ２ あり
H61: 生活相談員配置等加算 | I61: □ | J61: １ なし | L61: □ | M61: ２ あり
H62: 生活機能向上連携加算 | I62: □ | J62: １ なし | L62: □ | M62: ３ 加算Ⅰ | O62: □ | P62: ２ 加算Ⅱ
H63: 機能訓練指導体制 | I63: □ | J63: １ なし | L63: □ | M63: ２ あり
H64: 個別機能訓練体制 | I64: □ | J64: １ なし | L64: □ | M64: ２ あり
D65: □ | E65: １ 単独型 | H65: 若年性認知症利用者受入加算 | I65: □ | J65: １ なし | L65: □ | M65: ２ あり
A66: □ | B66: 24 | C66: 介護予防短期入所生活介護 | D66: □ | E66: ２ 併設型・空床型 | H66: 送迎体制 | I66: □ | J66: １ 対応不可 | M66: □ | N66: ２ 対応可
D67: □ | E67: ３ 単独型ユニット型 | H67: 口腔連携強化加算 | I67: □ | J67: １ なし | L67: □ | M67: ２ あり
D68: □ | E68: ４ 併設型・空床型ユニット型 | H68: 療養食加算 | I68: □ | J68: １ なし | L68: □ | M68: ２ あり
H69: 認知症専門ケア加算 | I69: □ | J69: １ なし | L69: □ | M69: ２ 加算Ⅰ | O69: □ | P69: ３ 加算Ⅱ
H70: 生産性向上推進体制加算 | I70: □ | J70: １ なし | L70: □ | M70: ２ 加算Ⅰ | O70: □ | P70: ３ 加算Ⅱ
H71: サービス提供体制強化加算 （単独型） | I71: □ | J71: １ なし | L71: □ | M71: ６ 加算Ⅰ | O71: □ | P71: ５ 加算Ⅱ | R71: □ | S71: ７ 加算Ⅲ
H73: サービス提供体制強化加算 （併設型、空床型） | I73: □ | J73: １ なし | L73: □ | M73: ６ 加算Ⅰ | O73: □ | P73: ５ 加算Ⅱ | R73: □ | S73: ７ 加算Ⅲ
H75: 併設本体施設における介護職員等特定処遇改善加算Ⅰの届出状況 | I75: □ | J75: １ なし | L75: □ | M75: ２ あり
H77: 介護職員処遇改善加算 | I77: □ | J77: １ なし | L77: □ | M77: ６ 加算Ⅰ | O77: □ | P77: ５ 加算Ⅱ | R77: □ | S77: ２ 加算Ⅲ
H78: 介護職員等特定処遇改善加算 | I78: □ | J78: １ なし | L78: □ | M78: ２ 加算Ⅰ | O78: □ | P78: ３ 加算Ⅱ
H79: 介護職員等ベースアップ等支援加算 | I79: □ | J79: １ なし | L79: □ | M79: ２ あり
H80: 夜間勤務条件基準 | I80: □ | J80: １ 基準型 | M80: □ | N80: ６ 減算型 | Y80: □ | Z80: １ なし
H81: 職員の欠員による減算の状況 | I81: □ | J81: １ なし | M81: □ | N81: ２ 医師 | Q81: □ | R81: ３ 看護職員 | U81: □ | V81: ４ 介護職員 | Y81: □ | Z81: ２ あり
I82: □ | J82: ５ 理学療法士 | M82: □ | N82: ６ 作業療法士 | Q82: □ | R82: ７ 言語聴覚士
H83: ユニットケア体制 | I83: □ | J83: １ 対応不可 | M83: □ | N83: ２ 対応可
H84: 高齢者虐待防止措置実施の有無 | I84: □ | J84: １ 減算型 | M84: □ | N84: ２ 基準型
H85: 業務継続計画策定の有無 | I85: □ | J85: １ 減算型 | M85: □ | N85: ２ 基準型
H86: 夜勤職員配置加算 | I86: □ | J86: １ なし | L86: □ | M86: ２ あり
H87: 若年性認知症利用者受入加算 | I87: □ | J87: １ なし | L87: □ | M87: ２ あり
H88: 在宅復帰・在宅療養支援機能加算 | I88: □ | J88: １ なし | L88: □ | M88: ２ 加算Ⅰ | O88: □ | P88: ３ 加算Ⅱ
H89: 送迎体制 | I89: □ | J89: １ 対応不可 | M89: □ | N89: ２ 対応可
H90: 口腔連携強化加算 | I90: □ | J90: １ なし | L90: □ | M90: ２ あり
A91: □ | B91: 25 | C91: 介護予防短期入所療養介護 | D91: □ | E91: １ 介護老人保健施設（Ⅰ） | F91: □ | G91: １ 基本型 | H91: 療養食加算 | I91: □ | J91: １ なし | L91: □ | M91: ２ あり
D92: □ | E92: ２ ユニット型介護老人保健施設（Ⅰ） | F92: □ | G92: ２ 在宅強化型 | H92: 認知症専門ケア加算 | I92: □ | J92: １ なし | L92: □ | M92: ２ 加算Ⅰ | O92: □ | P92: ３ 加算Ⅱ
H93: 生産性向上推進体制加算 | I93: □ | J93: １ なし | L93: □ | M93: ２ 加算Ⅰ | O93: □ | P93: ３ 加算Ⅱ
H94: サービス提供体制強化加算 | I94: □ | J94: １ なし | L94: □ | M94: ６ 加算Ⅰ | O94: □ | P94: ５ 加算Ⅱ | R94: □ | S94: ７ 加算Ⅲ
H95: 併設本体施設における介護職員等特定処遇改善加算Ⅰの届出状況 | I95: □ | J95: １ なし | L95: □ | M95: ２ あり
H97: 介護職員処遇改善加算 | I97: □ | J97: １ なし | L97: □ | M97: ６ 加算Ⅰ | O97: □ | P97: ５ 加算Ⅱ | R97: □ | S97: ２ 加算Ⅲ
H98: 介護職員等特定処遇改善加算 | I98: □ | J98: １ なし | L98: □ | M98: ２ 加算Ⅰ | O98: □ | P98: ３ 加算Ⅱ
H99: 介護職員等ベースアップ等支援加算 | I99: □ | J99: １ なし | L99: □ | M99: ２ あり
H100: 夜間勤務条件基準 | I100: □ | J100: １ 基準型 | M100: □ | N100: ６ 減算型 | Y100: □ | Z100: １ なし
H101: 職員の欠員による減算の状況 | I101: □ | J101: １ なし | M101: □ | N101: ２ 医師 | Q101: □ | R101: ３ 看護職員 | U101: □ | V101: ４ 介護職員 | Y101: □ | Z101: ２ あり
I102: □ | J102: ５ 理学療法士 | M102: □ | N102: ６ 作業療法士 | Q102: □ | R102: ７ 言語聴覚士
H103: ユニットケア体制 | I103: □ | J103: １ 対応不可 | M103: □ | N103: ２ 対応可
H104: 高齢者虐待防止措置実施の有無 | I104: □ | J104: １ 減算型 | M104: □ | N104: ２ 基準型
H105: 業務継続計画策定の有無 | I105: □ | J105: １ 減算型 | M105: □ | N105: ２ 基準型
H106: 夜勤職員配置加算 | I106: □ | J106: １ なし | L106: □ | M106: ２ あり
H107: 若年性認知症利用者受入加算 | I107: □ | J107: １ なし | L107: □ | M107: ２ あり
H108: 送迎体制 | I108: □ | J108: １ 対応不可 | M108: □ | N108: ２ 対応可
H109: 特別療養費加算項目 | I109: □ | J109: １ 重症皮膚潰瘍管理指導 | P109: □ | Q109: ２ 薬剤管理指導
D110: □ | E110: ５ 介護老人保健施設（Ⅱ） | H110: 療養体制維持特別加算Ⅰ | I110: □ | J110: １ なし | L110: □ | M110: ２ あり
A111: □ | B111: 25 | C111: 介護予防短期入所療養介護 | D111: □ | E111: ６ ユニット型介護老人保健施設（Ⅱ） | H111: 療養体制維持特別加算Ⅱ | I111: □ | J111: １ なし | L111: □ | M111: ２ あり
...

Sheet 【結合済】備考（1－2）
B1: 備考 （別紙１－２）介護予防サービス
B3: 備考 １ 事業所・施設において、施設等の区分欄、人員配置区分欄、LIFE（科学的介護情報システム（Long-term care Information system For Evidence）への登録欄、その他該当する体制等欄に掲げる項目につき該当する番号の横の□を■にしてください。
B4: ２ 「施設等の区分」及び「その他該当する体制等」欄で施設・設備等に係る加算（減算）の届出については、「平面図」（別紙６）を添付してください。
B5: ３ 介護老人保健施設における「施設等の区分」及び「在宅復帰・在宅療養支援機能加算」に係る届出については、「介護老人保健施設（基本型・在宅強化型）の基本施設サービス費及び在宅復帰・在宅療養支援機能加算に係る届出書」
B6: （令和６年９月サービス提供分までは別紙28、令和６年10月サービス提供分以降は別紙29-2）又は「介護老人保健施設（療養型）の基本施設サービス費及び療養体制維持特別加算（Ⅱ）に係る届出書」（別紙29-3）を添付してください。
B7: ４ 病院又は診療所における短期入所療養介護（療養機能強化型以外）における「施設等の区分」に係る届出については、「病院又は診療所における短期入所療養介護（療養機能強化型以外）の基本施設サービス費に係る届出書」（別紙29－4）を添付してください。
B8: ５ 介護医療院における「施設等の区分」に係る届出ついては、「Ⅰ型介護医療院の基本施設サービス費に係る届出」（別紙30）又は「Ⅱ型介護医療院の基本施設サービス費に係る届出」（別紙30-2）を添付してください。
B9: ６ 人員配置に係る届出については、勤務体制がわかる書類（「従業者の勤務の体制及び勤務形態一覧表」（別紙７）又はこれに準じた勤務割表等）を添付してください。
B10: ７ 「割引｣を｢あり｣と記載する場合は「指定居宅サービス事業所等による介護給付費の割引に係る割引率の設定について」（別紙５）を添付してください。
B11: ８ 「認知症専門ケア加算」については、「認知症専門ケア加算に係る届出書（訪問介護、（介護予防）訪問入浴介護、定期巡回・随時対応型訪問介護看護、夜間対応型訪問介護）」（別紙12）又は 「認知症専門ケア加算に係る届出書（（介護予防）短期入所生活介護、（介護予防）短期入所療養介護、（介護予防）特定施設入居者生活介護、（介護予防）認知症対応型共同生活介護、地域密着型特定施設入居者生活介護、 地域密着型介護老人福祉施設入所者生活介護、介護老人福祉施設、介護老人保健施設、介護医療院）」（別紙12－2）」を添付してください。
B12: ９ 「緊急時介護予防訪問看護加算」「特別管理体制」については、「緊急時（介護予防）訪問看護加算・特別管理体制・ターミナルケア体制に係る届出書」（別紙16）を添付してください。
B13: 10 「看護体制強化加算」については、「看護体制強化加算に係る届出書」（別紙19）を添付してください。
... B47: 備考 １ この表は、事業所所在地以外の場所で一部事業を実施する出張所等がある場合について記載することとし、複数出張所等を有する場合は出張所ごとに提出してください。

Sheet 【結合済】別紙１－３
A2: （別紙１－３）
A3: 介 護 給 付 費 算 定 に 係 る 体 制 等 状 況 一 覧 表 （地域密着型サービス・地域密着型介護予防サービス）
S5: 事 業 所 番 号
A7: 提供サービス | D7: 施設等の区分 | F7: 人員配置区分 | H7: そ の 他 該 当 す る 体 制 等 | Y7: LIFEへの登録 | AC7: 割 引
A8: 各サービス共通 | H8: 地域区分 | I8: □ | J8: １ １級地 | M8: □ | N8: ６ ２級地 | Q8: □ | R8: ７ ３級地 | U8: □ | V8: ２ ４級地
I9: □ | J9: ３ ５級地 | M9: □ | N9: ４ ６級地 | Q9: □ | R9: ９ ７級地 | U9: □ | V9: ５ その他
H10: 高齢者虐待防止措置実施の有無 | I10: □ | J10: １ 減算型 | M10: □ | N10: ２ 基準型 | Y10: □ | Z10: １ なし | AC10: □ | AD10: １ なし
H11: 特別地域加算 | I11: □ | J11: １ なし | L11: □ | M11: ２ あり | Y11: □ | Z11: ２ あり | AC11: □ | AD11: ２ あり
H12: 中山間地域等における小規模事業所加算（地域に関する状況） | I12: □ | J12: １ 非該当 | M12: □ | N12: ２ 該当
H14: 中山間地域等における小規模事業所加算（規模に関する状況） | I14: □ | J14: １ 非該当 | M14: □ | N14: ２ 該当
H16: 緊急時訪問看護加算 | I16: □ | J16: １ なし | L16: □ | M16: ３ 加算Ⅰ | O16: □ | P16: ２ 加算Ⅱ
A17: □ | B17: 76 | C17: 定期巡回・随時対応型 | D17: □ | E17: １ 一体型 | H17: 特別管理体制 | I17: □ | J17: １ 対応不可 | M17: □ | N17: ２ 対応可
C18: 訪問介護看護 | D18: □ | E18: ２ 連携型 | H18: ターミナルケア体制 | I18: □ | J18: １ なし | L18: □ | M18: ２ あり
H19: 総合マネジメント体制強化加算 | I19: □ | J19: １ なし | L19: □ | M19: ３ 加算Ⅰ | O19: □ | P19: ２ 加算Ⅱ
H20: 認知症専門ケア加算 | I20: □ | J20: １ なし | L20: □ | M20: ２ 加算Ⅰ | O20: □ | P20: ３ 加算Ⅱ
H21: 口腔連携強化加算 | I21: □ | J21: １ なし | L21: □ | M21: ２ あり
H22: サービス提供体制強化加算 | I22: □ | J22: １ なし | L22: □ | M22: ６ 加算Ⅰ | O22: □ | P22: ５ 加算Ⅱ | R22: □ | S22: ７ 加算Ⅲ
H23: 介護職員処遇改善加算 | I23: □ | J23: １ なし | L23: □ | M23: ６ 加算Ⅰ | O23: □ | P23: ５ 加算Ⅱ | R23: □ | S23: ２ 加算Ⅲ
H24: 介護職員等特定処遇改善加算 | I24: □ | J24: １ なし | L24: □ | M24: ２ 加算Ⅰ | O24: □ | P24: ３ 加算Ⅱ
H25: 介護職員等ベースアップ等支援加算 | I25: □ | J25: １ なし | L25: □ | M25: ２ あり
H26: 高齢者虐待防止措置実施の有無 | I26: □ | J26: １ 減算型 | M26: □ | N26: ２ 基準型 | Y26: □ | Z26: １ なし | AC26: □ | AD26: １ なし
H27: 24時間通報対応加算 | I27: □ | J27: １ 対応不可 | M27: □ | N27: ２ 対応可 | Y27: □ | Z27: ２ あり | AC27: □ | AD27: ２ あり
H28: 特別地域加算 | I28: □ | J28: １ なし | L28: □ | M28: ２ あり
H29: 中山間地域等における小規模事業所 加算（地域に関する状況） | I29: □ | J29: １ 非該当 | M29: □ | N29: ２ 該当
A31: □ | B31: 71 | C31: 夜間対応型訪問介護 | D31: □ | E31: １ Ⅰ型 | H31: 認知症専門ケア加算 | I31: □ | J31: １ なし | L31: □ | M31: ２ 加算Ⅰ | O31: □ | P31: ３ 加算Ⅱ
D32: □ | E32: ２ Ⅱ型 | H32: サービス提供体制強化加算 | I32: □ | J32: １ なし | L32: □ | M32: ６ 加算Ⅰ（イの場合） | R32: □ | S32: ４ 加算Ⅱ（イ場合）
I33: □ | J33: ７ 加算Ⅲ（イの場合） | O33: □ | P33: ８ 加算Ⅰ（ロの場合）
I34: □ | J34: ５ 加算Ⅱ（ロの場合） | O34: □ | P34: ９ 加算Ⅲ（ロの場合）
H35: 介護職員等特定処遇改善加算 | I35: □ | J35: １ なし | L35: □ | M35: ２ 加算Ⅰ | O35: □ | P35: ３ 加算Ⅱ
H36: 介護職員等ベースアップ等支援加算 | I36: □ | J36: １ なし | L36: □ | M36: ２ あり
H37: 職員の欠員による減算の状況 | I37: □ | J37: １ なし | M37: □ | N37: ２ 看護職員 | Q37: □ | R37: ３ 介護職員 | Y37: □ | Z37: １ なし | AC37: □ | AD37: １ なし
H38: 高齢者虐待防止措置実施の有無 | I38: □ | J38: １ 減算型 | M38: □ | N38: ２ 基準型 | Y38: □ | Z38: ２ あり | AC38: □ | AD38: ２ あり
H39: 業務継続計画策定の有無 | I39: □ | J39: １ 減算型 | M39: □ | N39: ２ 基準型
H40: 感染症又は災害の発生を理由とする利用者数の減少が一定以上生じている場合の対応 | I40: □ | J40: １ なし | L40: □ | M40: ２ あり
H43: 時間延長サービス体制 | I43: □ | J43: １ 対応不可 | M43: □ | N43: ２ 対応可
H44: 共生型サービスの提供 （生活介護事業所） | I44: □ | J44: １ なし | L44: □ | M44: ２ あり
H46: 共生型サービスの提供 （自立訓練事業所） | I46: □ | J46: １ なし | L46: □ | M46: ２ あり
H48: 共生型サービスの提供 （児童発達支援事業所） | I48: □ | J48: １ なし | L48: □ | M48: ２ あり
H49: 共生型サービスの提供 （放課後等デイサービス事業所） | I49: □ | J49: １ なし | L49: □ | M49: ２ あり
H51: 生活相談員配置等加算 | I51: □ | J51: １ なし | L51: □ | M51: ２ あり
H52: 入浴介助加算 | I52: □ | J52: １ なし | L52: □ | M52: ２ 加算Ⅰ | O52: □ | P52: ３ 加算Ⅱ
H53: 中重度者ケア体制加算 | I53: □ | J53: １ なし | L53: □ | M53: ２ あり
H54: 重度者ケア体制加算 | I54: □ | J54: １ なし | L54: □ | M54: ２ あり
A55: □ | B55: 78 | C55: 地域密着型通所介護 | D55: □ | E55: １ 地域密着型通所介護事業所 | H55: 生活機能向上連携加算 | I55: □ | J55: １ なし | L55: □ | M55: ３ 加算Ⅰ | O55: □ | P55: ２ 加算Ⅱ
D56: □ | E56: ２ 療養通所介護事業所 | H56: 個別機能訓練加算 | I56: □ | J56: １ なし | L56: □ | M56: ２ 加算Ⅰイ | P56: □ | Q56: ３ 加算Ⅰロ
D57: □ | E57: ３ 療養通所介護事業所（短期利用型） | H57: ADL維持等加算〔申出〕の有無 | I57: □ | J57: １ なし | L57: □ | M57: ２ あり
H58: 認知症加算 | I58: □ | J58: １ なし | L58: □ | M58: ２ あり
H59: 若年性認知症利用者受入加算 | I59: □ | J59: １ なし | L59: □ | M59: ２ あり
H60: 栄養アセスメント・栄養改善体制 | I60: □ | J60: １ なし | L60: □ | M60: ２ あり
H61: 口腔機能向上加算 | I61: □ | J61: １ なし | L61: □ | M61: ２ あり
H62: 科学的介護推進体制加算 | I62: □ | J62: １ なし | L62: □ | M62: ２ あり
H63: サービス提供体制強化加算 | I63: □ | J63: １ なし | L63: □ | M63: ６ 加算Ⅰ（イの場合） | R63: □ | S63: ５ 加算Ⅱ（イの場合）
I64: □ | J64: ７ 加算Ⅲ（イの場合） | N64: □ | O64: ８ 加算Ⅲイ（ロの場合） | T64: □ | U64: ９ 加算Ⅲイ（ハの場合）
I65: □ | J65: ４ 加算Ⅲロ（ロの場合） | O65: □ | P65: Ａ 加算Ⅲロ（ハの場合）
H66: 介護職員処遇改善加算 | I66: □ | J66: １ なし | L66: □ | M66: ６ 加算Ⅰ | O66: □ | P66: ５ 加算Ⅱ | R66: □ | S66: ２ 加算Ⅲ
H67: 介護職員等特定処遇改善加算 | I67: □ | J67: １ なし | L67: □ | M67: ２ 加算Ⅰ | O67: □ | P67: ３ 加算Ⅱ
H68: 介護職員等ベースアップ等支援加算 | I68: □ | J68: １ なし | L68: □ | M68: ２ あり
H69: 職員の欠員による減算の状況 | I69: □ | J69: １ なし | M69: □ | N69: ２ 看護職員 | Q69: □ | R69: ３ 介護職員 | Y69: □ | Z69: １ なし | AC69: □ | AD69: １ なし
H70: 高齢者虐待防止措置実施の有無 | I70: □ | J70: １ 減算型 | M70: □ | N70: ２ 基準型 | Y70: □ | Z70: ２ あり | AC70: □ | AD70: ２ あり
H71: 業務継続計画策定の有無 | I71: □ | J71: １ 減算型 | M71: □ | N71: ２ 基準型
H72: 感染症又は災害の発生を理由とする利用者数の減少が一定以上生じている場合の対応 | I72: □ | J72: １ なし | L72: □ | M72: ２ あり
H75: 時間延長サービス体制 | I75: □ | J75: １ 対応不可 | M75: □ | N75: ２ 対応可
H76: 入浴介助加算 | I76: □ | J76: １ なし | L76: □ | M76: ２ 加算Ⅰ | O76: □ | P76: ３ 加算Ⅱ
A77: □ | B77: 72 | C77: 認知症対応型通所介護 | D77: □ | E77: １ 単独型 | H77: 生活機能向上連携加算 | I77: □ | J77: １ なし | L77: □ | M77: ３ 加算Ⅰ | O77: □ | P77: ２ 加算Ⅱ
D78: □ | E78: ２ 併設型 | H78: 個別機能訓練加算 | I78: □ | J78: １ なし | L78: □ | M78: ２ あり
D79: □ | E79: ３ 共用型 | H79: ADL維持等加算〔申出〕の有無 | I79: □ | J79: １ なし | L79: □ | M79: ２ あり
H80: 若年性認知症利用者受入加算 | I80: □ | J80: １ なし | L80: □ | M80: ２ あり
H81: 栄養アセスメント・栄養改善体制 | I81: □ | J81: １ なし | L81: □ | M81: ２ あり
H82: 口腔機能向上加算 | I82: □ | J82: １ なし | L82: □ | M82: ２ あり
H83: 科学的介護推進体制加算 | I83: □ | J83: １ なし | L83: □ | M83: ２ あり
H84: サービス提供体制強化加算 | I84: □ | J84: １ なし | L84: □ | M84: ５ 加算Ⅰ | O84: □ | P84: ４ 加算Ⅱ | R84: □ | S84: ６ 加算Ⅲ
H85: 介護職員処遇改善加算 | I85: □ | J85: １ なし | L85: □ | M85: ６ 加算Ⅰ | O85: □ | P85: ５ 加算Ⅱ | R85: □ | S85: ２ 加算Ⅲ
H86: 介護職員等特定処遇改善加算 | I86: □ | J86: １ なし | L86: □ | M86: ２ 加算Ⅰ | O86: □ | P86: ３ 加算Ⅱ
H87: 介護職員等ベースアップ等支援加算 | I87: □ | J87: １ なし | L87: □ | M87: ２ あり
H88: 職員の欠員による減算の状況 | I88: □ | J88: １ なし | M88: □ | N88: ２ 看護職員 | Q88: □ | R88: ３ 介護職員 | Y88: □ | Z88: １ なし | AC88: □ | AD88: １ なし
H89: 高齢者虐待防止措置実施の有無 | I89: □ | J89: １ 減算型 | M89: □ | N89: ２ 基準型 | Y89: □ | Z89: ２ あり | AC89: □ | AD89: ２ あり
H90: 業務継続計画策定の有無 | I90: □ | J90: １ 減算型 | M90: □ | N90: ２ 基準型
H91: 特別地域加算 | I91: □ | J91: １ なし | L91: □ | M91: ２ あり
H92: 中山間地域等における小規模事業所加算（地域に関する状況） | I92: □ | J92: １ 非該当 | M92: □ | N92: ２ 該当
H94: 認知症加算 | I94: □ | J94: １ なし | L94: □ | M94: ２ 加算Ⅰ | O94: □ | P94: ３ 加算Ⅱ
H95: 若年性認知症利用者受入加算 | I95: □ | J95: １ なし | L95: □ | M95: ２ あり
H96: 看護職員配置加算 | I96: □ | J96: １ なし | L96: □ | M96: ２ 加算Ⅰ | O96: □ | P96: ３ 加算Ⅱ | R96: □ | S96: ４ 加算Ⅲ
A97: □ | B97: 73 | C97: 小規模多機能型居宅介護 | D97: □ | E97: １ 小規模多機能型居宅介護事業所 | H97: 看取り連携体制加算 | I97: □ | J97: １ なし | L97: □ | M97: ２ あり
D98: □ | E98: ２ サテライト型小規模多機能型 | H98: 訪問体制強化加算 | I98: □ | J98: １ なし | L98: □ | M98: ２ あり
E99: 居宅介護事業所 | H99: 総合マネジメント体制強化加算 | I99: □ | J99: １ なし | L99: □ | M99: ３ 加算Ⅰ | O99: □ | P99: ２ 加算Ⅱ
H100: 科学的介護推進体制加算 | I100: □ | J100: １ なし | L100: □ | M100: ２ あり
H101: 生産性向上推進体制加算 | I101: □ | J101: １ なし | L101: □ | M101: ２ 加算Ⅰ | O101: □ | P101: ３ 加算Ⅱ
H102: サービス提供体制強化加算 | I102: □ | J102: １ なし | L102: □ | M102: ６ 加算Ⅰ | O102: □ | P102: ５ 加算Ⅱ | R102: □ | S102: ７ 加算Ⅲ
H103: 介護職員処遇改善加算 | I103: □ | J103: １ なし | L103: □ | M103: ６ 加算Ⅰ | O103: □ | P103: ５ 加算Ⅱ | R103: □ | S103: ２ 加算Ⅲ
H104: 介護職員等特定処遇改善加算 | I104: □ | J104: １ なし | L104: □ | M104: ２ 加算Ⅰ | O104: □ | P104: ３ 加算Ⅱ
H105: 介護職員等ベースアップ等支援加算 | I105: □ | J105: １ なし | L105: □ | M105: ２ あり
H106: 職員の欠員による減算の状況 | I106: □ | J106: １ なし | M106: □ | N106: ２ 看護職員 | Q106: □ | R106: ３ 介護職員 | Y106: □ | Z106: １ なし | AC106: □ | AD106: １ なし
H107: 高齢者虐待防止措置実施の有無 | I107: □ | J107: １ 減算型 | M107: □ | N107: ２ 基準型 | Y107: □ | Z107: ２ あり | AC107: □ | AD107: ２ あり
H108: 業務継続計画策定の有無 | I108: □ | J108: １ 減算型 | M108: □ | N108: ２ 基準型
A109: □ | B109: 68 | C109: 小規模多機能型居宅介護 | D109: □ | E109: １ 小規模多機能型居宅介護事業所 | H109: 中山間地域等における小規模事業所加算（地域に関する状況） | I109: □ | J109: １ 非該当 | M109: □ | N109: ２ 該当
C110: （短期利用型） | D110: □ | E110: ２ サテライト型小規模多機能型
E111: 居宅介護事業所 | H111: 生産性向上推進体制加算 | I111: □ | J111: １ なし | L111: □ | M111: ２ 加算Ⅰ | O111: □ | P111: ３ 加算Ⅱ
H112: サービス提供体制強化加算 | I112: □ | J112: １ なし | L112: □ | M112: ６ 加算Ⅰ | O112: □ | P112: ５ 加算Ⅱ | R112: □ | S112: ７ 加算Ⅲ
H113: 介護職員処遇改善加算 | I113: □ | J113: １ なし | L113: □ | M113: ６ 加算Ⅰ | O113: □ | P113: ５ 加算Ⅱ | R113: □ | S113: ２ 加算Ⅲ
H114: 介護職員等特定処遇改善加算 | I114: □ | J114: １ なし | L114: □ | M114: ２ 加算Ⅰ | O114: □ | P114: ３ 加算Ⅱ
...

Sheet 【結合済】備考（1－3）
B1: 備考 （別紙１－３）地域密着型サービス・地域密着型介護予防サービス
B3: 備考 １ 事業所・施設において、施設等の区分欄、人員配置区分欄、LIFE（科学的介護情報システム（Long-term care Information system For Evidence）への登録欄、その他該当する体制等欄に掲げる項目 につき該当する番号の横の□を■にしてください。
B4: ２ 「施設等の区分」及び「その他該当する体制等」欄で施設・設備等に係る加算（減算）の届出については、「平面図」（別紙６）を添付してください。
B5: ３ 人員配置に係る届出については、勤務体制がわかる書類（「従業者の勤務の体制及び勤務形態一覧表」（別紙７）又はこれに準じた勤務割表等）を添付してください。
B6: ４ 「割引｣を｢あり｣と記載する場合は「地域密着型サービス事業者等による介護給付費の割引に係る割引率の設定について」（別紙5－2）を添付してください。
B7: ５ 「訪問看護体制減算」、「看護体制強化加算」及び「サテライト体制未整備減算」については、「看護体制及びサテライト体制に係る届出書」（別紙49）を添付してください。
B8: ６ 「緊急時訪問看護加算」「緊急時対応加算」「特別管理体制」「ターミナルケア体制」については、「緊急時（介護予防）訪問看護加算・緊急時対応加算・特別管理体制・ターミナルケア体制に係る届出書」（別紙16）を添付してください。
B9: ７ 「総合マネジメント体制強化加算」については、「総合マネジメント体制強化加算に係る届出書」（別紙42）を添付してください。
B10: ８ 「認知症専門ケア加算」については、「認知症専門ケア加算に係る届出書（訪問介護、（介護予防）訪問入浴介護、定期巡回・随時対応型訪問介護看護、夜間対応型訪問介護）」（別紙12）又は 「認知症専門ケア加算に係る届出書（（介護予防）短期入所生活介護、（介護予防）短期入所療養介護、（介護予防）特定施設入居者生活介護、（介護予防）認知症対応型共同生活介護、地域密着型特定施設入居者生活介護、 地域密着型介護老人福祉施設入所者生活介護、介護老人福祉施設、介護老人保健施設、介護医療院）」（別紙12－2）」を添付してください。
B11: また、「認知症チームケア推進加算」については、「認知症チームケア推進加算に係る届出書」（別紙40）を添付してください。
B12: ９ 「24時間通報対応加算」については、「24時間通報対応加算に係る届出書」（別紙43）を添付してください。
B13: 10 「その他該当する体制等」欄で人員配置に係る加算（減算）の届出については、それぞれ加算（減算）の要件となる職員の配置状況や勤務体制がわかる書類を添付してください。
... B43: 備考 １ この表は、事業所所在地以外の場所で一部事業を実施する出張所等がある場合について記載することとし、複数出張所等を有する場合は出張所ごとに提出してください。

Sheet 別紙４
B2: （別紙４）
T4: 令和 | W4: 年 | Z4: 月 | AC4: 日
B5: （あて先）福岡 | H5: 市長
P7: 市町村名 | Q7: 福岡市
B10: 基準該当サービスに係る特例居宅介護サービス費、特例介護予防サービス費、特例居宅介護 サービス計画費及び特例介護予防サービス計画費の支給に係る上限の率の設定について
B15: このことについて、上限の率を下記のとおり設定しましたのでお知らせします。
B17: 記
A19: 1 全国共通の介護報酬額に対して定める率
B21: 項 目 | K21: サービスの種類 | W21: 全国共通の介護報酬額に対して定める率
B22: 特例居宅介護サービス費 | K22: 訪問介護 | AC22: ％
K23: 訪問入浴介護 | AC23: ％
K24: 通所介護 | AC24: ％
K25: 短期入所生活介護 | AC25: ％
K26: 福祉用具貸与 | AC26: ％
B27: 特例介護予防サービス費 | K27: 介護予防訪問入浴介護 | AC27: ％
K28: 介護予防短期入所生活介護 | AC28: ％
K29: 介護予防福祉用具貸与 | AC29: ％
B30: 特例居宅介護サービス計画費 | AC30: ％
B31: 特例介護予防サービス計画費 | AC31: ％
A33: 2 適用開始年月日 | N33: 年 | Q33: 月 | T33: 日

Sheet 別紙５
B2: （別紙５）
W4: 令和 | Z4: 年 | AC4: 月 | AF4: 日
B5: （あて先）福岡 | H5: 市長
S7: 事業所・施設名
B9: 指定居宅サービス事業者等による介護給付費の割引に係る割引率の設定について
A11: 1 割引率等
R13: 事業所番号 | W13: 4 | X13: 0
B15: サービスの種類 | M15: 割引率 | O15: 適用条件
B16: 訪問介護 | M16: （例）10 | N16: ％ | O16: （例）毎日 午後２時から午後４時まで
N17: ％
N18: ％
B19: 訪問入浴介護 | N19: ％
N20: ％
N21: ％
B22: 通所介護 | N22: ％
N23: ％
N24: ％
B25: 短期入所生活介護 | N25: ％
N26: ％
N27: ％
B28: 特定施設入居者生活介護 | N28: ％
N29: ％
N30: ％
B31: 介護老人福祉施設 | N31: ％
N32: ％
N33: ％
B34: 介護予防訪問入浴介護 | N34: ％
N35: ％
N36: ％
B37: 介護予防短期入所生活介護 | N37: ％
N38: ％
N39: ％
B40: 介護予防特定施設入居者 生活介護 | N40: ％
N41: ％
N42: ％
B44: 備考 「適用条件」欄には、当該割引率が適用される時間帯、曜日、日時について具体的に
B45: 記載してください。
A47: 2 適用開始年月日 | N47: 年 | Q47: 月 | T47: 日

Sheet 別紙5－2
B2: （別紙５ー２）
W4: 令和 | Z4: 年 | AC4: 月 | AF4: 日
B5: （あて先）嘉麻 | H5: 市長 | K5: 殿
S7: 事業所・施設名
B9: 地域密着型サービス事業者又は地域密着型介護予防サービス事業者による介護給付費の割引に 係る割引率の設定について
A12: 1 割引率等
R14: 事業所番号 | W14: 4 | X14: 0
B16: サービスの種類 | M16: 割引率 | O16: 適用条件
B17: 夜間対応型訪問介護 | N17: ％
N18: ％
N19: ％
B20: 地域密着型通所介護 | N20: ％
N21: ％
N22: ％
B23: 認知症対応型通所介護 | N23: ％
N24: ％
N25: ％
B26: 小規模多機能型居宅介護 | N26: ％
N27: ％
N28: ％
B29: 認知症対応型共同生活介護 | N29: ％
N30: ％
N31: ％
B32: 地域密着型特定施設入居者 生活介護 | N32: ％
N33: ％
N34: ％
B35: 地域密着型介護老人福祉施設入所者生活介護 | N35: ％
N36: ％
N37: ％
B38: 定期巡回・随時対応型訪問介護看護 | N38: ％
N39: ％
N40: ％
B41: 複合型サービス | N41: ％
N42: ％
N43: ％
B44: 介護予防認知症対応型 通所介護 | N44: ％
N45: ％
N46: ％
B47: 介護予防小規模多機能型 居宅介護 | N47: ％
N48: ％
N49: ％
B50: 介護予防認知症対応型 共同生活介護 | N50: ％
N51: ％
N52: ％
B54: 備考 「適用条件」欄には、当該割引率が適用される時間帯、曜日、日時について具体的に
B55: 記載してください。
A57: 2 適用開始年月日 | N57: 年 | Q57: 月 | T57: 日

Sheet 別紙
B2: （別紙） | AA2: 令和 年 月 日
B4: テクノロジーを導入する場合の夜間の人員配置基準（ユニット型を除く）に係る届出書
B6: 事 業 所 名
B7: 異動等区分 | G7: 1 新規 2 変更 3 終了
B8: 施 設 種 別 | G8: 1 介護老人保健施設 3 介護予防短期入所療養介護 | P8: 2 短期入所療養介護
C11: ① 入所（利用）者全員に見守り機器を使用 | Y11: 有・無
C13: ② 夜勤職員全員がインカム等のICTを使用 | Y13: 有・無
C15: ③ 導入機器
C17: 名 称
C18: 製造事業者
C19: 用 途
C21: ④ 利用者の安全やケアの質の確保、職員の負担の軽減を図るため、以下のすべての項目 について、テクノロジー導入後、少なくとも３か月以上実施
D23: ⅰ 利用者の安全並びに介護サービスの質の確保及び職員の負担軽減に資する方策を検討するための委員会の設置 | Y23: 有・無
D25: ⅱ 職員に対する十分な休憩時間の確保等の勤務・雇用条件への配慮 | Y25: 有・無
D27: ⅲ 緊急時の体制整備（近隣在住職員を中心とした緊急参集要員の確保等） | Y27: 有・無
D29: ⅳ 機器の不具合の定期チェックの実施（メーカーとの連携を含む） | Y29: 有・無
D31: ⅴ 職員に対するテクノロジー活用に関する教育の実施 | Y31: 有・無
D33: ⅵ 夜間の訪室が必要な利用者に対する訪室の個別実施 | Y33: 有・無
C35: ⑤ ④ⅰの委員会で安全体制やケアの質の確保、職員の負担軽減が図られている ことを確認 | Y35: 有・無
B36: 備考１ 要件を満たすことが分かる議事概要を提出すること。このほか要件を満たすことが分かる根拠書類を準備し、
B37: 指定権者からの求めがあった場合には、速やかに提出すること。
B38: 備考２ ④ⅰの委員会には夜勤職員をはじめケア等を行う多職種の職員が参画すること。

Sheet 別紙７
A1: ￥
B2: （別紙７）
B4: 従業者の勤務の体制及び勤務形態一覧表 （ 年 月分） | X4: サービス種類（ ）
X6: 事業所・施設名（ ）
B8: 「人員配置区分― 型」又は「該当する体制等― 」 | AB8: ［入所（利用）定員（見込）数等 名］
B10: 職 種 | C10: 勤務 形態 | D10: 氏 名 | E10: 第1週 | L10: 第2週 | S10: 第3週 | Z10: 第4週 | AG10: 4週の 合計 | AH10: 週平均 の勤務 時間 | AI10: 常勤換 算後の 人数
E11: 1 | F11: 2 | G11: 3 | H11: 4 | I11: 5 | J11: 6 | K11: 7 | L11: 8 | M11: 9 | N11: 10 | O11: 11 | P11: 12 | Q11: 13 | R11: 14 | S11: 15 | T11: 16 | U11: 17 | V11: 18 | W11: 19 | X11: 20 | Y11: 21 | Z11: 22 | AA11: 23 | AB11: 24 | AC11: 25 | AD11: 26 | AE11: 27 | AF11: 28
E12: ＊
B13: （記載例―1） | E13: ① | F13: ① | G13: ③ | H13: ② | I13: ④ | J13: ① | K13: ④
B14: （記載例―2） | E14: ab | F14: ab | G14: ab | H14: cd | I14: cd | J14: e | K14: e
B25: （再掲） 夜勤職員 | C25: １日の夜勤の合計時間
C26: 常勤換算後の人数 （16h換算）
B28: ＜配置状況＞
B30: 看護職員：介護職員
B31: （ ： )
B33: 看護師：准看護師 (日中)
B34: （ ： )
B36: 看護師：准看護師 （夜間）
B37: （ ： )
B41: 備考1 ＊欄には、当該月の曜日を記入してください。
B42: 2 「人員配置区分」又は「該当する体制等」欄には、別紙「介護給付費算定に係る体制等状況一覧表」に掲げる人員配置区分の類型又は該当する
B43: 体制加算の内容をそのまま記載してください。
B44: 3 届出を行う従業者について、4週間分の勤務すべき時間数を記入してください。勤務時間ごとあるいはサービス提供時間単位ごとに区分して
B45: 番号を付し、その番号を記入してください。
... B61: 差し支えありません。

Sheet 別紙７－２
B1: （別紙７－２） | K1: 令和 | N1: 年 | P1: 月 | R1: 日
B2: 有資格者等の割合の参考計算書
I4: 事業所名
I5: 事業所番号
I6: サービス種類
B8: １．割合を計算する職員 | F8: 介護福祉士
F9: 介護職員
B11: ２．有資格者等の割合の算定期間 | F11: 前年度（３月を除く） | J11: 実績月数
B13: ３．常勤換算方法による計算
B14: □ | C14: 前年度（３月を除く） | M14: 常勤換算人数
C15: ①常勤職員の 一月あたりの 勤務時間 | F15: ②常勤換算方法の 対象外である 常勤の職員数 （常勤・専従等） | H15: ③常勤換算方法の対象 である常勤の職員の 勤務延時間数 （常勤・兼務等） | J15: ④非常勤の職員の 勤務延時間数 | M15: =F8 -> 介護福祉士 | P15: =F9 -> 介護職員
B16: 令和 年 | D16: 時間 | E16: =$F$8 -> 介護福祉士 | G16: 人 | I16: 時間 | K16: 時間 | M16: =IF(C16="","",F16+ROUNDDOWN((H16+J16)/C16,1)) | P16: =IF(C16="","",F17+ROUNDDOWN((H17+J17)/C16,1)) | W16: 分子 | X16: 分母
B17: 4月 | E17: =$F$9 -> 介護職員 | G17: 人 | I17: 時間 | K17: 時間 | V17: 割合を計算する職員 | W17: 介護福祉士 | X17: 介護職員
D18: 時間 | E18: =$F$8 -> 介護福祉士 | G18: 人 | I18: 時間 | K18: 時間 | M18: =IF(C18="","",F18+ROUNDDOWN((H18+J18)/C18,1)) | P18: =IF(C18="","",F19+ROUNDDOWN((H19+J19)/C18,1)) | W18: 勤続年数10年以上の介護福祉士 | X18: 介護サービスを直接提供する職員
B19: 5月 | E19: =$F$9 -> 介護職員 | G19: 人 | I19: 時間 | K19: 時間 | W19: 勤続年数７年以上の職員 | X19: -
D20: 時間 | E20: =$F$8 -> 介護福祉士 | G20: 人 | I20: 時間 | K20: 時間 | M20: =IF(C20="","",F20+ROUNDDOWN((H20+J20)/C20,1)) | P20: =IF(C20="","",F21+ROUNDDOWN((H21+J21)/C20,1)) | W20: - | X20: -
B21: 6月 | E21: =$F$9 -> 介護職員 | G21: 人 | I21: 時間 | K21: 時間 | W21: - | X21: -
D22: 時間 | E22: =$F$8 -> 介護福祉士 | G22: 人 | I22: 時間 | K22: 時間 | M22: =IF(C22="","",F22+ROUNDDOWN((H22+J22)/C22,1)) | P22: =IF(C22="","",F23+ROUNDDOWN((H23+J23)/C22,1)) | W22: - | X22: -
B23: 7月 | E23: =$F$9 -> 介護職員 | G23: 人 | I23: 時間 | K23: 時間
D24: 時間 | E24: =$F$8 -> 介護福祉士 | G24: 人 | I24: 時間 | K24: 時間 | M24: =IF(C24="","",F24+ROUNDDOWN((H24+J24)/C24,1)) | P24: =IF(C24="","",F25+ROUNDDOWN((H25+J25)/C24,1))
B25: 8月 | E25: =$F$9 -> 介護職員 | G25: 人 | I25: 時間 | K25: 時間
D26: 時間 | E26: =$F$8 -> 介護福祉士 | G26: 人 | I26: 時間 | K26: 時間 | M26: =IF(C26="","",F26+ROUNDDOWN((H26+J26)/C26,1)) | P26: =IF(C26="","",F27+ROUNDDOWN((H27+J27)/C26,1))
B27: 9月 | E27: =$F$9 -> 介護職員 | G27: 人 | I27: 時間 | K27: 時間
D28: 時間 | E28: =$F$8 -> 介護福祉士 | G28: 人 | I28: 時間 | K28: 時間 | M28: =IF(C28="","",F28+ROUNDDOWN((H28+J28)/C28,1)) | P28: =IF(C28="","",F29+ROUNDDOWN((H29+J29)/C28,1))
B29: 10月 | E29: =$F$9 -> 介護職員 | G29: 人 | I29: 時間 | K29: 時間
D30: 時間 | E30: =$F$8 -> 介護福祉士 | G30: 人 | I30: 時間 | K30: 時間 | M30: =IF(C30="","",F30+ROUNDDOWN((H30+J30)/C30,1)) | P30: =IF(C30="","",F31+ROUNDDOWN((H31+J31)/C30,1))
B31: 11月 | E31: =$F$9 -> 介護職員 | G31: 人 | I31: 時間 | K31: 時間
D32: 時間 | E32: =$F$8 -> 介護福祉士 | G32: 人 | I32: 時間 | K32: 時間 | M32: =IF(C32="","",F32+ROUNDDOWN((H32+J32)/C32,1)) | P32: =IF(C32="","",F33+ROUNDDOWN((H33+J33)/C32,1))
B33: 12月 | E33: =$F$9 -> 介護職員 | G33: 人 | I33: 時間 | K33: 時間
B34: 令和 年 | D34: 時間 | E34: =$F$8 -> 介護福祉士 | G34: 人 | I34: 時間 | K34: 時間 | M34: =IF(C34="","",F34+ROUNDDOWN((H34+J34)/C34,1)) | P34: =IF(C34="","",F35+ROUNDDOWN((H35+J35)/C34,1))
B35: 1月 | E35: =$F$9 -> 介護職員 | G35: 人 | I35: 時間 | K35: 時間
D36: 時間 | E36: =$F$8 -> 介護福祉士 | G36: 人 | I36: 時間 | K36: 時間 | M36: =IF(C36="","",F36+ROUNDDOWN((H36+J36)/C36,1)) | P36: =IF(C36="","",F37+ROUNDDOWN((H37+J37)/C36,1))
B37: 2月 | E37: =$F$9 -> 介護職員 | G37: 人 | I37: 時間 | K37: 時間
J39: 合計 | M39: =IF(SUM(M16:O37)=0,"",SUM(M16:O37)) | P39: =IF(SUM(P16:R37)=0,"",SUM(P16:R37))
J40: 一月あたりの平均値 | M40: =IF(M39="","",ROUNDDOWN(M39/$K$11,1)) | P40: =IF(P39="","",ROUNDDOWN(P39/$K$11,1))
J41: =$M$15 -> 介護福祉士 | P41: =IF(M40="","",M40/P40)
J42: の割合
B44: □ | C44: 届出日の属する月の前３月 | M44: 常勤換算人数
C45: ①常勤職員の 一月あたりの 勤務時間 | F45: ②常勤換算方法の 対象外である 常勤の職員数 （常勤・専従等） | H45: ③常勤換算方法の対象 である常勤の職員の 勤務延時間数 （常勤・兼務等） | J45: ④非常勤の職員の 勤務延時間数 | M45: =F8 -> 介護福祉士 | P45: =F9 -> 介護職員
B46: 令和 年 | D46: 時間 | E46: =$F$8 -> 介護福祉士 | G46: 人 | I46: 時間 | K46: 時間 | M46: =IF(C46="","",F46+ROUNDDOWN((H46+J46)/C46,1)) | P46: =IF(C46="","",F47+ROUNDDOWN((H47+J47)/C46,1))
B47: 4月 | E47: =$F$9 -> 介護職員 | G47: 人 | I47: 時間 | K47: 時間
D48: 時間 | E48: =$F$8 -> 介護福祉士 | G48: 人 | I48: 時間 | K48: 時間 | M48: =IF(C48="","",F48+ROUNDDOWN((H48+J48)/C48,1)) | P48: =IF(C48="","",F49+ROUNDDOWN((H49+J49)/C48,1))
B49: 5月 | E49: =$F$9 -> 介護職員 | G49: 人 | I49: 時間 | K49: 時間
D50: 時間 | E50: =$F$8 -> 介護福祉士 | G50: 人 | I50: 時間 | K50: 時間 | M50: =IF(C50="","",F50+ROUNDDOWN((H50+J50)/C50,1)) | P50: =IF(C50="","",F51+ROUNDDOWN((H51+J51)/C50,1))
B51: 6月 | E51: =$F$9 -> 介護職員 | G51: 人 | I51: 時間 | K51: 時間
J53: 合計 | M53: =IF(SUM(M46:O51)=0,"",SUM(M46:O51)) | P53: =IF(SUM(P46:R51)=0,"",SUM(P46:R51))
J54: 一月あたりの平均値 | M54: =IF(M53="","",ROUNDDOWN(M53/3,1)) | P54: =IF(P53="","",ROUNDDOWN(P53/3,1))
J55: =$M$15 -> 介護福祉士 | P55: =IF(M54="","",M54/P54)
J56: の割合
B59: 備考
B60: ・本計算書は、有資格者等の割合が要件となっている加算の届出を行う際に、事業所・施設において使用している勤務割表等を自治体に提出する
B61: 場合の参考資料としてご活用ください。なお、有資格者等の割合の計算根拠資料が他にある場合は、本計算書の添付は不要です。
B62: また、自治体が定める「（別紙７）従業者の勤務の体制及び勤務形態一覧表」を作成して提出する場合も、本計算書の添付は不要です。
B63: ・本計算書は、黄色網掛けのセルについて記入または選択をしてください。
B64: ・「１．割合を計算する職員」は、本計算書で計算する有資格者等の種類を選択してください。
B65: ・「２．有資格者等の割合の算定期間」は、前年度の実績が６月に満たない事業所（新たに事業を開始した、または再開した事業所）については、
B66: 届出日の属する月の前３月について計算します。それ以外は前年度（３月を除く）の平均を用いて計算しますので、該当の期間を選択し、
B67: 実績月数を記入してください。
B68: ・「３．常勤換算方法による計算」
B69: 常勤換算方法とは、非常勤の従業者について「事業所の従業者の勤務延時間数を当該事業所において常勤の従業者が勤務すべき時間数で
B70: 除することにより、常勤の従業者の員数に換算する方法」であるため、常勤の従業者については常勤換算方法によらず、実人数で計算します。
... B85: ・その他、各加算における規定は各サービスの告示等をご確認ください。

Sheet 別紙７－３
B2: （別紙７ー３） | U2: 令和 | X2: 年 | AA2: 月 | AD2: 日
B4: テクノロジーを導入する場合の夜間の人員配置基準（従来型）に係る届出書
B6: 事 業 所 名
B7: 異動等区分 | G7: □ | H7: 1 新規 | L7: □ | M7: 2 変更 | Q7: □ | R7: 3 終了
B8: 施 設 種 別 | G8: □ | H8: 1 介護老人福祉施設 | P8: □ | Q8: 2 地域密着型介護老人福祉施設
G9: □ | H9: 3 短期入所生活介護
AA12: 有 | AB12: ・ | AC12: 無
C14: ① 入所（利用）者全員に見守り機器を使用 | AA14: □ | AB14: ・ | AC14: □
C16: ② 夜勤職員全員がインカム等のICTを使用 | AA16: □ | AB16: ・ | AC16: □
C18: ③ 導入機器
C20: 名 称
C21: 製造事業者
C22: 用 途
C24: ④ 利用者の安全やケアの質の確保、職員の負担の軽減を図るため、以下のすべての 項目について、テクノロジー導入後、少なくとも３か月以上実施 | AA24: 有 | AB24: ・ | AC24: 無
D26: ⅰ 利用者の安全並びに介護サービスの質の確保及び職員の負担軽減に資する | AA26: □ | AB26: ・ | AC26: □
D27: 方策を検討するための委員会の設置
D29: ⅱ 職員に対する十分な休憩時間の確保等の勤務・雇用条件への配慮 | AA29: □ | AB29: ・ | AC29: □
D31: ⅲ 緊急時の体制整備（近隣在住職員を中心とした緊急参集要員の確保等） | AA31: □ | AB31: ・ | AC31: □
D33: ⅳ 機器の不具合の定期チェックの実施（メーカーとの連携を含む） | AA33: □ | AB33: ・ | AC33: □
D35: ⅴ 職員に対するテクノロジー活用に関する教育の実施 | AA35: □ | AB35: ・ | AC35: □
D37: ⅵ 夜間の訪室が必要な利用者に対する訪室の個別実施 | AA37: □ | AB37: ・ | AC37: □
C39: ⑤ ④ⅰの委員会で安全体制やケアの質の確保、職員の負担軽減が図られている ことを確認 | AA39: □ | AB39: ・ | AC39: □
B40: 備考１ 要件を満たすことが分かる議事概要を提出すること。このほか要件を満たすことが分かる根拠書類を準備し、
B41: 指定権者からの求めがあった場合には、速やかに提出すること。
B42: 備考２ ④ⅰの委員会には夜勤職員をはじめ実際にケア等を行う多職種の職員が参画すること。

Sheet 別紙11
B2: （別紙11）
R3: 令和 | U3: 年 | W3: 月 | Y3: 日
B4: 口腔連携強化加算に関する届出書
B6: 1 | C6: 事業所名
B7: 2 | C7: 異動区分 | H7: □ | I7: 1 新規 | M7: □ | N7: 2 変更 | R7: □ | S7: 3 終了
B8: 3 | C8: 施設種別 | H8: □ | I8: 1 訪問介護事業所
H9: □ | I9: 2 (介護予防）訪問看護事業所（訪問看護ステーション）
H10: □ | I10: 3 (介護予防）訪問リハビリテーション事業所
H11: □ | I11: 4 (介護予防）短期入所生活介護事業所
H12: □ | I12: 5 (介護予防）短期入所療養介護事業所
H13: □ | I13: 6 定期巡回・随時対応型訪問介護看護事業所
B15: 4 | C15: 歯科医療機関との連携の状況 | H15: １．連携歯科医療機関
I16: 歯科医療機関名
I18: 所在地
I22: 歯科医師名
I24: 歯科訪問診療料の算定の実績 | Q24: 年 月 日
I26: 連絡先電話番号
H29: ２．連携歯科医療機関
I30: 歯科医療機関名
I32: 所在地
I36: 歯科医師名
I38: 歯科訪問診療料の算定の実績 | Q38: 年 月 日
I40: 連絡先電話番号
H43: ３．連携歯科医療機関
I44: 歯科医療機関名
I46: 所在地
I50: 歯科医師名
I52: 歯科訪問診療料の算定の実績 | Q52: 年 月 日
I54: 連絡先電話番号
B58: 注１ 「連携歯科医療機関」とは、利用者の口腔の健康状態に係る評価を行うに当たって、歯科医療機関の歯科医師又は歯科医師の指示を受けた歯科衛生士に対して、口腔の健康状態の評価の方法や在宅歯科医療の提供等について相談できる体制を確保している歯科医療機関である。
B59: 注２ 「連携歯科医療機関」は１つ以上の記載が必要である。なお、記入欄が不足している場合には、「歯科医療機関との連携の状況」のみを追加記載した様式を別途添付しても差し支えない。
B60: 注３ 「歯科訪問診療料の算定の実績」とは、歯科診療報酬点数表の区分番号Ｃ000に掲げる歯科訪問診療料の算定の実績であり、直近の算定日を記載すること。
B61: ※ 要件を満たすことが分かる根拠書類を準備し、指定権者からの求めがあった場合には、速やかに提出してください。

Sheet 別紙12－2
B2: （別紙12-２）
X3: 令和 | AA3: 年 | AC3: 月 | AE3: 日
B5: 認知症専門ケア加算に係る届出書
B6: （介護予防）短期入所生活介護、（介護予防）短期入所療養介護 （介護予防）特定施設入居者生活介護、（介護予防）認知症対応型共同生活介護 地域密着型特定施設入居者生活介護、地域密着型介護老人福祉施設入所者生活介護 介護老人福祉施設、介護老人保健施設、介護療養型医療施設、介護医療院
B8: 事 業 所 名
B9: 異動等区分 | F9: □ | G9: １ 新規 | K9: □ | L9: ２ 変更 | Q9: □ | R9: ３ 終了
B10: 施 設 種 別 | F10: □ | G10: １（介護予防）短期入所生活介護 | R10: □ | S10: ２（介護予防）短期入所療養介護
F11: □ | G11: ３（介護予防）特定施設入居者生活介護 | R11: □ | S11: ４（介護予防）認知症対応型共同生活介護
F12: □ | G12: ５ 地域密着型特定施設入居者生活介護 | R12: □ | S12: ６ 地域密着型介護老人福祉施設入所者生活介護
F13: □ | G13: ７ 介護老人福祉施設 | R13: □ | S13: ８ 介護老人保健施設
F14: □ | G14: ９ 介護医療院
B15: 届 出 項 目 | F15: □ | G15: １ 認知症専門ケア加算（Ⅰ） | R15: □ | S15: ２ 認知症専門ケア加算（Ⅱ）
AB17: 有 | AC17: ・ | AD17: 無
B18: １．認知症専門ケア加算（Ⅰ）に係る届出内容
C19: (1) | D19: 利用者又は入所者の総数のうち、日常生活自立度のランクⅢ、Ⅳ又はＭに該当する者 | AB19: □ | AC19: ・ | AD19: □
D20: の割合が50％以上である
D22: ① 利用者又は入所者の総数 注 | X22: 人
D23: ② 日常生活自立度のランクⅢ、Ⅳ又はＭに該当する者の数 注 | X23: 人
D24: ③ ②÷①×100 | T24: =(IFERROR(ROUNDDOWN(T23/T22*100,0),"")) | U24: =(IFERROR(ROUNDDOWN(U23/U22*100,0),"")) | X24: ％
D25: 注 届出日の属する月の前３月の各月末時点の利用者又は入所者の数（訪問サービスでは
E26: 前３月間の利用実人員数又は利用延べ人数）の平均で算定。
C28: (2) | D28: 認知症介護に係る専門的な研修を修了している者を、日常生活自立度のランクⅢ、 | AB28: □ | AC28: ・ | AD28: □
D29: Ⅳ又はMに該当する者の数に応じて必要数以上配置し、チームとして専門的な
D30: 認知症ケアを実施している
D32: 認知症介護に係る専門的な研修を修了している者の数 | X32: 人
E34: 【参考】
E35: 日常生活自立度のランクⅢ、Ⅳ又はＭに該当する者の数 | O35: 研修修了者の必要数
E36: 20人未満 | O36: １以上
E37: 20以上30未満 | O37: ２以上
E38: 30以上40未満 | O38: ３以上
E39: 40以上50未満 | O39: ４以上
E40: 50以上60未満 | O40: ５以上
E41: 60以上70未満 | O41: ６以上
E42: ～ | O42: ～
C44: (3) | D44: 従業者に対して、認知症ケアに関する留意事項の伝達又は技術的指導に係る会議を | AB44: □ | AC44: ・ | AD44: □
D45: 定期的に開催している
B47: ２．認知症専門ケア加算（Ⅱ）に係る届出内容
C48: (1) | D48: 認知症専門ケア加算（Ⅰ）の基準のいずれにも該当している | AB48: □ | AC48: ・ | AD48: □
D49: ※認知症専門ケア加算（Ⅰ）に係る届出内容(1)～(3)も記入すること。
C51: (2) | D51: 認知症介護の指導に係る専門的な研修を修了している者を１名以上配置し、 | AB51: □ | AC51: ・ | AD51: □
D52: 事業所又は施設全体の認知症ケアの指導等を実施している
C54: (3) | D54: 事業所又は施設において介護職員、看護職員ごとの認知症ケアに関する研修計画を | AB54: □ | AC54: ・ | AD54: □
D55: 作成し、当該計画に従い、研修を実施又は実施を予定している
B56: 備考１ 要件を満たすことが分かる根拠書類を準備し、指定権者からの求めがあった場合には、速やかに提出
C57: すること。
B58: 備考２ 「認知症介護に係る専門的な研修」とは、認知症介護実践リーダー研修及び認知症看護に係る適切な
C59: 研修を、「認知症介護の指導に係る専門的な研修」とは、認知症介護指導者養成研修及び認知症看護に係る
C60: 適切な研修を指す。
C61: ※認知症看護に係る適切な研修： | K61: ①日本看護協会認定看護師教育課程「認知症看護」の研修
K62: ②日本看護協会が認定している看護系大学院の「老人看護」及び
K63: 「精神看護」の専門看護師教育課程
K64: ③日本精神科看護協会が認定している「精神科認定看護師」
K65: （認定証が発行されている者に限る）
B66: 備考３ 認知症専門ケア加算（Ⅱ）の算定にあっては、認知症介護実践リーダー研修と認知症介護指導者養成
C67: 研修の両方を修了した者、又は認知症看護に係る適切な研修を修了した者を１名配置する場合、「認知症介
C68: 護に係る専門的な研修」及び「認知症介護の指導に係る専門的な研修」の修了者をそれぞれ１名配置したこ
C69: とになる。

Sheet 別紙13
B2: （別紙13）
B4: 看取り連携体制加算に係る届出書
B5: （訪問入浴介護事業所、短期入所生活介護事業所、小規模多機能型居宅介護事業所）
B7: 事 業 所 名
B8: 異動等区分 | G8: □ | H8: 1 新規 | L8: □ | M8: 2 変更 | Q8: □ | R8: 3 終了
B9: 事業所等の区分 | G9: □ | H9: 1 訪問入浴介護事業所
G10: □ | H10: 2 短期入所生活介護事業所
G11: □ | H11: 3 小規模多機能型居宅介護事業所
B14: 看取り連携体制加算に係る届出内容 | V14: 有 | W14: ・ | X14: 無
C16: 訪問入浴 介護 | F16: ① | G16: 訪問看護ステーション等との連携により、利用者の状態等に応じた対応ができる連絡体制を確保し、かつ、必要に応じて当該訪問看護ステーション等により訪問看護等が提供されるよう訪問入浴介護を行う日時を当該訪問看護ステーション等と調整している。 | V16: □ | W16: ・ | X16: □
F17: ② | G17: 看取り期における対応方針を定め、利用開始の際に、利用者又はその家族等に対して、当該対応方針の内容を説明し、同意を得ている。 | V17: □ | W17: ・ | X17: □
F18: ③ | G18: 看取りに関する職員研修を行っている。 | V18: □ | W18: ・ | X18: □
F19: ④ | G19: 「人生の最終段階における医療・ケアの決定プロセスに関するガイドライン」等の内容に沿った取組を行っている。 | V19: □ | W19: ・ | X19: □
C21: 短期入所 生活介護 | F21: ① | G21: 看護体制加算（Ⅱ）又は（Ⅳ）イ若しくはロを算定している。 | V21: □ | W21: ・ | X21: □
F22: ② | G22: 看護体制加算（Ⅰ）又は（Ⅲ）イ若しくはロを算定している。かつ、短期入所生活介護事業所の看護職員により、又は病院、診療所、訪問看護ステーション若しくは本体施設の看護職員との連携により24時間連絡でき る体制を確保している。 | V22: □ | W22: ・ | X22: □
F23: ③ | G23: 看取り期における対応方針を定め、利用開始の際に、登録者又はその家族等に当該方針の内容を説明し、同意を得ている。 | V23: □ | W23: ・ | X23: □
F24: ④ | G24: ケアカンファレンスや対応の実践を振り返る等により、看取り期における対応方針の内容その他看取り期におけるサービス体制について、適宜見直しを行っている。 | V24: □ | W24: ・ | X24: □
F25: ⑤ | G25: 短期入所生活介護事業所において看取りを行う際には、個室又は静養室を利用するなど、プライバシーの確保及び家族へ配慮をすることについて十分留意している。 | V25: □ | W25: ・ | X25: □
F26: ⑥ | G26: 「人生の最終段階における医療・ケアの決定プロセスに関するガイドライン」等の内容に沿った取組を行っている。 | V26: □ | W26: ・ | X26: □
C28: 小規模多機能型居宅介護 | F28: ① | G28: 看護職員配置加算（Ⅰ）を算定している。 | V28: □ | W28: ・ | X28: □
F29: ② | G29: 看護師により24時間連絡できる体制を確保している。 | V29: □ | W29: ・ | X29: □
F30: ③ | G30: 看取り期における対応方針を定め、利用開始の際に、登録者又はその家族等に当該方針の内容を説明し、同意を得ている。 | V30: □ | W30: ・ | X30: □
F31: ④ | G31: ケアカンファレンスや対応の実践を振り返る等により、看取り期における対応方針の内容その他看取り期におけるサービス体制について、適宜見直しを行っている。 | V31: □ | W31: ・ | X31: □
F32: ⑤ | G32: 宿泊室等において看取りを行う場合に、プライバシーの確保及び家族へ配慮をすることについて十分留意している。 | V32: □ | W32: ・ | X32: □
F33: ⑥ | G33: 「人生の最終段階における医療・ケアの決定プロセスに関するガイドライン」等の内容に沿った取組を行っている。 | V33: □ | W33: ・ | X33: □
B36: 備考 要件を満たすことが分かる根拠書類を準備し、指定権者からの求めがあった場合には、
B37: 速やかに提出すること。

Sheet 別紙14－4
B2: （別紙１4－４）
V3: 令和 | Y3: 年 | AB3: 月 | AE3: 日
B5: サービス提供体制強化加算に関する届出書
B6: （介護予防）短期入所生活介護、（介護予防）短期入所療養介護、介護老人福祉施設、 地域密着型介護老人福祉施設、介護老人保健施設、介護医療院
B8: 1 事 業 所 名
B9: 2 異 動 区 分 | G9: □ | H9: 1 新規 | L9: □ | M9: 2 変更 | Q9: □ | R9: 3 終了
B10: 3 施 設 種 別 | G10: □ | H10: 1（介護予防）短期入所生活介護（ | R10: □ | S10: ア 単独型 | V10: □ | W10: イ 併設型 | Z10: □ | AA10: ウ 空床利用型）
G11: □ | H11: 2（介護予防）短期入所療養介護 | R11: □ | S11: 3 介護老人福祉施設
G12: □ | H12: 4 地域密着型介護老人福祉施設 | R12: □ | S12: 5 介護老人保健施設
G13: □ | H13: 6 介護医療院
B14: 4 届 出 項 目 | G14: □ | H14: 1 サービス提供体制強化加算（Ⅰ） | S14: □ | T14: 2 サービス提供体制強化加算（Ⅱ）
G15: □ | H15: 3 サービス提供体制強化加算（Ⅲ）
B17: 5 介護職員等の状況
B18: （１）サービス提供体制強化加算（Ⅰ）
B20: 介護福祉士等の 状況
H21: ①に占める②の割合が80％以上 | AB21: 有 | AC21: ・ | AD21: 無
I22: ① | J22: 介護職員の総数（常勤換算） | X22: 人
I23: ② | J23: ①のうち介護福祉士の総数（常勤換算） | X23: 人 | AB23: □ | AC23: ・ | AD23: □
H24: 又は
H25: ①に占める③の割合が35％以上
I26: ③ | J26: ①のうち勤続年数10年以上の介護福祉士の総数（常勤換算） | X26: 人 | AB26: □ | AC26: ・ | AD26: □
B29: サービスの質の向上に資する 取組の状況 | G29: ※（地域密着型）介護老人福祉施設、介護老人保健施設、介護医療院は記載
B33: （２）サービス提供体制強化加算（Ⅱ）
B35: 介護福祉士等の 状況
H36: ①に占める②の割合が60％以上 | AB36: 有 | AC36: ・ | AD36: 無
I37: ① | J37: 介護職員の総数（常勤換算） | X37: 人
I38: ② | J38: ①のうち介護福祉士の総数（常勤換算） | X38: 人 | AB38: □ | AC38: ・ | AD38: □
B41: （３）サービス提供体制強化加算（Ⅲ）
B42: ※介護福祉士等の状況、常勤職員の状況、勤続年数の状況のうち、いずれか１つを満たすこと。
B43: 介護福祉士等の 状況
H44: ①に占める②の割合が50％以上 | AB44: 有 | AC44: ・ | AD44: 無
I45: ① | J45: 介護職員の総数（常勤換算） | X45: 人
I46: ② | J46: ①のうち介護福祉士の総数（常勤換算） | X46: 人 | AB46: □ | AC46: ・ | AD46: □
B48: 常勤職員の 状況
H49: ①に占める②の割合が75％以上 | AB49: 有 | AC49: ・ | AD49: 無
I50: ① | J50: 看護・介護職員の総数（常勤換算） | X50: 人
I51: ② | J51: ①のうち常勤の者の総数（常勤換算） | X51: 人 | AB51: □ | AC51: ・ | AD51: □
B53: 勤続年数の状況
H54: ①に占める②の割合が30％以上 | AB54: 有 | AC54: ・ | AD54: 無
I55: ① | J55: サービスを直接提供する者の総数（常勤換算） | X55: 人
I56: ② | J56: ①のうち勤続年数７年以上の者の総数 （常勤換算） | X56: 人 | AB56: □ | AC56: ・ | AD56: □
B59: 備考１ | D59: 要件を満たすことが分かる根拠書類を準備し、指定権者からの求めがあった場合には、速やかに提出すること。
B60: 備考２ | D60: 介護老人福祉施設又は地域密着型介護老人福祉施設と（介護予防）短期入所生活介護において、別の加算を取得する場合は、別に本届出書を提出すること。空床利用型の（介護予防）短期入所生活介護について届け出る場合は、本体施設である介護老人福祉施設又は地域密着型介護老人福祉施設における状況を記載すること。

Sheet 別紙14－6
B2: （別紙14－6）
U3: 令和 | X3: 年 | AA3: 月 | AD3: 日
B5: サービス提供体制強化加算に関する届出書
B6: （介護予防）特定施設入居者生活介護、地域密着型特定施設入居者生活介護、 （介護予防）認知症対応型共同生活介護
B8: 1 事 業 所 名
B9: 2 異 動 区 分 | G9: □ | H9: 1 新規 | L9: □ | M9: 2 変更 | Q9: □ | R9: 3 終了
B10: 3 施 設 種 別 | G10: □ | H10: 1 （介護予防）特定施設入居者生活介護
G11: □ | H11: 2 地域密着型特定施設入居者生活介護
G12: □ | H12: 3 （介護予防）認知症対応型共同生活介護
B13: 4 届 出 項 目 | G13: □ | H13: 1 サービス提供体制強化加算（Ⅰ） | S13: □ | T13: 2 サービス提供体制強化加算（Ⅱ）
G14: □ | H14: 3 サービス提供体制強化加算（Ⅲ）
B16: 5 介護職員等の状況
B17: （１）サービス提供体制強化加算（Ⅰ）
B19: 介護福祉士等の 状況
H20: ①に占める②の割合が70％以上 | AA20: 有 | AB20: ・ | AC20: 無
I21: ① | J21: 介護職員の総数（常勤換算） | W21: 人
I22: ② | J22: ①のうち介護福祉士の総数（常勤換算） | W22: 人 | AA22: □ | AB22: ・ | AC22: □
H23: 又は
H24: ①に占める③の割合が25％以上
I25: ③ | J25: ①のうち勤続年数10年以上の介護福祉士の総数（常勤換算） | W25: 人 | AA25: □ | AB25: ・ | AC25: □
B28: サービスの質の向上に資する 取組の状況 | G28: ※（介護予防）特定施設入居者生活介護、地域密着型特定施設入居者生活介護は記載
B32: （２）サービス提供体制強化加算（Ⅱ）
B34: 介護福祉士等の 状況
H35: ①に占める②の割合が60％以上 | AA35: 有 | AB35: ・ | AC35: 無
I36: ① | J36: 介護職員の総数（常勤換算） | W36: 人
I37: ② | J37: ①のうち介護福祉士の総数（常勤換算） | W37: 人 | AA37: □ | AB37: ・ | AC37: □
B40: （３）サービス提供体制強化加算（Ⅲ）
B41: ※介護福祉士等の状況、常勤職員の状況、勤続年数の状況のうち、いずれか１つを満たすこと。
B42: 介護福祉士等の 状況
H43: ①に占める②の割合が50％以上 | AA43: 有 | AB43: ・ | AC43: 無
I44: ① | J44: 介護職員の総数（常勤換算） | W44: 人
I45: ② | J45: ①のうち介護福祉士の総数（常勤換算） | W45: 人 | AA45: □ | AB45: ・ | AC45: □
B47: 常勤職員の 状況
H48: ①に占める②の割合が75％以上 | AA48: 有 | AB48: ・ | AC48: 無
I49: ① | J49: 看護・介護職員の総数（常勤換算） | W49: 人
I50: ② | J50: ①のうち常勤の者の総数（常勤換算） | W50: 人 | AA50: □ | AB50: ・ | AC50: □
B52: 勤続年数の状況
H53: ①に占める②の割合が30％以上 | AA53: 有 | AB53: ・ | AC53: 無
I54: ① | J54: サービスを直接提供する者の総数 （常勤換算） | W54: 人
I55: ② | J55: ①のうち勤続年数７年以上の者の総数 （常勤換算） | W55: 人 | AA55: □ | AB55: ・ | AC55: □
B58: 備考 | D58: 要件を満たすことが分かる根拠書類を準備し、指定権者からの求めがあった場合には、速やかに提出すること。

Sheet 別紙21
B2: （別紙21）
B4: 生活相談員配置等加算に係る届出書
B6: 事 業 所 名
B7: 異動等区分 | G7: □ | H7: 1 新規 | L7: □ | M7: 2 変更 | Q7: □ | R7: 3 終了
B8: 事業所等の区分 | G8: □ | H8: 1 通所介護事業所
G9: □ | H9: 2 地域密着型通所介護事業所
G10: □ | H10: 3 （介護予防）短期入所生活介護事業所
B13: 生活相談員配置等加算に係る届出内容 | V13: 有 | W13: ・ | X13: 無
C15: 通所介護 | F15: ① | G15: 共生型通所介護費を算定している。 | V15: □ | W15: ・ | X15: □
F16: ② | G16: 生活相談員を、共生型通所介護の提供日ごとに、当該共生型通所介護を行う時間帯を通じて１名以上配置している。 | V16: □ | W16: ・ | X16: □
F17: ③ | G17: 当該生活相談員が、地域に貢献する活動を行っている。 | V17: □ | W17: ・ | X17: □
C19: 地域密着型 通所介護 | F19: ① | G19: 共生型地域密着型通所介護費を算定している。 | V19: □ | W19: ・ | X19: □
F20: ② | G20: 生活相談員を、共生型地域密着型通所介護の提供日ごとに、当該共生型地域密着型通所介護を行う時間帯を通じて１名以上配置している。 | V20: □ | W20: ・ | X20: □
F21: ③ | G21: 当該生活相談員が、地域に貢献する活動を行っている。 | V21: □ | W21: ・ | X21: □
C23: (介護予防) 短期入所 生活介護 | F23: ① | G23: 共生型短期入所生活介護費を算定している。 | V23: □ | W23: ・ | X23: □
F24: ② | G24: 生活相談員を、常勤換算方法で１名以上配置している。 | V24: □ | W24: ・ | X24: □
F25: ③ | G25: 当該生活相談員が、地域に貢献する活動を行っている。 | V25: □ | W25: ・ | X25: □
B28: 備考 要件を満たすことが分かる根拠書類を準備し、指定権者からの求めがあった場合には、
B29: 速やかに提出すること。

Sheet 別紙25
B2: （別紙25）
B4: 看護体制加算に係る届出書 （短期入所生活介護事業所）
B6: 事 業 所 名
B7: 異動等区分 | G7: □ | H7: 1 新規 | L7: □ | M7: 2 変更 | Q7: □ | R7: 3 終了
B8: 届 出 項 目 | G8: □ | H8: 1 看護体制加算（Ⅰ） | Q8: □ | R8: 2 看護体制加算（Ⅱ）
G9: □ | H9: 3 看護体制加算（Ⅲ）イ | Q9: □ | R9: 4 看護体制加算（Ⅲ）ロ
G10: □ | H10: 5 看護体制加算（Ⅳ）イ | Q10: □ | R10: 6 看護体制加算（Ⅳ）ロ
B13: 看護体制加算に係る届出内容
C15: 定員及び利用者数の状況
C17: 定員 | N17: 人 | P17: 利用者数 | Y17: 人
C19: 看護職員の状況
C21: 看護師 | J21: 常勤 | P21: 人
C22: 看護職員（看護師・准看護師） | J22: 常勤換算 | P22: 人
C24: 連携する病院・診療所・訪問看護ステーション
C26: 病院・診療所・訪問看護ステーション名 | P26: 事業所番号
C33: 24時間常時連絡できる体制を整備している。 | W33: 有 | X33: ・ | Y33: 無
W34: □ | X34: ・ | Y34: □
C36: 中重度者の受入状況
C38: ［ | D38: □ | E38: 前年度 | G38: □ | H38: 前三月 | J38: ］における（[ ]はいずれかの□を■にする） | W38: 有 | X38: ・ | Y38: 無
C39: 利用者の総数のうち、要介護３、要介護４又は要介護５の利用者の | W39: □ | X39: ・ | Y39: □
C40: 占める割合が70％以上
B42: 備考 看護体制について、体制を整備している場合について提出してください。

Sheet 別紙25－2
B2: （別紙25－2）
B4: 看護体制加算に係る届出書
B6: 事 業 所 名
B7: 異動等区分 | G7: □ | H7: 1 新規 | L7: □ | M7: 2 変更 | Q7: □ | R7: 3 終了
B8: 施 設 種 別 | G8: □ | H8: 1 介護老人福祉施設 | P8: □ | Q8: 2 地域密着型介護老人福祉施設
B9: 届 出 項 目 | G9: □ | H9: 1 看護体制加算（Ⅰ）イ | Q9: □ | R9: 2 看護体制加算（Ⅰ）ロ
G10: □ | H10: 3 看護体制加算（Ⅱ）イ | Q10: □ | R10: 4 看護体制加算（Ⅱ）ロ
B13: 看護体制加算に関する届出内容
C15: 定員及び入所者の状況
C17: 定員 | N17: 人 | P17: 入所者数 | Y17: 人
C19: 看護職員の状況
C21: 保 健 師 | H21: 常勤 | N21: 人 | O21: 常勤換算 | U21: 人
C22: 看 護 師 | H22: 常勤 | N22: 人 | O22: 常勤換算 | U22: 人
C23: 准看護師 | H23: 常勤 | N23: 人 | O23: 常勤換算 | U23: 人
C25: 連携する病院・診療所・訪問看護ステーション
C27: 病院・診療所・訪問看護ステーション名 | P27: 事業所番号
C34: 24時間常時連絡できる体制を整備している。 | W34: 有 | X34: ・ | Y34: 無
W35: □ | X35: ・ | Y35: □

Sheet 別紙26
B2: （別紙26）
B4: 医療連携強化加算に係る届出書 （短期入所生活介護事業所）
B6: 事 業 所 名
B7: 異動等区分 | G7: □ | H7: 1 新規 | L7: □ | M7: 2 変更 | Q7: □ | R7: 3 終了
B10: 医療連携強化加算に係る届出内容 | V10: 有 | W10: ・ | X10: 無
C12: ① | E12: 看護体制加算（Ⅱ）又は（Ⅳ）を算定している。 | V12: □ | W12: ・ | X12: □
C13: ② | E13: 利用者の急変の予測や早期発見等のため、看護職員による定期的な巡視を行っている。 | V13: □ | W13: ・ | X13: □
C14: ③ | E14: 主治の医師と連絡が取れない等の場合に備えて、あらかじめ協力医療機関を定め、緊急やむを得ない場合の対応に係る取り決めを行っている。 | V14: □ | W14: ・ | X14: □
C15: ④ | E15: 主治の医師との連携方法や搬送方法も含め、急変時の医療提供の方針について、利用者から同意を得ている。また当該同意を文書で記録している。 | V15: □ | W15: ・ | X15: □
C16: ⑤ | E16: 同加算を算定する利用者は、以下のいずれかに該当する者である。 イ 喀痰吸引を実施している状態 ロ 呼吸障害等により人工呼吸器を使用している状態 ハ 中心静脈注射を実施している状態 ニ 人工腎臓を実施している状態 ホ 重篤な心機能障害、呼吸障害等により常時モニター測定を 実施している状態 ヘ 人工膀胱又は人工肛門の処置を実施している状態 ト 経鼻胃管や胃瘻等の経腸栄養が行われている状態 チ 褥瘡に対する治療を実施している状態 リ 気管切開が行われている状態 | V16: □ | W16: ・ | X16: □
C17: ⑥ | E17: 在宅中重度受入加算を算定していない。 | V17: □ | W17: ・ | X17: □
B20: 備考 要件を満たすことが分かる根拠書類を準備し、指定権者からの求めがあった場合には、
B21: 速やかに提出すること。

Sheet 別紙27
B2: （別紙27） | W2: 令和 | Y2: 年 | AA2: 月 | AC2: 日
B4: テクノロジーの導入による夜勤職員配置加算に係る届出書
B6: 事 業 所 名
B7: 異動等区分 | G7: □ | H7: 1 新規 | L7: □ | M7: 2 変更 | Q7: □ | R7: 3 終了
B8: 施 設 種 別 | G8: □ | H8: 1 介護老人福祉施設 | Q8: □ | R8: 2 地域密着型介護老人福祉施設
G9: □ | H9: 3 短期入所生活介護
B11: 以下について、該当する届出項目における必要事項を記載すること。
B13: 配置要件① 最低基準に加えて配置する人員が「0.9人配置」
C15: ① 入所（利用）者数
N17: 人
C19: ② 見守り機器を導入して見守りを行っている対象者数
N21: 人
C23: ③ ①に占める②の割合 | Z23: 有 | AA23: ・ | AB23: 無
N25: ％ | P25: → | S25: １０％以上 | Z25: □ | AA25: ・ | AB25: □
C27: ④ 導入機器
C29: 名 称
C30: 製造事業者
C31: 用 途
Z32: 有 | AA32: ・ | AB32: 無
C33: ⑤ 導入機器の継続的な使用（９週間以上） | Z33: □ | AA33: ・ | AB33: □
C35: ⑥ 導入機器を安全かつ有効に活用するための委員会における、ヒヤリハット・ 介護事故が減少していることの確認、必要な分析・検討等 | Z35: □ | AA35: ・ | AB35: □
B38: 配置要件② 最低基準に加えて配置する人員が「0.6人配置」
Z40: 有 | AA40: ・ | AB40: 無
C41: ① 入所（利用）者全員に見守り機器を使用 | Z41: □ | AA41: ・ | AB41: □
C43: ② 夜勤職員全員がインカム等のICTを使用 | Z43: □ | AA43: ・ | AB43: □
C45: ③ 導入機器
C47: 名 称
C48: 製造事業者
C49: 用 途
C51: ④ 利用者の安全やケアの質の確保、職員の負担の軽減を図るため、以下のすべての 項目について、テクノロジー導入後、少なくとも３か月以上実施 | Z51: 有 | AA51: ・ | AB51: 無
D53: ⅰ 利用者の安全やケアの質の確保、職員の負担を軽減するための委員会の設置 | Z53: □ | AA53: ・ | AB53: □
D55: ⅱ 職員に対する十分な休憩時間の確保等の勤務・雇用条件への配慮 | Z55: □ | AA55: ・ | AB55: □
D57: ⅲ 機器の不具合の定期チェックの実施（メーカーとの連携を含む） | Z57: □ | AA57: ・ | AB57: □
D59: ⅳ 職員に対するテクノロジー活用に関する教育の実施 | Z59: □ | AA59: ・ | AB59: □
D61: ⅴ 夜間の訪室が必要な利用者に対する訪室の個別実施 | Z61: □ | AA61: ・ | AB61: □
C63: ⑤ ④ⅰの委員会で安全体制やケアの質の確保、職員の負担軽減が図られている ことを確認 | Z63: □ | AA63: ・ | AB63: □
B65: 備考１ 配置要件②については、要件を満たすことが分かる議事概要を提出すること。このほか要件を満たすことが分かる
B66: 根拠書類を準備し、指定権者からの求めがあった場合には、速やかに提出すること。
B67: 備考２ 配置要件②の④ⅰの委員会には、夜勤職員をはじめ実際にケア等を行う多職種の職員が参画すること。
B68: 備考３ テクノロジーを導入した場合の介護老人福祉施設の夜間の人員配置基準（従来型）を適用する場合は、当該加算の
B69: 職員に対しても情報共有できるよう、議事概要を作成して職員全体に周知すること。 | C69: 配置要件②の「0.6人配置」を「0.8人配置」に読み替えるものとする。

Sheet 別紙28
B2: （別紙28） | AA2: 令和 年 月 日
B4: 生産性向上推進体制加算に係る届出書
B6: 事業所番号
B7: 事 業 所 名
B8: 異動等区分 | G8: 1 新規 2 変更 3 終了
B9: 施 設 種 別 | G9: １ 短期入所生活介護 | N9: ２ 短期入所療養介護 | U9: ３ 特定施設入居者生活介護
G10: ４ 小規模多機能型居宅介護 | N10: ５ 認知症対応型共同生活介護 | U10: ６ 地域密着型特定施設入居者生活介護
G11: ７ 地域密着型介護老人福祉施設 | N11: ８ 看護小規模多機能型居宅介護 | U11: ９ 介護老人福祉施設
G12: 10 介護老人保健施設 | N12: 11 介護医療院 | U12: 12 介護予防短期入所生活介護
G13: 13 介護予防短期入所療養介護 | N13: 14 介護予防特定施設入居者生活介護 | U13: 15 介護予防小規模多機能型居宅介護
G14: 16 介護予防認知症対応型共同生活介護
B15: 届出区分 | G15: １ 生産性向上推進体制加算（Ⅰ） ２ 生産性向上推進体制加算（Ⅱ）
B17: 生産性向上推進体制加算（Ⅰ）に係る届出
C19: ① 加算（Ⅱ）のデータ等により業務改善の取組による成果を確認 | Y19: 有・無
C21: ② 以下のⅰ～ⅲの項目の機器をすべて使用
C22: ⅰ入所（利用）者全員に見守り機器を使用 | Y22: 有・無
C23: ⅱ 職員全員がインカム等のICTを使用 | Y23: 有・無
C24: ⅲ 介護記録ソフト、スマートフォン等の介護記録の作成の効率化に | Y24: 有・無
D25: 資するICTを使用
C26: （導入機器）
C28: 名 称
C29: 製造事業者
C30: 用 途
C32: ③ 職員間の適切な役割分担（いわゆる介護助手の活用等）の取組等を実施 | Y32: 有・無
C34: ④ 利用者の安全並びに介護サービスの質の確保及び職員の負担軽減に資する方策を検討するため
C35: の委員会（以下「委員会」という。）において、以下のすべての項目について必要な検討を行い、
C36: 当該項目の実施を確認
D38: ⅰ ②の機器を利用する場合における利用者の安全やケアの質の確保 | Y38: 有・無
D39: ⅱ 職員に対する十分な休憩時間の確保等の勤務・雇用条件への配慮 | Y39: 有・無
D40: ⅲ 機器の不具合の定期チェックの実施（メーカーとの連携を含む） | Y40: 有・無
D41: ⅳ 業務の効率化、ケアの質の確保、職員の負担軽減を図るための職 | Y41: 有・無
D42: 員に対する教育の実施
B45: 生産性向上推進体制加算（Ⅱ）に係る届出
C47: ① 以下のⅰ～ⅲの項目の機器のうち１つ以上を使用
C48: ⅰ入所（利用）者１名以上に見守り機器を使用 | Y48: 有・無
D49: 入所（利用）者数 | R49: 人
D50: 見守り機器を導入して見守りを行っている対象者数 | R50: 人
C51: ⅱ 職員全員がインカム等のICTを使用 | Y51: 有・無
C52: ⅲ 介護記録ソフト、スマートフォン等の介護記録の作成の効率化に | Y52: 有・無
D53: 資するICTを使用
C54: （導入機器）
C56: 名 称
C57: 製造事業者
C58: 用 途
C60: ② 委員会において、以下のすべての項目について必要な検討を行い、当該項目の実施を確認
D62: ⅰ ①の機器を利用する場合における利用者の安全やケアの質の確保 | Y62: 有・無
D63: ⅱ 職員に対する十分な休憩時間の確保等の勤務・雇用条件への配慮 | Y63: 有・無
D64: ⅲ 機器の不具合の定期チェックの実施（メーカーとの連携を含む） | Y64: 有・無
D65: ⅳ 業務の効率化、ケアの質の確保、職員の負担軽減を図るための職 | Y65: 有・無
D66: 員に対する教育の実施
B69: 備考１ 加算（Ⅰ）の要件①については、当該要件に係る各種指標に関する調査結果のデータを提出すること。
B70: 備考２ 要件を満たすことが分かる委員会の議事概要を提出すること。このほか要件を満たすことが分かる根拠書類を準備し、
B71: 指定権者からの求めがあった場合には、速やかに提出すること。
B72: 備考３ 本加算を算定する場合は、事業年度毎に取組の実績をオンラインで厚生労働省に報告すること。
B73: 備考４ 届出にあたっては、別途通知（「生産性向上推進体制加算に関する基本的考え方並びに事務処理手順及び様式例
B74: 等の提示について」）を参照すること。

Sheet 別紙29
B2: （別紙29）
W3: 令和 | Z3: 年 | AC3: 月 | AE3: 日
B5: 介護老人保健施設（基本型・在宅強化型）の基本施設サービス費及び在宅復帰・在宅療養支援機能加算に係る届出書
B7: １ 事 業 所 名
B8: ２ 異 動 区 分 | H8: □ | I8: 1 新規 | M8: □ | N8: 2 変更 | S8: □ | T8: 3 終了
B9: ３ 人員配置区分 | H9: □ | I9: 1 介護老人保健施設（在宅強化型） | S9: □ | T9: 2 介護老人保健施設（基本型）
B10: ４ 届 出 項 目 | H10: □ | I10: 1 在宅復帰・在宅療養支援機能加算（Ⅰ）（介護老人保健施設（基本型）のみ）
H11: □ | I11: 2 在宅復帰・在宅療養支援機能加算（Ⅱ）（介護老人保健施設（強化型）のみ）
B14: ５ 在宅復帰・在宅療養支援に関する状況 | AD14: 在宅復帰・在宅療養支援等指標
G16: A 在宅復帰率
H17: ① | I17: 前６月間における居宅への退所者の延数（注１,２,３,４） | O17: 人 | P17: → | Q17: ④ | R17: ①÷（②ー③）×１００ （注５） | X17: ％ | Y17: → | Z17: ５０％超 | AD17: □ | AE17: 20
H18: ② | I18: 前６月間における退所者の延数 （注３,４） | O18: 人 | Y18: → | Z18: ３０％超５０％以下 | AD18: □ | AE18: 10
H19: ③ | I19: 前６月間における死亡した者の総数 （注３） | O19: 人 | Y19: → | Z19: ３０％以下 | AD19: □ | AE19: 0
G21: B ベッド回転率
H22: ① | I22: 直近３月間の延入所者数（注６） | O22: 人 | P22: → | Q22: ④ | R22: 30.4÷①×(②＋③)÷２×100 | X22: ％ | Y22: → | Z22: １０％以上 | AD22: □ | AE22: 20
H23: ② | I23: 直近３月間の新規入所者の延数 （注６,７） | O23: 人 | Y23: → | Z23: ５％以上１０％未満 | AD23: □ | AE23: 10
H24: ③ | I24: 直近３月間の新規退所者数（注８） | O24: 人 | Y24: → | Z24: ５％未満 | AD24: □ | AE24: 0
G26: C 入所前後訪問指導割合
H27: ① | I27: 前３月間における新規入所者のうち、入所前後訪問指導を行った者の延数 （注９,１０,１１） | O27: 人 | P27: → | Q27: ④ | R27: ①÷②×１００（注１２） | X27: ％ | Y27: → | Z27: ３０％以上 | AD27: □ | AE27: 10
Y28: → | Z28: １０％以上３０％未満 | AD28: □ | AE28: 5
H29: ② | I29: 前３月間における新規入所者の延数 （注１１） | O29: 人 | Y29: → | Z29: １０％未満 | AD29: □ | AE29: 0
G31: D 退所前後訪問指導割合
H32: ① | I32: 前３月間における新規退所者のうち、退所前後訪問指導を行った者の延数 （注１３,１４,１５） | O32: 人 | P32: → | Q32: ④ | R32: ①÷②×１００（注１６） | X32: ％ | Y32: → | Z32: ３０％以上 | AD32: □ | AE32: 10
Y33: → | Z33: １０％以上３０％未満 | AD33: □ | AE33: 5
H34: ② | I34: 前３月間における居宅への新規退所者の延数（注１５） | O34: 人 | Y34: → | Z34: １０％未満 | AD34: □ | AE34: 0
G36: E 居宅サービスの実施状況
H37: ① | I37: 前３月間に提供実績のある訪問リハビリテーション、通所リハビリテーション及び短期入所療養介護の種類数（注１７） | V37: → | Y37: → | Z37: ３サービス | AD37: □ | AE37: 5
Y38: → | Z38: ２サービス | AD38: □ | AE38: 3
Y39: → | Z39: １サービス | AD39: □ | AE39: 2
Y40: → | Z40: ０サービス | AD40: □ | AE40: 0
G42: F リハ専門職員の配置割合
H43: ① | I43: 前３月間における理学療法士等の当該介護保健施設サービスの提供に従事する勤務延時間数（注１８） | O43: 時間 | P43: → | Q43: ⑤ | R43: ①÷②÷③×④×１００ | Y43: → | Z43: ５以上 | AD43: □ | AE43: 5
H44: ② | I44: 理学療法士等が前３月間に勤務すべき時間 （注１８,１９） | O44: 時間 | Y44: → | Z44: ３以上５未満 | AD44: □ | AE44: 3
H45: ③ | I45: 算定日が属する月の前３月間における延入所者数（注２０） | O45: 人 | Y45: → | Z45: ３未満 | AD45: □ | AE45: 0
H46: ④ | I46: 算定日が属する月の前３月間の日数 | O46: 日
G48: G 支援相談員の配置割合
H49: ① | I49: 前３月間において支援相談員が当該介護保健施設サービスの提供に従事する勤務延時間数（注２１） | O49: 時間 | P49: → | Q49: ⑤ | R49: ①÷②÷③×④×１００ | Y49: → | Z49: ３以上 | AD49: □ | AE49: 5
H50: ② | I50: 支援相談員が前３月間に勤務すべき時間 （注１９） | O50: 時間 | Y50: → | Z50: ２以上３未満 | AD50: □ | AE50: 3
H51: ③ | I51: 前３月間における延入所者数 （注２０） | O51: 人 | Y51: → | Z51: ２未満 | AD51: □ | AE51: 0
H52: ④ | I52: 前３月間の延日数 | O52: 日
G54: H 要介護４又は５の割合
H55: ① | I55: 前３月間における要介護４若しくは要介護５に該当する入所者の延日数 | O55: 日 | P55: → | Q55: ③ | R55: ①÷②×１００ | X55: ％ | Y55: → | Z55: ５０％以上 | AD55: □ | AE55: 5
H56: ② | I56: 当該施設における直近３月間の入所者延日数 | O56: 日 | Y56: → | Z56: ３５％以上５０％未満 | AD56: □ | AE56: 3
Y57: → | Z57: ３５％未満 | AD57: □ | AE57: 0
G59: I 喀痰吸引の実施割合
H60: ① | I60: 直近３月間の入所者ごとの喀痰吸引を実施した延入所者数 （注２２,２３） | O60: 人 | P60: → | Q60: ③ | R60: ①÷②×１００ | X60: ％ | Y60: → | Z60: １０％以上 | AD60: □ | AE60: 5
H61: ② | I61: 当該施設における直近３月間の延入所者数 | O61: 人 | Y61: → | Z61: ５％以上１０％未満 | AD61: □ | AE61: 3
Y62: → | Z62: ５％未満 | AD62: □ | AE62: 0
G64: J 経管栄養の実施割合
H65: ① | I65: 直近３月間の入所者ごとの経管栄養を実施した延入所者数 （注２２,２４） | O65: 人 | P65: → | Q65: ③ | R65: ①÷②×１００ | X65: ％ | Y65: → | Z65: １０％以上 | AD65: □ | AE65: 5
H66: ② | I66: 当該施設における直近３月間の延入所者数 | O66: 人 | Y66: → | Z66: ５％以上１０％未満 | AD66: □ | AE66: 3
Y67: → | Z67: ５％未満 | AD67: □ | AE67: 0
AD69: ↓
I70: 上記評価項目（A～J）について、項目に応じた「在宅復帰・在宅療養支援等指標」の合計値を記入 | AB70: 合計
B74: ６ 介護老人保健施設の基本サービス費に係る届出内容
AC76: 有 | AD76: ・ | AE76: 無
C77: ① 基本型 | J77: ① | K77: 在宅復帰・在宅療養支援等指標の合計値が２０以上 | AC77: □ | AD77: ・ | AE77: □
J78: ② | K78: 退所時指導等の実施（注２５） | AC78: □ | AD78: ・ | AE78: □
J79: ③ | K79: リハビリテーションマネジメントの実施（注２６） | AC79: □ | AD79: ・ | AE79: □
AC82: 有 | AD82: ・ | AE82: 無
C83: ② 在宅強化型 | J83: ① | K83: 在宅復帰・在宅療養支援等指標の合計値が６０以上 | AC83: □ | AD83: ・ | AE83: □
J84: ② | K84: 退所時指導等の実施（注２５） | AC84: □ | AD84: ・ | AE84: □
J85: ③ | K85: リハビリテーションマネジメントの実施（注２６） | AC85: □ | AD85: ・ | AE85: □
J86: ④ | K86: 地域に貢献する活動の実施 | AC86: □ | AD86: ・ | AE86: □
J87: ⑤ | K87: 充実したリハビリテーションの実施（注２７） | AC87: □ | AD87: ・ | AE87: □
B90: ７ 在宅復帰・在宅療養支援機能加算に係る届出内容
AC92: 有 | AD92: ・ | AE92: 無
C93: ① 在宅復帰・在宅療養支援機能加算（Ⅰ） | J93: ① | K93: 「６介護老人保健施設の基本サービス費に係る届出内容」における「①基本型」の項目が全て「有」 | AC93: □ | AD93: ・ | AE93: □
J94: ② | K94: 在宅復帰・在宅療養支援等指標の合計値が４０以上 | AC94: □ | AD94: ・ | AE94: □
J95: ③ | K95: 地域に貢献する活動の実施 | AC95: □ | AD95: ・ | AE95: □
AC98: 有 | AD98: ・ | AE98: 無
C99: ② 在宅復帰・在宅療養支援機能加算（Ⅱ） | J99: ① | K99: 「６介護老人保健施設の基本サービス費に係る届出内容」における「②在宅強化型」の項目が全て「有」 | AC99: □ | AD99: ・ | AE99: □
J100: ② | K100: 在宅復帰・在宅療養支援等指標の合計値が７０以上 | AC100: □ | AD100: ・ | AE100: □
B104: 注１：当該施設における入所期間が一月間を超えていた者の延数。 注２：居宅とは、病院、診療所及び介護保険施設を除くものである。 注３：当該施設を退所後、直ちに病院又は診療所に入院し、一週間以内に退院した後、直ちに再度当該施設に入所した者については、当該入院期間は入所期間とみなすこととする。 注４：退所後直ちに短期入所生活介護又は短期入所療養介護若しくは小規模多機能型居宅介護の宿泊サービス等を利用する者は居宅への退所者に含まない。 注５：分母（②ー③の値）が０の場合、④は０％とする。 注６：入所者とは、毎日24時現在当該施設に入所中の者をいい、この他に、当該施設に入所してその日のうちに退所又は死亡した者を含むものである。 注７：新規入所者数とは、当該３月間に新たに当該施設に入所した者の数をいう。当該３月以前から当該施設に入所していた者は、新規入所者数には算入しない。 また、当該施設を退所後、当該施設に再入所した者は、新規入所者として取り扱うが、当該施設を退所後、直ちに病院又は診療所に入院し、一週間以内に退院した後、 直ちに再度当該施設に入所した者については、新規入所者数には算入しない。 注８：当該３月間に当該施設から退所した者の数をいう。当該施設において死亡した者及び医療機関へ退所した者は、新規退所者に含むものである。ただし、当該施設を退所後、 直ちに病院又は診療所に入院し、一週間以内に退院した後、直ちに再度当該施設に入所した者については、新規退所者数には算入しない。 注９：居宅を訪問し、当該者及びその家族等に対して退所を目的とした施設サービス計画の策定及び診療方針の決定を行った者の数。 また、居宅とは、病院、診療所及び介護保険施設を除くものである。 注１０：退所後に当該者の自宅ではなく、他の社会福祉施設等に入所する場合であって、当該者の同意を得て、当該社会福祉施設等を訪問し、退所を目的とした施設サービス計画の 策定及び診療方針の決定を行った者を含む。 注１１：当該施設を退所後、直ちに病院又は診療所に入院し、一週間以内に退院した後、直ちに再度当該施設に入所した者については、入所者数には算入しない。 注１２：分母（②の値）が０の場合、④は０％とする。 注１３：退所後生活することが見込まれる居宅を訪問し、当該者及びその家族等に対して退所後の療養上の指導を行った者。 また、居宅とは、病院、診療所及び介護保険施設を除くものである。 注１４：退所後に当該者の自宅ではなく、他の社会福祉施設等に入所する場合であって、当該者の同意を得て、当該社会福祉施設等を訪問し、退所を目的とした施設サービス計画の 策定及び診療方針の決定を行った者を含む。 注１５：当該施設を退所後、直ちに病院又は診療所に入院し、一週間以内に退院した後、直ちに再度当該施設に入所した者については、当該入院期間は入所期間とみなすこととする。 注１６：分母（②の値）が０の場合、④は０％とする。 注１７：当該施設と同一敷地内又は隣接若しくは近接する敷地の病院、診療所、介護老人保健施設又は介護医療院であって、相互に職員の兼務や施設の共用等が行われているもの において、算定日が属する月の前３月間に提供実績のある訪問リハビリテーション、通所リハビリテーション及び短期入所療養介護の種類数を含む。 注１８：理学療法士等とは、当該介護老人保健施設の入所者に対して主としてリハビリテーションを提供する業務に従事している理学療法士等をいう。 注１９：１週間に勤務すべき時間数が32時間を下回る場合は32時間を基本とする。 注２０：毎日24時現在当該施設に入所中の者をいい、当該施設に入所してその日のうちに退所又は死亡した者を含むものである。 注２１：支援相談員とは、保健医療及び社会福祉に関する相当な学識経験を有し、主として次に掲げるような入所者に対する各種支援及び相談の業務を行う職員をいう。 ① 入所者及び家族の処遇上の相談、② レクリエーション等の計画、指導、③ 市町村との連携、④ ボランティアの指導 注２２： 喀痰吸引及び経管栄養のいずれにも該当する者については、各々該当する欄の人数に含めること。
B105: 注２３：過去１年間に喀痰吸引が実施されていた者（入所期間が1年以上である入所者にあっては、当該入所期間中（入所時を含む。）に喀痰吸引が実施されていた者）であって、 口腔衛生管理加算を算定されている者又は平成27年度から令和２年度の口腔衛生管理体制加算の算定要件を満たしている者(平成26年度以前においては、口腔機能維持管理加算又は 口腔機能維持管理体制加算を算定されていた者及び平成27年度から令和２年度においては口腔衛生管理加算又は口腔衛生管理体制加算を算定されていた者)を含む。 注２４：過去１年間に経管栄養が実施されていた者（入所期間が1年以上である入所者にあっては、当該入所期間中（入所時を含む。）に経管栄養が実施されていた者）であって、 経口維持加算を算定しているもの又は管理栄養士が栄養ケア・マネジメントを実施するもの（令和2年度以前においては、経口維持加算又は栄養マネジメント加算を算定されていた 者）を含む。 注２５：退所者（当該施設内で死亡した者及び当該施設を退所後、直ちに病院又は診療所に入院し、一週間以内に退院した後、直ちに再度当該施設に入所した者を除く。）の退所後 30日以内（当該退所者の退所時の要介護状態区分が要介護四又は要介護五の場合にあっては、14日以内）に、当該施設の従業者が当該退所者の居宅を訪問し、又は指定居宅 介護支援事業者から情報提供を受けることにより、当該退所者の居宅における生活が継続する見込みであることを確認し、記録していること。 注２６：入所者の心身の諸機能の維持回復を図り、日常生活の自立を助けるため、理学療法、作業療法その他必要なリハビリテーションを計画的に行い、適宜その評価を行っていること。 注２７：入所者に対し、少なくとも週三回程度のリハビリテーションを実施していること。
B106: ※ 各要件を満たす場合については、それぞれ根拠となる（要件を満たすことがわかる）書類も提出してください。 ※ この届出は令和６年９月サービス提供分まで使用可能です。令和６年10月サービス提供分以降は別紙28－2を使用してください。

Sheet 別紙29－2
B2: （別紙29－2）
W3: 令和 | Z3: 年 | AC3: 月 | AE3: 日
B5: 介護老人保健施設（基本型・在宅強化型）の基本施設サービス費及び在宅復帰・在宅療養支援機能加算に係る届出書
B7: １ 事 業 所 名
B8: ２ 異 動 区 分 | H8: □ | I8: 1 新規 | M8: □ | N8: 2 変更 | S8: □ | T8: 3 終了
B9: ３ 人員配置区分 | H9: □ | I9: 1 介護老人保健施設（在宅強化型） | S9: □ | T9: 2 介護老人保健施設（基本型）
B10: ４ 届 出 項 目 | H10: □ | I10: 1 在宅復帰・在宅療養支援機能加算（Ⅰ）（介護老人保健施設（基本型）のみ）
H11: □ | I11: 2 在宅復帰・在宅療養支援機能加算（Ⅱ）（介護老人保健施設（強化型）のみ）
B14: ５ 在宅復帰・在宅療養支援に関する状況 | AD14: 在宅復帰・在宅療養支援等指標
G16: A 在宅復帰率
H17: ① | I17: 前６月間における居宅への退所者の延数（注１,２,３,４） | O17: 人 | P17: → | Q17: ④ | R17: ①÷（②ー③）×１００ （注５） | X17: ％ | Y17: → | Z17: ５０％超 | AD17: □ | AE17: 20
H18: ② | I18: 前６月間における退所者の延数 （注３,４） | O18: 人 | Y18: → | Z18: ３０％超５０％以下 | AD18: □ | AE18: 10
H19: ③ | I19: 前６月間における死亡した者の総数 （注３） | O19: 人 | Y19: → | Z19: ３０％以下 | AD19: □ | AE19: 0
G21: B ベッド回転率
H22: ① | I22: 直近３月間の延入所者数（注６） | O22: 人 | P22: → | Q22: ④ | R22: 30.4÷①×(②＋③)÷２×100 | X22: ％ | Y22: → | Z22: １０％以上 | AD22: □ | AE22: 20
H23: ② | I23: 直近３月間の新規入所者の延数 （注６,７） | O23: 人 | Y23: → | Z23: ５％以上１０％未満 | AD23: □ | AE23: 10
H24: ③ | I24: 直近３月間の新規退所者数（注８） | O24: 人 | Y24: → | Z24: ５％未満 | AD24: □ | AE24: 0
G26: C 入所前後訪問指導割合
H27: ① | I27: 前３月間における新規入所者のうち、入所前後訪問指導を行った者の延数 （注９,１０,１１） | O27: 人 | P27: → | Q27: ④ | R27: ①÷②×１００（注１２） | X27: ％ | Y27: → | Z27: ３５％以上 | AD27: □ | AE27: 10
Y28: → | Z28: １５％以上３５％未満 | AD28: □ | AE28: 5
H29: ② | I29: 前３月間における新規入所者の延数 （注１１） | O29: 人 | Y29: → | Z29: １５％未満 | AD29: □ | AE29: 0
G31: D 退所前後訪問指導割合
H32: ① | I32: 前３月間における新規退所者のうち、退所前後訪問指導を行った者の延数 （注１３,１４,１５） | O32: 人 | P32: → | Q32: ④ | R32: ①÷②×１００（注１６） | X32: ％ | Y32: → | Z32: ３５％以上 | AD32: □ | AE32: 10
Y33: → | Z33: １５％以上３５％未満 | AD33: □ | AE33: 5
H34: ② | I34: 前３月間における居宅への新規退所者の延数（注１５） | O34: 人 | Y34: → | Z34: １５％未満 | AD34: □ | AE34: 0
G36: E 居宅サービスの実施状況
H37: ① | I37: 前３月間に提供実績のある訪問リハビリテーション、通所リハビリテーション及び短期入所療養介護の種類数（注１７） | V37: → | Y37: → | Z37: ３サービス | AD37: □ | AE37: 5
Y38: → | Z38: ２サービス（訪問リハビリテーションを含む） | AD38: □ | AE38: 3
Y39: → | Z39: ２サービス（訪問リハビリテーションを含まない） | AD39: □ | AE39: 1
Y40: → | Z40: １サービス以下 | AD40: □ | AE40: 0
G42: F リハ専門職員の配置割合
H43: ① | I43: 前３月間における理学療法士等の当該介護保健施設サービスの提供に従事する勤務延時間数（注１８） | O43: 時間 | P43: → | Q43: ⑤ | R43: ①÷②÷③×④×１００ | Y43: → | Z43: ５以上かつ理学療法士、作業療法士、言語聴覚士を配置（注１９） | AD43: □ | AE43: 5
H44: ② | I44: 理学療法士等が前３月間に勤務すべき時間（注１８,２０） | O44: 時間 | Y44: → | Z44: ５以上 | AD44: □ | AE44: 3
H45: ③ | I45: 算定日が属する月の前３月間における延入所者数（注２１） | O45: 人 | Y45: → | Z45: ３以上５未満 | AD45: □ | AE45: 2
H46: ④ | I46: 算定日が属する月の前３月間の日数 | O46: 日 | Y46: → | Z46: ３未満 | AD46: □ | AE46: 0
G48: G 支援相談員の配置割合
H49: ① | I49: 前３月間において支援相談員が当該介護保健施設サービスの提供に従事する勤務延時間数（注２２） | O49: 時間 | P49: → | Q49: ⑤ | R49: ①÷②÷③×④×１００ | Y49: → | Z49: ３以上かつ社会福祉士１以上 | AD49: □ | AE49: 5
H50: ② | I50: 支援相談員が前３月間に勤務すべき時間 （注２０） | O50: 時間 | Y50: → | Z50: ３以上 | AD50: □ | AE50: 3
H51: ③ | I51: 前３月間における延入所者数 （注２１） | O51: 人 | Y51: → | Z51: ２以上３未満 | AD51: □ | AE51: 1
H52: ④ | I52: 前３月間の延日数 | O52: 日 | Z52: ２未満 | AD52: □ | AE52: 0
G54: H 要介護４又は５の割合
H55: ① | I55: 前３月間における要介護４若しくは要介護５に該当する入所者の延日数 | O55: 日 | P55: → | Q55: ③ | R55: ①÷②×１００ | X55: ％ | Y55: → | Z55: ５０％以上 | AD55: □ | AE55: 5
H56: ② | I56: 当該施設における直近３月間の入所者延日数 | O56: 日 | Y56: → | Z56: ３５％以上５０％未満 | AD56: □ | AE56: 3
Y57: → | Z57: ３５％未満 | AD57: □ | AE57: 0
G59: I 喀痰吸引の実施割合
H60: ① | I60: 直近３月間の入所者ごとの喀痰吸引を実施した延入所者数 （注２３,２４） | O60: 人 | P60: → | Q60: ③ | R60: ①÷②×１００ | X60: ％ | Y60: → | Z60: １０％以上 | AD60: □ | AE60: 5
H61: ② | I61: 当該施設における直近３月間の延入所者数 | O61: 人 | Y61: → | Z61: ５％以上１０％未満 | AD61: □ | AE61: 3
Y62: → | Z62: ５％未満 | AD62: □ | AE62: 0
G64: J 経管栄養の実施割合
H65: ① | I65: 直近３月間の入所者ごとの経管栄養を実施した延入所者数 （注２３,２５） | O65: 人 | P65: → | Q65: ③ | R65: ①÷②×１００ | X65: ％ | Y65: → | Z65: １０％以上 | AD65: □ | AE65: 5
H66: ② | I66: 当該施設における直近３月間の延入所者数 | O66: 人 | Y66: → | Z66: ５％以上１０％未満 | AD66: □ | AE66: 3
Y67: → | Z67: ５％未満 | AD67: □ | AE67: 0
AD69: ↓
I70: 上記評価項目（A～J）について、項目に応じた「在宅復帰・在宅療養支援等指標」の合計値を記入 | AB70: 合計
B74: ６ 介護老人保健施設の基本サービス費に係る届出内容
AC76: 有 | AD76: ・ | AE76: 無
C77: ① 基本型 | J77: ① | K77: 在宅復帰・在宅療養支援等指標の合計値が２０以上 | AC77: □ | AD77: ・ | AE77: □
J78: ② | K78: 退所時指導等の実施（注２６） | AC78: □ | AD78: ・ | AE78: □
J79: ③ | K79: リハビリテーションマネジメントの実施（注２７） | AC79: □ | AD79: ・ | AE79: □
J80: ④ | K80: 医師の詳細な指示の実施（注２８） | AC80: □ | AD80: ・ | AE80: □
AC83: 有 | AD83: ・ | AE83: 無
C84: ② 在宅強化型 | J84: ① | K84: 在宅復帰・在宅療養支援等指標の合計値が６０以上 | AC84: □ | AD84: ・ | AE84: □
J85: ② | K85: 退所時指導等の実施（注２６） | AC85: □ | AD85: ・ | AE85: □
J86: ③ | K86: リハビリテーションマネジメントの実施（注２７） | AC86: □ | AD86: ・ | AE86: □
J87: ④ | K87: 医師の詳細な指示の実施（注２８） | AC87: □ | AD87: ・ | AE87: □
J88: ⑤ | K88: 地域に貢献する活動の実施 | AC88: □ | AD88: ・ | AE88: □
J89: ⑥ | K89: 充実したリハビリテーションの実施（注２９） | AC89: □ | AD89: ・ | AE89: □
B92: ７ 在宅復帰・在宅療養支援機能加算に係る届出内容
AC94: 有 | AD94: ・ | AE94: 無
C95: ① 在宅復帰・在宅療養支援機能加算（Ⅰ） | J95: ① | K95: 「６介護老人保健施設の基本サービス費に係る届出内容」における「①基本型」の項目が全て「有」 | AC95: □ | AD95: ・ | AE95: □
J96: ② | K96: 在宅復帰・在宅療養支援等指標の合計値が４０以上 | AC96: □ | AD96: ・ | AE96: □
J97: ③ | K97: 地域に貢献する活動の実施 | AC97: □ | AD97: ・ | AE97: □
AC100: 有 | AD100: ・ | AE100: 無
C101: ② 在宅復帰・在宅療養支援機能加算（Ⅱ） | J101: ① | K101: 「６介護老人保健施設の基本サービス費に係る届出内容」における「②在宅強化型」の項目が全て「有」 | AC101: □ | AD101: ・ | AE101: □
J102: ② | K102: 在宅復帰・在宅療養支援等指標の合計値が７０以上 | AC102: □ | AD102: ・ | AE102: □
B106: 注１：当該施設における入所期間が一月間を超えていた者の延数。 注２：居宅とは、病院、診療所及び介護保険施設を除くものである。 注３：当該施設を退所後、直ちに病院又は診療所に入院し、一週間以内に退院した後、直ちに再度当該施設に入所した者については、当該入院期間は入所期間とみなすこととする。 注４：退所後直ちに短期入所生活介護又は短期入所療養介護若しくは小規模多機能型居宅介護の宿泊サービス等を利用する者は居宅への退所者に含まない。 注５：分母（②ー③の値）が０の場合、④は０％とする。 注６：入所者とは、毎日24時現在当該施設に入所中の者をいい、この他に、当該施設に入所してその日のうちに退所又は死亡した者を含むものである。 注７：新規入所者数とは、当該３月間に新たに当該施設に入所した者の数をいう。当該３月以前から当該施設に入所していた者は、新規入所者数には算入しない。 また、当該施設を退所後、当該施設に再入所した者は、新規入所者として取り扱うが、当該施設を退所後、直ちに病院又は診療所に入院し、一週間以内に退院した後、 直ちに再度当該施設に入所した者については、新規入所者数には算入しない。 注８：当該３月間に当該施設から退所した者の数をいう。当該施設において死亡した者及び医療機関へ退所した者は、新規退所者に含むものである。ただし、当該施設を退所後、 直ちに病院又は診療所に入院し、一週間以内に退院した後、直ちに再度当該施設に入所した者については、新規退所者数には算入しない。 注９：居宅を訪問し、当該者及びその家族等に対して退所を目的とした施設サービス計画の策定及び診療方針の決定を行った者の数。 また、居宅とは、病院、診療所及び介護保険施設を除くものである。 注１０：退所後に当該者の自宅ではなく、他の社会福祉施設等に入所する場合であって、当該者の同意を得て、当該社会福祉施設等を訪問し、退所を目的とした施設サービス計画の 策定及び診療方針の決定を行った者を含む。 注１１：当該施設を退所後、直ちに病院又は診療所に入院し、一週間以内に退院した後、直ちに再度当該施設に入所した者については、入所者数には算入しない。 注１２：分母（②の値）が０の場合、④は０％とする。 注１３：退所後生活することが見込まれる居宅を訪問し、当該者及びその家族等に対して退所後の療養上の指導を行った者。 また、居宅とは、病院、診療所及び介護保険施設を除くものである。 注１４：退所後に当該者の自宅ではなく、他の社会福祉施設等に入所する場合であって、当該者の同意を得て、当該社会福祉施設等を訪問し、退所を目的とした施設サービス計画の 策定及び診療方針の決定を行った者を含む。 注１５：当該施設を退所後、直ちに病院又は診療所に入院し、一週間以内に退院した後、直ちに再度当該施設に入所した者については、当該入院期間は入所期間とみなすこととする。 注１６：分母（②の値）が０の場合、④は０％とする。 注１７：当該施設と同一敷地内又は隣接若しくは近接する敷地の病院、診療所、介護老人保健施設又は介護医療院であって、相互に職員の兼務や施設の共用等が行われているもの において、算定日が属する月の前３月間に提供実績のある訪問リハビリテーション、通所リハビリテーション及び短期入所療養介護の種類数を含む。 注１８：理学療法士等とは、当該介護老人保健施設の入所者に対して主としてリハビリテーションを提供する業務に従事している理学療法士等をいう。 注１９：常勤換算方法で入所者に対して主としてリハビリテーションを提供する業務に従事している理学療法士、作業療法士及び言語聴覚士のいずれの職種も入所者の数で除した数に 100で乗じた数が0.２以上であること。 注２０：１週間に勤務すべき時間数が32時間を下回る場合は32時間を基本とする。 注２１：毎日24時現在当該施設に入所中の者をいい、当該施設に入所してその日のうちに退所又は死亡した者を含むものである。 注２２：支援相談員とは、保健医療及び社会福祉に関する相当な学識経験を有し、主として次に掲げるような入所者に対する各種支援及び相談の業務を行う職員をいう。 ① 入所者及び家族の処遇上の相談、② レクリエーション等の計画、指導、③ 市町村との連携、④ ボランティアの指導
B107: 注２３： 喀痰吸引及び経管栄養のいずれにも該当する者については、各々該当する欄の人数に含めること。 注２４：過去１年間に喀痰吸引が実施されていた者（入所期間が1年以上である入所者にあっては、当該入所期間中（入所時を含む。）に喀痰吸引が実施されていた者）であって、 口腔衛生管理加算を算定されている者又は平成27年度から令和２年度の口腔衛生管理体制加算の算定要件を満たしている者(平成26年度以前においては、口腔機能維持管理加算又は 口腔機能維持管理体制加算を算定されていた者及び平成27年度から令和２年度においては口腔衛生管理加算又は口腔衛生管理体制加算を算定されていた者)を含む。 注２５：過去１年間に経管栄養が実施されていた者（入所期間が1年以上である入所者にあっては、当該入所期間中（入所時を含む。）に経管栄養が実施されていた者）であって、 経口維持加算を算定しているもの又は管理栄養士が栄養ケア・マネジメントを実施するもの（令和2年度以前においては、経口維持加算又は栄養マネジメント加算を算定されていた 者）を含む。 注２６：退所者（当該施設内で死亡した者及び当該施設を退所後、直ちに病院又は診療所に入院し、一週間以内に退院した後、直ちに再度当該施設に入所した者を除く。）の退所後 30日以内（当該退所者の退所時の要介護状態区分が要介護四又は要介護五の場合にあっては、14日以内）に、当該施設の従業者が当該退所者の居宅を訪問し、又は指定居宅 介護支援事業者から情報提供を受けることにより、当該退所者の居宅における生活が継続する見込みであることを確認し、記録していること。 注２７：入所者の心身の諸機能の維持回復を図り、日常生活の自立を助けるため、理学療法、作業療法その他必要なリハビリテーションを計画的に行い、適宜その評価を行っていること。 注２８：医師は、リハビリテーションの実施にあたり、理学療法士等に対し、リハビリテーションの目的に加えて、当該リハビリテーション開始前又は実施中の留意事項、やむを得ず 当該リハビリテーションを中止する際の基準、当該リハビリテーションにおける負荷量等のうちいずれか一つ以上の指示を行うこと。 注２９：入所者に対し、少なくとも週三回程度のリハビリテーションを実施していること。
B108: ※ 各要件を満たす場合については、それぞれ根拠となる（要件を満たすことがわかる）書類も提出してください。

Sheet 別紙29－3
C2: （別紙29－3）
AA3: 令和 | AC3: 年 | AE3: 月 | AG3: 日
C5: 介護老人保健施設（療養型）の基本施設サービス費及び療養体制維持特別加算（Ⅱ）に係る届出書
C7: １ 事 業 所 名
C8: ２ 異 動 区 分 | I8: □ | J8: 1 新規 | N8: □ | O8: 2 変更 | S8: □ | T8: 3 終了
C9: ３ 人員配置区分 | I9: □ | J9: 1 介護老人保健施設（療養型）
C10: ４ 届 出 項 目 | I10: □ | J10: 1 療養体制維持特別加算（Ⅱ）（介護老人保健施設（療養型）のみ）
C12: ５ 介護老人保健施設（療養型）に係る届出内容
C14: ① 新規入所者の状況（注） | I14: ① | J14: 前12月の新規入所者の総数 | X14: 人
I15: ② | J15: ①のうち、医療機関を退院し入所した者の総数 | X15: 人
I16: ③ | J16: ①のうち、自宅等から入所した者の総数 | X16: 人 | AE16: 有 | AF16: ・ | AG16: 無
I17: ④ | J17: （①に占める②の割合）－（①に占める③の割合） | X17: ％ | Y17: → | Z17: ３５％以上 | AE17: □ | AF17: ・ | AG17: □
C20: ② 入所者・利用者の利用状況 | S20: 前々々月末 | U20: 前々月末 | W20: 前月末 | Y20: 平均
I21: ① | J21: 前3月の入所者及び利用者の総数 | T21: 人 | V21: 人 | X21: 人
I22: ② | J22: ①のうち、喀痰吸引若しくは経管 栄養が実施された入所者及び利用者 | T22: 人 | V22: 人 | X22: 人 | AA22: 3月間の平均
I23: ③ | J23: ①に占める②の割合 | T23: ％ | V23: ％ | X23: ％ | Z23: ％ | AA23: → | AB23: １５％以上 | AE23: 有 | AF23: ・ | AG23: 無
I24: ④ | J24: ①のうち、日常生活自立度のランクＭに該当する入所者及び利用者 | T24: 人 | V24: 人 | X24: 人 | AB24: 又は | AE24: □ | AF24: ・ | AG24: □
I25: ⑤ | J25: ①に占める④の割合 | T25: ％ | V25: ％ | X25: ％ | Z25: ％ | AA25: → | AB25: ２０％以上
C29: ６ 療養体制維持特別加算（Ⅱ）に係る届出内容
C31: ① 入所者及び利用者の状況 | S31: 前々々月末 | U31: 前々月末 | W31: 前月末 | Y31: 平均
I32: ① | J32: 前3月の入所者及び利用者の総数 | T32: 人 | V32: 人 | X32: 人
I33: ② | J33: ①のうち、喀痰吸引若しくは経管 栄養が実施された入所者及び利用者 | T33: 人 | V33: 人 | X33: 人 | AA33: 3月間の平均
I34: ③ | J34: ①に占める②の割合 | T34: ％ | V34: ％ | X34: ％ | Z34: ％ | AA34: → | AB34: ２０％以上 | AE34: 有 | AF34: ・ | AG34: 無
I35: ④ | J35: ①のうち、日常生活自立度のランクⅣ又はＭに該当する入所者及び利用者 | T35: 人 | V35: 人 | X35: 人 | AB35: かつ | AE35: □ | AF35: ・ | AG35: □
I36: ⑤ | J36: ①に占める④の割合 | T36: ％ | V36: ％ | X36: ％ | Z36: ％ | AA36: → | AB36: ５０％以上
C39: 注：当該施設が介護療養型老人保健施設への転換以後の新規入所者の実績が12月に達した時点から適用する。
C40: ※ 各要件を満たす場合については、それぞれ根拠となる（要件を満たすことがわかる）書類も提出してください。

Sheet 別紙30
C2: （別紙30）
Y3: 令和 | AA3: 年 | AC3: 月 | AE3: 日
C5: 介護医療院（Ⅰ型）の基本施設サービス費に係る届出書
C7: １ 事 業 所 名
C8: ２ 異 動 区 分 | I8: □ | J8: 1 新規 | N8: □ | O8: 2 変更 | S8: □ | T8: 3 終了
C9: ３ 人員配置区分 | I9: □ | J9: １ Ⅰ型介護医療院サービス費Ⅰ（（ユニット型）Ⅰ型療養床、看護6:1、介護4:1）(併設型小規模介護医療院）
I10: □ | J10: ２ Ⅰ型介護医療院サービス費Ⅱ（（ユニット型）Ⅰ型療養床、看護6:1、介護4:1）(併設型小規模介護医療院）
I11: □ | J11: ３ Ⅰ型介護医療院サービス費Ⅲ（Ⅰ型療養床、看護6:1、介護5:1）
C13: ４ 介護医療院（Ⅰ型）に係る届出内容
C15: ① 重度者の割合 | J15: ① | K15: 前３月間の入所者等の総数 | X15: 人
J16: ② | K16: ①のうち、重篤な身体疾患を有する者の数（注１） | X16: 人
J17: ③ | K17: ①のうち、身体合併症を有する認知症高齢者の数（注１） | X17: 人
J18: ④ | K18: ②と③の和 | X18: 人 | AC18: 有 | AD18: ・ | AE18: 無
J19: ⑤ | K19: ①に占める④の割合 | X19: ％ | Y19: → | Z19: ５０％以上 | AC19: □ | AD19: ・ | AE19: □
X20: （人員配置区分１～３）
C22: ② 医療処置の実施状況 | J22: ① | K22: 前３月間の入所者等の総数 | X22: 人
J23: ② | K23: 前３月間の喀痰吸引を実施した入所者等の総数（注２・３） | X23: 人
J24: ③ | K24: 前３月間の経管栄養を実施した入所者等の総数（注２・４） | X24: 人
J25: ④ | K25: 前３月間のインスリン注射を実施した入所者等の総数（注２・５） | X25: 人
J26: ⑤ | K26: ②から④の和 | X26: 人 | AC26: 有 | AD26: ・ | AE26: 無
J27: ⑥ | K27: ①に占める⑤の割合 | X27: ％ | Y27: → | Z27: ５０％以上 | AC27: □ | AD27: ・ | AE27: □
X28: （人員配置区分１のみ）
Y29: → | Z29: ３０％以上 | AC29: □ | AD29: ・ | AE29: □
U30: （人員配置区分２，３）
C32: ③ ターミナルケアの 実施状況 | J32: ① | K32: 前３月間の入所者延日数 | X32: 日
J33: ② | K33: 前３月間のターミナルケアの対象者延日数 | X33: 日 | AC33: 有 | AD33: ・ | AE33: 無
J34: ③ | K34: ①に占める②の割合 | X34: ％ | Y34: → | Z34: １０％以上 | AC34: □ | AD34: ・ | AE34: □
X35: （人員配置区分１のみ）
Y36: → | Z36: ５％以上 | AC36: □ | AD36: ・ | AE36: □
X37: （人員配置区分２，３）
AC38: 有 | AD38: ・ | AE38: 無
C39: ④ 生活機能を維持改善するリハビリテーションの実施 | AC39: □ | AD39: ・ | AE39: □
AC41: 有 | AD41: ・ | AE41: 無
C42: ⑤ 地域に貢献する活動の実施 | AC42: □ | AD42: ・ | AE42: □
C43: （平成30年度中に限り、平成31年度中において実施する見込み）
C47: 注１：・人員配置区分１を選択する場合は、「①重度者の割合」における⑤の割合が50％以上、「②医療処置の実施状況」における ⑥の割合が50％以上及び「③ターミナルケアの実施状況」における③の割合が10％以上を満たす必要がある。
C48: ・人員配置区分２、３を選択する場合は、「①重度者の割合」における⑤の割合が50％以上、「②医療処置の実施状況」における ⑥の割合が30％以上及び「③ターミナルケアの実施状況」における③の割合が５％以上を満たす必要がある。
C49: 注１： ②及び③のいずれにも該当する者については、いずれか一方についてのみ含めること。
C50: 注２： ②、③及び④のうち複数に該当する者については、各々該当する数字の欄の人数に含めること。
C51: 注３：過去１年間に喀痰吸引が実施されていた者（入所期間が1年以上である入所者にあっては、当該入所期間中（入所時を含む。）に喀痰吸引が 実施されていた者）であって、口腔衛生管理加算を算定されている者又は平成27年度から令和２年度の口腔衛生管理体制加算の算定要件を満たして いる者(平成26年度以前においては、口腔機能維持管理加算又は口腔機能維持管理体制加算を算定されていた者及び平成27年度から令和２年度に おいては口腔衛生管理加算又は口腔衛生管理体制加算を算定されていた者)を含む。
C52: 注４：過去１年間に経管栄養が実施されていた者（入所期間が1年以上である入所者にあっては、当該入所期間中（入所時を含む。）に経管栄養が 実施されていた者）であって、経口維持加算を算定しているもの又は管理栄養士が栄養ケア・マネジメントを実施する者（令和2年度以前に おいては、経口維持加算又は栄養マネジメント加算を算定されていた者）を含む。
C53: 注５：自ら実施する者は除く。
C54: ※ 各要件を満たす場合については、それぞれ根拠となる（要件を満たすことがわかる）書類も提出してください。

Sheet 別紙30－2
C2: （別紙30－２）
Y3: 令和 | AA3: 年 | AC3: 月 | AE3: 日
B5: 介護医療院（Ⅱ型）の基本施設サービス費に係る届出書
C7: １ 事 業 所 名
C8: ２ 異 動 区 分 | I8: □ | J8: 1 新規 | N8: □ | O8: 2 変更 | S8: □ | T8: 3 終了
C9: ３ 人員配置区分 | I9: □ | J9: Ⅱ型介護医療院サービス費Ⅰ（（ユニット型）Ⅱ型療養床、看護6:1、介護4:1）（併設型小規模介護医療院）
I10: □ | J10: Ⅱ型介護医療院サービス費Ⅱ（Ⅱ型療養床、看護6:1、介護5:1）
I11: □ | J11: Ⅱ型介護医療院サービス費Ⅲ（Ⅱ型療養床、看護6:1、介護6:1）
C14: ４ 介護医療院（Ⅱ型療養床）に係る届出内容
D17: （医療処置の実施状況）
E18: ① | F18: 前３月間の入所者等の総数 | AA18: 人
E19: ② | F19: ①のうち、日常生活自立度のランクＭに該当する入所者等 | AA19: 人
E20: ③ | F20: ①に占める②の割合（注４） | AA20: ％
E21: ④ | F21: ①のうち、日常生活自立度のランクⅣ又はＭに該当する入所者及び利用者 | AA21: 人
E22: ⑤ | F22: ①に占める④の割合（注５） | AA22: ％
D24: （重度者の割合）
E25: ① | F25: 前３月間の入所者等の総数 | AA25: 人
E26: ② | F26: ①のうち、喀痰吸引を実施した入所者等の総数（注２・３） | AA26: 人
E27: ③ | F27: ①のうち、経管栄養を実施した入所者等の総数（注２・４） | AA27: 人
E28: ④ | F28: ②と③の和 | AA28: 人
E29: ⑤ | F29: ①に占める④の割合（注６） | AA29: ％
AC30: 有 | AD30: ・ | AE30: 無
D31: 「医療処置の実施状況」における③の割合が２０％以上、⑤の割合が２５％以上、「重度者の割合」における⑤の割合が １５％以上のいずれかを満たす | AB31: → | AC31: □ | AD31: ・ | AE31: □
AC35: 有 | AD35: ・ | AE35: 無
C36: ターミナルケアの実施体制 | AC36: □ | AD36: ・ | AE36: □
C39: 注１： ②及び③のうち複数に該当する者については、各々該当する数字の欄の人数に含めること。
C40: 注２：過去１年間に喀痰吸引が実施されていた者（入所期間が1年以上である入所者にあっては、当該入所期間中（入所時を含む。）に喀痰吸引が 実施されていた者）であって、口腔衛生管理加算を算定されている者又は平成27年度から令和２年度の口腔衛生管理体制加算の算定要件を満た している者(平成26年度以前においては、口腔機能維持管理加算又は口腔機能維持管理体制加算を算定されていた者及び平成27年度から令和 ２年度においては口腔衛生管理加算又は口腔衛生管理体制加算を算定されていた者)を含む。
C41: 注３：過去１年間に経管栄養が実施されていた者（入所期間が1年以上である入所者にあっては、当該入所期間中（入所時を含む。）に経管栄養が 実施されていた者）であって、経口維持加算を算定しているもの又は管理栄養士が栄養ケア・マネジメントを実施する者（令和2年度以前に おいては、経口維持加算又は栄養マネジメント加算を算定されていた者）を含む。
C42: 注４：小規模介護医療院の場合は、①に占める②の割合と、19を当該小規模介護医療院におけるⅡ型療養床数で除した数との積を記入すること。
C43: 注５：小規模介護医療院の場合は、①に占める④の割合と、19を当該小規模介護医療院におけるⅡ型療養床数で除した数との積を記入すること。
C44: 注６：小規模介護医療院の場合は、①に占める④の割合と、19を当該小規模介護医療院におけるⅡ型療養床数で除した数との積を記入すること。
C45: ※ 各要件を満たす場合については、それぞれ根拠となる（要件を満たすことがわかる）書類も提出してください。

Sheet 別紙31
B2: （別紙31）
W3: 令和 | Y3: 年 | AA3: 月 | AC3: 日
B5: 介護医療院における重度認知症疾患療養体制加算に係る届出書
B7: 1 事 業 所 名
B8: 2 異 動 区 分 | G8: □ | H8: 1 新規 | L8: □ | M8: 2 変更 | Q8: □ | R8: 3 終了
B9: 3 届 出 項 目 | G9: □ | H9: １ 重度認知症疾患療養体制加算（Ⅰ） | Q9: □ | R9: ２ 重度認知症疾患療養体制加算（Ⅱ）
B11: ４ 重度認知症疾患療養体制加算（Ⅰ）に係る届出
AA12: 有 | AB12: ・ | AC12: 無
C13: ① 体制 | H13: ① | I13: 看護職員の数が、常勤換算方法で、４：１以上であること（注１） | AA13: □ | AB13: ・ | AC13: □
H14: ② | I14: 専任の精神保健福祉士の数（注２） | U14: 人 | V14: → | W14: １人以上 | AA14: □ | AB14: ・ | AC14: □
H15: ③ | I15: 専任の理学療法士、作業療法士又は言語聴覚士の数 | U15: 人 | V15: → | W15: １人以上 | AA15: □ | AB15: ・ | AC15: □
C18: ② 入所者の状況 | H18: ① | I18: 当該介護医療院における入所者等の数 | U18: 人 | AA18: 有 | AB18: ・ | AC18: 無
H19: ② | I19: ①のうち、認知症の者の数（注３） | U19: 人
H20: ③ | I20: ①に占める②の割合 | U20: ％ | V20: → | W20: １００％ | AA20: □ | AB20: ・ | AC20: □
H21: ④ | I21: 前３月における認知症の者の延入所者数（注３） | U21: 人
H22: ⑤ | I22: 前３月における認知症高齢者の日常生活自立度のランクⅢb以上に該当する者の延入所者数 | U22: 人
H23: ⑥ | I23: ④に占める⑤の割合 | U23: ％ | V23: → | W23: ５０％以上 | AA23: □ | AB23: ・ | AC23: □
C26: ③ 連携状況 | H26: 連携する精神科病院の名称 | AA26: 有 | AB26: ・ | AC26: 無
AA28: □ | AB28: ・ | AC28: □
C31: ④ 身体拘束廃止未実施減算 | P31: 前々々月末 | R31: 前々月末 | T31: 前月末 | AA31: 有 | AB31: ・ | AC31: 無
H32: ① | I32: 前３月間における身体拘束廃止未実施減算の算定実績 | P32: 有・無 | R32: 有・無 | T32: 有・無 | V32: → | W32: 全て「無」の場合、右の「有」を「■」にしてください。 | AA32: □ | AB32: ・ | AC32: □
P33: □ | Q33: □ | R33: □ | S33: □ | T33: □ | U33: □
B36: ５ 重度認知症疾患療養体制加算（Ⅱ）に係る届出
AA37: 有 | AB37: ・ | AC37: 無
C38: ① 体制 | H38: ① | I38: 看護職員の数が、常勤換算方法で、４：１以上であること | AA38: □ | AB38: ・ | AC38: □
H39: ② | I39: 専従の精神保健福祉士の数（注２） | U39: 人 | V39: → | W39: １人以上 | AA39: □ | AB39: ・ | AC39: □
H40: ③ | I40: 専従の作業療法士の総数 | U40: 人 | V40: → | W40: １人以上 | AA40: □ | AB40: ・ | AC40: □
AA42: 有 | AB42: ・ | AC42: 無
C43: ② 床面積６０ｍ２以上の生活機能回復訓練室の有無（注４） | AA43: □ | AB43: ・ | AC43: □
C45: ③ 入所者の状況 | H45: ① | I45: 当該介護医療院における入所者等の総数 | U45: 人 | AA45: 有 | AB45: ・ | AC45: 無
H46: ② | I46: ①のうち、認知症の者の数（注３） | U46: 人
H47: ③ | I47: ①に占める②の割合 | U47: ％ | V47: → | W47: １００％ | AA47: □ | AB47: ・ | AC47: □
H48: ④ | I48: 前３月における認知症の者の延入所者数（注３） | U48: 人
H49: ⑤ | I49: 前３月における認知症高齢者の日常生活自立度のランクⅣ以上に該当する者の延入所者数 | U49: 人
H50: ⑥ | I50: ④に占める⑤の割合 | U50: ％ | V50: → | W50: ５０％以上 | AA50: □ | AB50: ・ | AC50: □
C53: ④ 連携状況 | H53: 連携する精神科病院の名称 | AA53: 有 | AB53: ・ | AC53: 無
AA55: □ | AB55: ・ | AC55: □
C58: ⑤ 身体拘束廃止未実施減算 | P58: 前々々月末 | R58: 前々月末 | T58: 前月末 | AA58: 有 | AB58: ・ | AC58: 無
H59: ① | I59: 前３月間における身体拘束廃止未実施減算の算定実績 | P59: 有・無 | R59: 有・無 | T59: 有・無 | V59: → | W59: 全て「無」の場合、右の「有」を「■」にしてください。 | AA59: □ | AB59: ・ | AC59: □
P60: □ | Q60: □ | R60: □ | S60: □ | T60: □ | U60: □
B63: 注１：看護職員の数については、当該介護医療院における入所者等の数を４をもって除した数（その数が１に満たないときは、１とし、その数 に１に満たない端数が生じるときはこれを切り上げるものとする。）から当該介護医療院における入所者等の数を６をもって除した数 （その数が１に満たない端数が生じるときはこれを切り上げるものとする。）を減じた数の範囲内で介護職員とすることができる。
B64: 注２：精神保健福祉士とは、精神保健福祉士法（平成９年法律第131号）第二条に規定する精神保健福祉士又はこれに準ずる者をいう。
B65: 注３：認知症と確定診断されていること。ただし、入所者については、入所後３か月間に限り、認知症の確定診断を行うまでの間はＭＭＳＥ （Mini Mental State Examination）において23点以下の者又はＨＤＳ―Ｒ（改訂長谷川式簡易知能評価スケール）において20点以下 の者を含むものとする。短期入所療養介護の利用者については、認知症と確定診断を受けた者に限る。
B66: 注４：生活機能回復訓練室については、機能訓練室、談話室、食堂及びレクリエーション・ルーム等と区画せず、１つのオープンスペースとす ることは差し支えない。また、入所者に対する介護医療院サービスの提供に支障を来さない場合は、他の施設と兼用して差し支えない。

Sheet 別紙32
B2: （別紙32）
W3: 令和 | Y3: 年 | AA3: 月 | AC3: 日
B5: 入居継続支援加算に係る届出書
B7: 1 事 業 所 名
B8: 2 異 動 区 分 | H8: □ | I8: 1 新規 | M8: □ | N8: 2 変更 | R8: □ | S8: 3 終了
B9: 3 施 設 種 別 | H9: □ | I9: 1 特定施設入居者生活介護
H10: □ | I10: 2 地域密着型特定施設入居者生活介護
B11: 4 届 出 区 分 | H11: □ | I11: 1 入居継続支援加算（Ⅰ） | R11: □ | S11: 2 入居継続支援加算（Ⅱ）
B13: 4 入居継続支援加算（Ⅰ）に係る届出
C14: 入居者の状況及び介護福祉士の状況
H15: 入居者の状況
H16: ① | I16: 入居者（要介護）総数 | X16: 人 | AD16: 有 | AE16: ・ | AF16: 無
H18: ② | I18: ①のうち社会福祉士及び介護福祉士法施行規則第１条各号に掲げる行為を必要とする者の数 | X18: 人 | Y18: → | Z18: ①に占める②の割合が 15％以上 | AD18: □ | AE18: ・ | AF18: □
H19: 又は
H20: ③ | I20: ①のうち社会福祉士及び介護福祉士法施行規則第１条各号に掲げる行為を必要とする者及び「尿道カテーテル留置を実施している状態」、「在宅酸素療法を実施している状態」、「インスリン注射を実施している状態」のいずれかに該当する者の数 | X20: 人 | Y20: → | Z20: ①に占める③の割合が 15％以上 | AD20: □ | AE20: ・ | AF20: □
H22: 看護職員の状況 | AD22: 有 | AE22: ・ | AF22: 無
H23: ④ | I23: 常勤の看護師を１名以上配置し、看護に係る責任者を定めている。 | AD23: □ | AE23: ・ | AF23: □
H24: ※④は、③が「有」に該当する場合のみ届け出ること。
H26: 介護福祉士の割合 | AD26: 有 | AE26: ・ | AF26: 無
H27: ⑤ | I27: 介護福祉士数 | M27: 常勤換算 | X27: 人 | Y27: → | Z27: 介護福祉士数： 入所者数が １：６以上 | AD27: □ | AE27: ・ | AF27: □
H29: 事業所の状況 | AD29: 有 | AE29: ・ | AF29: 無
H30: ⑥ | I30: 人員基準欠如に該当していない。 | AD30: □ | AE30: ・ | AF30: □
B32: 5 入居継続支援加算（Ⅱ）に係る届出
C33: 入居者の状況及び介護福祉士の状況
H34: 入居者の状況
H35: ① | I35: 入居者（要介護）総数 | X35: 人 | AD35: 有 | AE35: ・ | AF35: 無
H37: ② | I37: ①のうち社会福祉士及び介護福祉士法施行規則第１条各号に掲げる行為を必要とする者の数 | X37: 人 | Y37: → | Z37: ①に占める②の割合が ５％以上 | AD37: □ | AE37: ・ | AF37: □
H38: 又は
H39: ③ | I39: ①のうち社会福祉士及び介護福祉士法施行規則第１条各号に掲げる行為を必要とする者及び「尿道カテーテル留置を実施している状態」、「在宅酸素療法を実施している状態」、「インスリン注射を実施している状態」のいずれかに該当する者の数 | X39: 人 | Y39: → | Z39: ①に占める③の割合が ５％以上 | AD39: □ | AE39: ・ | AF39: □
H41: 看護職員の状況 | AD41: 有 | AE41: ・ | AF41: 無
H42: ④ | I42: 常勤の看護師を１名以上配置し、看護に係る責任者を定めている。 | AD42: □ | AE42: ・ | AF42: □
H43: ※④は、③が「有」の場合に届け出ること。
H45: 介護福祉士の割合 | AD45: 有 | AE45: ・ | AF45: 無
H46: ⑤ | I46: 介護福祉士数 | M46: 常勤換算 | X46: 人 | Y46: → | Z46: 介護福祉士数： 入所者数が １：６以上 | AD46: □ | AE46: ・ | AF46: □
H48: 事業所の状況 | AD48: 有 | AE48: ・ | AF48: 無
H49: ⑥ | I49: 人員基準欠如に該当していない。 | AD49: □ | AE49: ・ | AF49: □
B51: 備考 要件を満たすことが分かる根拠書類を準備し、指定権者からの求めがあった場合には、 速やかに提出してください。

Sheet 別紙32－2
B2: （別紙32－２）
Z3: 令和 | AB3: 年 | AD3: 月 | AF3: 日
B5: テクノロジーの導入による入居継続支援加算に関する届出書
B7: 1 事 業 所 名
B8: 2 異 動 区 分 | H8: □ | I8: 1 新規 | M8: □ | N8: 2 変更 | R8: □ | S8: 3 終了
B9: 3 施 設 種 別 | H9: □ | I9: 1 特定施設入居者生活介護
H10: □ | I10: 2 地域密着型特定施設入居者生活介護
B11: 4 届 出 区 分 | H11: □ | I11: 1 入居継続支援加算（Ⅰ） | R11: □ | S11: 2 入居継続支援加算（Ⅱ）
B12: 5-1 入居継続支援加算（Ⅰ）に係る届出
C13: 入居者の状況及び介護福祉士の状況
H14: 入居者の状況
H15: ① | I15: 入居者（要介護）総数 | X15: 人 | AD15: 有 | AE15: ・ | AF15: 無
H17: ② | I17: ①のうち社会福祉士及び介護福祉士法施行規則第１条各号に掲げる行為を必要とする者の数 | X17: 人 | Y17: → | Z17: ①に占める②の割合が １５％以上 | AD17: □ | AE17: ・ | AF17: □
H18: 又は
H19: ③ | I19: ①のうち社会福祉士及び介護福祉士法施行規則第１条各号に掲げる行為を必要とする者及び「尿道カテーテル留置を実施している状態」、「在宅酸素療法を実施している状態」、「インスリン注射を実施している状態」のいずれかに該当する者の数 | X19: 人 | Y19: → | Z19: ①に占める③の割合が １５％以上 | AD19: □ | AE19: ・ | AF19: □
H21: 看護職員の状況 | AD21: 有 | AE21: ・ | AF21: 無
H22: ④ | I22: 常勤の看護師を１名以上配置し、看護に係る責任者を定めている。 | AD22: □ | AE22: ・ | AF22: □
H23: ※④は、③が「有」の場合に届け出ること。
H25: 介護福祉士の割合 | AD25: 有 | AE25: ・ | AF25: 無
H26: ⑤ | I26: 介護福祉士数 | M26: 常勤換算 | X26: 人 | Y26: → | Z26: 介護福祉士数：入所者数が １：７以上 | AD26: □ | AE26: ・ | AF26: □
H28: 事業所の状況 | AD28: 有 | AE28: ・ | AF28: 無
H29: ⑥ | I29: 人員基準欠如に該当していない。 | AD29: □ | AE29: ・ | AF29: □
B31: 5-2 入居継続支援加算（Ⅱ）に係る届出
C32: 入居者の状況及び介護福祉士の状況
H33: 入居者の状況
H34: ① | I34: 入居者（要介護）総数 | X34: 人 | AD34: 有 | AE34: ・ | AF34: 無
H36: ② | I36: ①のうち社会福祉士及び介護福祉士法施行規則第１条各号に掲げる行為を必要とする者の数 | X36: 人 | Y36: → | Z36: ①に占める②の割合が５％以上 | AD36: □ | AE36: ・ | AF36: □
H37: 又は
H38: ③ | I38: ①のうち社会福祉士及び介護福祉士法施行規則第１条各号に掲げる行為を必要とする者及び「尿道カテーテル留置を実施している状態」、「在宅酸素療法を実施している状態」、「インスリン注射を実施している状態」のいずれかに該当する者の数 | X38: 人 | Y38: → | Z38: ①に占める③の割合が ５％以上 | AD38: □ | AE38: ・ | AF38: □
H40: 看護職員の状況 | AD40: 有 | AE40: ・ | AF40: 無
H41: ④ | I41: 常勤の看護師を１名以上配置し、看護に係る責任者を定めている。 | AD41: □ | AE41: ・ | AF41: □
H42: ※④は、③が「有」の場合に届け出ること。
H44: 介護福祉士の割合 | AD44: 有 | AE44: ・ | AF44: 無
H45: ⑤ | I45: 介護福祉士数 | M45: 常勤換算 | X45: 人 | Y45: → | Z45: 介護福祉士数：入所者数が １：７以上 | AD45: □ | AE45: ・ | AF45: □
H47: 事業所の状況 | AD47: 有 | AE47: ・ | AF47: 無
H48: ⑥ | I48: 人員基準欠如に該当していない。 | AD48: □ | AE48: ・ | AF48: □
H51: 以下の①から④の取組をすべて実施していること。 | AD51: 有 | AE51: ・ | AF51: 無
B52: 5 テクノロ ジーの使用 状況 | H52: ① テクノロジーを搭載した機器について、少なくとも以下のⅰ～ⅲの項目の機器を使用
H53: ⅰ 入所者全員に見守り機器を使用 | AD53: □ | AE53: ・ | AF53: □
H54: ⅱ 職員全員がインカムを使用 | AD54: □ | AE54: ・ | AF54: □
H55: ⅲ 介護記録ソフト、スマートフォン等のICTを使用 | AD55: □ | AE55: ・ | AF55: □
H56: ⅳ 移乗支援機器を使用 | AD56: □ | AE56: ・ | AF56: □
H57: （導入機器）
I58: 名 称
I59: 製造事業者
I60: 用 途
H61: ② 利用者の安全やケアの質の確保、職員の負担の軽減を図るため、以下のすべての 項目について、テクノロジー導入後、少なくとも３か月以上実施
H62: ⅰ 利用者の安全並びに介護サービスの質の確保及び職員の負担軽減に資する方策を検討するための委員会の設置 | AD62: □ | AE62: ・ | AF62: □
H63: ⅱ 職員に対する十分な休憩時間の確保等の勤務・雇用条件への配慮 | AD63: □ | AE63: ・ | AF63: □
H64: ⅲ 機器の不具合の定期チェックの実施（メーカーとの連携を含む） | AD64: □ | AE64: ・ | AF64: □
H65: ⅳ 職員に対するテクノロジー活用に関する教育の実施 | AD65: □ | AE65: ・ | AF65: □
H66: ③ ②のⅰの委員会で安全体制やケアの質の確保、職員の負担軽減が図られている ことを確認 | AD66: □ | AE66: ・ | AF66: □
H67: ④ ケアのアセスメント評価や人員体制の見直しをPDCAサイクルによって継続して実施 | AD67: □ | AE67: ・ | AF67: □
B69: 備考１ 要件を満たすことが分かる議事概要を提出すること。このほか要件を満たすことが分かる 根拠書類を準備し、指定権者からの求めがあった場合には、速やかに提出すること。
B70: 備考２ ５②ⅰの委員会には、介護福祉士をはじめ実際にケア等を行う多職種の職員が参画すること。

Sheet 別紙33
B2: （別紙33）
B4: 夜間看護体制加算に係る届出書
B6: １．事 業 所 名
B7: ２．異 動 区 分 | G7: □ | H7: 1 新規 | L7: □ | M7: 2 変更 | Q7: □ | R7: 3 終了
B8: ３．施 設 種 別 | G8: □ | H8: １ 特定施設入居者生活介護
G9: □ | H9: ２ 地域密着型特定施設入居者生活介護
B10: ４．届 出 項 目 | G10: □ | H10: １ 夜間看護体制加算（Ⅰ）
G11: □ | H11: ２ 夜間看護体制加算（Ⅱ）
B12: ５．夜間看護体制加算（Ⅰ）に係る届出内容
C14: 看護職員の状況
C15: 保健師 | H15: 常勤 | M15: 人
C16: 看護師 | H16: 常勤 | M16: 人
C17: 准看護師 | H17: 常勤 | M17: 人
V20: 有 | W20: ・ | X20: 無
C22: 当該加算を算定する期間において、夜勤又は宿直を行う看護職員の数が一名以上である。 | V22: □ | W22: ・ | X22: □
C23: 必要に応じて健康上の管理等を行う体制を確保している。 | V23: □ | W23: ・ | X23: □
C24: 重度化した場合における対応に係る指針を定め、入居の際に、利用者又はその家族等に対して、当該指針の内容を説明し、同意を得ている。 | V24: □ | W24: ・ | X24: □
B26: ６．夜間看護体制加算（Ⅱ）に係る届出内容
C27: 看護職員の状況
C28: 保健師 | H28: 常勤 | M28: 人
C29: 看護師 | H29: 常勤 | M29: 人
C30: 准看護師 | H30: 常勤 | M30: 人
V33: 有 | W33: ・ | X33: 無
C35: 24時間常時連絡できる体制を整備している。 | V35: □ | W35: ・ | X35: □
C36: 必要に応じて健康上の管理等を行う体制を確保している。 | V36: □ | W36: ・ | X36: □
C37: 重度化した場合における対応に係る指針を定め、入居の際に、利用者又はその家族等に対して、当該指針の内容を説明し、同意を得ている。 | V37: □ | W37: ・ | X37: □

Sheet 別紙34
B2: （別紙34）
B4: 看取り介護体制に係る届出書
B6: 事 業 所 名
B7: 異動等区分 | G7: □ | H7: 1 新規 | L7: □ | M7: 2 変更 | Q7: □ | R7: 3 終了
B8: 施 設 種 別 | G8: □ | H8: 1 介護老人福祉施設 | P8: □ | Q8: 2 地域密着型介護老人福祉施設
B11: 看取り介護体制に関する届出内容
C13: 看護職員の状況
C15: 看 護 師 | H15: 常勤 | N15: 人
C17: 連携する病院・診療所・訪問看護ステーション
C19: 病院・診療所・訪問看護ステーション名 | P19: 事業所番号
V26: 有 | W26: ・ | X26: 無
C27: ① 24時間常時連絡できる体制を整備している。 | V27: □ | W27: ・ | X27: □
C28: ② 看取りに関する指針を定め、入所の際に、入所者又は その家族等に説明し、同意を得る体制を整備している。 | V28: □ | W28: ・ | X28: □
C29: ③ 医師、看護職員、生活相談員、介護職員、介護支援専門員 その他の職種の者による協議の上、施設における看取りの実 績等を踏まえ、適宜、看取りに関する指針の見直しを行う体 制を整備している。 | V29: □ | W29: ・ | X29: □
C30: ④ 看取りに関する職員研修を行う体制を整備している。 | V30: □ | W30: ・ | X30: □
C31: ⑤ 看取りを行う際の個室又は静養室の利用が可能となる 体制を整備している。 | V31: □ | W31: ・ | X31: □
C32: ⑥ 配置医師緊急時対応加算の算定体制の届出をしている。 | V32: □ | W32: ・ | X32: □
C33: ⑦ 「人生の最終段階における医療・ケアの決定プロセスに関 するガイドライン」等の内容に沿った取組を行っている。 | V33: □ | W33: ・ | X33: □

Sheet 別紙34－2
B2: （別紙34－2）
B4: 看取り介護体制に係る届出書
B6: 事 業 所 名
B7: 異動等区分 | G7: □ | H7: 1 新規 | L7: □ | M7: 2 変更 | Q7: □ | R7: 3 終了
B8: 施 設 種 別 | G8: □ | H8: 1 特定施設入居者生活介護 | O8: □ | P8: 2 地域密着型特定施設入居者生活介護
B11: １ 看取り介護体制に関する届出内容（看取り介護加算（Ⅰ）（Ⅱ）共通）
C13: 看護職員の状況
C15: 看 護 師 | H15: 常勤 | N15: 人
C17: 連携する病院・診療所・訪問看護ステーション
C19: 病院・診療所・訪問看護ステーション名 | P19: 事業所番号
V26: 有 | W26: ・ | X26: 無
C27: ① 看取りに関する指針を定め、入居の際に、利用者又は その家族等に説明し、同意を得る体制を整備している。 | V27: □ | W27: ・ | X27: □
C28: ② 医師、看護職員、生活相談員、介護職員、介護支援専門員、 その他の職種の者による協議の上、施設における看取りの実績 等を踏まえ、適宜、看取りに関する指針の見直しを行う体制を 整備している。 | V28: □ | W28: ・ | X28: □
C29: ③ 看取りに関する職員研修を行う体制を整備している。 | V29: □ | W29: ・ | X29: □
C30: ④ 「人生の最終段階における医療・ケアの決定プロセスに関す るガイドライン」等の内容に沿った取組を行っている。 | V30: □ | W30: ・ | X30: □
C31: ⑤ 夜間看護体制加算の届出をしている。 | V31: □ | W31: ・ | X31: □

Sheet 別紙35
B2: （別紙35）
Y3: 令和 | AB3: 年 | AE3: 月 | AH3: 日
B5: 高齢者施設等感染対策向上加算に係る届出書
B7: 1 事 業 所 名
B8: 2 異 動 区 分 | G8: □ | H8: 1 新規 | L8: □ | M8: 2 変更 | Q8: □ | R8: 3 終了
B9: 3 施 設 種 別 | G9: □ | H9: 1 （介護予防）特定施設入居者生活介護 | U9: □ | V9: 2 地域密着型特定施設入居者生活介護
G10: □ | H10: 3 （介護予防）認知症対応型共同生活介護 | U10: □ | V10: 4 介護老人福祉施設
G11: □ | H11: 5 地域密着型介護老人福祉施設入所者生活介護 | U11: □ | V11: 6 介護老人保健施設
G12: □ | H12: 7 介護医療院
B13: 4 届 出 項 目 | G13: □ | H13: 1 高齢者施設等感染対策向上加算（Ⅰ）
G14: □ | H14: 2 高齢者施設等感染対策向上加算（Ⅱ）
B16: 5 高齢者施設等感染対策向上加算（Ⅰ）に係る届出
C17: 連携している第二種協定指定医療機関
C18: 医療機関名 | AA18: 医療機関コード
C21: 院内感染対策の研修または訓練を行った医療機関または地域の医師会
C22: 医療機関名（※１） | AA22: 医療機関コード
C24: 医療機関が届け出ている診療報酬 | M24: □ | N24: 1 感染対策向上加算１ | W24: □ | X24: 2 感染対策向上加算２
M25: □ | N25: 3 感染対策向上加算３ | W25: □ | X25: 4 外来感染対策向上加算
C27: 地域の医師会の名称（※１）
C30: 院内感染対策に関する研修又は訓練に参加した日時 | R30: 年 | Z30: 月 | AG30: 日
B34: 6 高齢者施設等感染対策向上加算（Ⅱ）に係る届出
C35: 施設内で感染者が発生した場合の対応に係る実地指導を行った医療機関の名称
C36: 医療機関名 | AA36: 医療機関コード
C39: 医療機関が届け出ている診療報酬 | M39: □ | N39: 1 感染対策向上加算１ | W39: □ | X39: 2 感染対策向上加算２
M40: □ | N40: 3 感染対策向上加算３
C42: 実地指導を受けた日時 | R42: 年 | Z42: 月 | AG42: 日
B45: 備考１ | D45: 要件を満たすことが分かる根拠書類を準備し、指定権者からの求めがあった場合には、速やかに提出すること。
B46: 備考２ | D46: 高齢者施設等感染対策向上加算（Ⅱ）で実地指導を行う医療機関等は、診療報酬の感染対策向上加算に係る届出を行っている必要がある。
B48: 備考３ | D48: 高齢者施設等感染対策向上加算（Ⅰ）及び（Ⅱ）は併算定が可能である。
B49: 備考４ | D49: 「院内感染対策の研修または訓練を行った医療機関または地域の医師会」については、医療機関名又は地域の医師会の名称のいずれかを記載してください。医療機関名を記載する場合には、当該医療機関が届け出ている診療報酬の種類を併せて記載してください。
B51: （※１） | D51: 研修若しくは訓練を行った医療機関又は地域の医師会のいずれかを記載してください。

Sheet 別紙37
B2: （別紙37）
W3: 令和 | Y3: 年 | AA3: 月 | AC3: 日
B5: 日常生活継続支援加算に関する届出書 （介護老人福祉施設・地域密着型介護老人福祉施設）
B7: 1 事 業 所 名
B8: 2 異 動 区 分 | H8: □ | I8: 1 新規 | M8: □ | N8: 2 変更 | R8: □ | S8: 3 終了
B9: 3 施 設 種 別 | H9: □ | I9: 1 介護老人福祉施設 | R9: □ | S9: 2 地域密着型介護老人福祉施設
B10: 4 届 出 項 目 | H10: □ | I10: 1 日常生活継続支援加算（Ⅰ） | R10: □ | S10: 2 日常生活継続支援加算（Ⅱ）
B13: 5 入所者の 状況及び介護 福祉士の状況 | H13: 入所者の状況 （下表については①を記載した場合は②若しくは③のいずれかを、④を記載した場合は⑤を必ず記載すること。）
AA14: 有 | AB14: ・ | AC14: 無
H15: ① | I15: 前６月又は前12月の新規新規入所者の総数 | U15: 人
H16: ② | I16: ①のうち入所した日の要介護状態区分が要介護４又は要介護５の者の数 | U16: 人 | V16: → | W16: ①に占める②の割合が ７０％以上 | AA16: □ | AB16: ・ | AC16: □
H17: ③ | I17: ①のうち入所した日の日常生活自立度がランクⅢ、Ⅳ又はⅤに該当する者の数 | U17: 人 | V17: → | W17: ①に占める③の割合が ６５％以上 | AA17: □ | AB17: ・ | AC17: □
H18: ④ | I18: 入所者総数 | U18: 人
H19: ⑤ | I19: ①のうち社会福祉士及び介護福祉士法施行規則第１条各号に掲げる行為を必要とする者の数 | U19: 人 | V19: → | W19: ④に占める⑤の割合が １５％以上 | AA19: □ | AB19: ・ | AC19: □
H21: 介護福祉士の割合
H22: 介護福祉士数 | M22: 常勤換算 | U22: 人 | V22: → | W22: 介護福祉士数：入所者数が１：６以上 | AA22: □ | AB22: ・ | AC22: □
B24: 備考１ 要件を満たすことが分かる根拠書類を準備し、指定権者からの求めがあった場合には、 速やかに提出してください。
B25: 備考２ ①で前６月（前12月）の新規入所者の総数を用いる場合、②及び③については、当該前 ６月（前12月）の新規入所者の総数に占めるそれぞれの要件に該当する者の数を記載して ください。

Sheet 別紙37－2
B2: （別紙37－２）
AA3: 令和 | AC3: 年 | AE3: 月 | AG3: 日
B5: テクノロジーの導入による日常生活継続支援加算に関する届出書
B7: 1 事 業 所 名
B8: 2 異 動 区 分 | H8: □ | I8: 1 新規 | M8: □ | N8: 2 変更 | R8: □ | S8: 3 終了
B9: 3 施 設 種 別 | H9: □ | I9: 1 介護老人福祉施設 | R9: □ | S9: 2 地域密着型介護老人福祉施設
B10: 4 届 出 項 目 | H10: □ | I10: 1 日常生活継続支援加算（Ⅰ） | R10: □ | S10: 2 日常生活継続支援加算（Ⅱ）
B13: 5 入所者の 状況及び介護 福祉士の状況 | H13: 入所者の状況 （下表については①を記載した場合は②若しくは③のいずれかを、④を記載した場合は⑤を必ず記載すること。）
AE14: 有 | AF14: ・ | AG14: 無
H15: ① | I15: 前６月又は前12月の新規新規入所者の総数 | Y15: 人
H16: ② | I16: ①のうち入所した日の要介護状態区分が要介護４又は要介護５の者の数 | Y16: 人 | Z16: → | AA16: ①に占める②の割合が７０％以上 | AE16: □ | AF16: ・ | AG16: □
H17: ③ | I17: ①のうち入所した日の日常生活自立度がランクⅢ、Ⅳ又はⅤに該当する者の数 | Y17: 人 | Z17: → | AA17: ①に占める③の割合が６５％以上 | AE17: □ | AF17: ・ | AG17: □
H18: ④ | I18: 入所者総数 | Y18: 人
H19: ⑤ | I19: ①のうち社会福祉士及び介護福祉士法施行規則第１条各号に掲げる行為を必要とする者の数 | Y19: 人 | Z19: → | AA19: ④に占める⑤の割合が １５％以上 | AE19: □ | AF19: ・ | AG19: □
H21: 介護福祉士の割合
H22: 介護福祉士数 | M22: 常勤換算 | Y22: 人 | Z22: → | AA22: 介護福祉士数：入所者数が１：７以上 | AE22: □ | AF22: ・ | AG22: □
H25: 以下の①から④の取組をすべて実施していること。 | AE25: 有 | AF25: ・ | AG25: 無
B26: 6 テクノロ ジーの使用 状況 | H26: ① テクノロジーを搭載した機器について、少なくとも以下のⅰ～ⅲの項目の機器を使用
H27: ⅰ 入所者全員に見守り機器を使用 | AE27: □ | AF27: ・ | AG27: □
H28: ⅱ 職員全員がインカムを使用 | AE28: □ | AF28: ・ | AG28: □
H29: ⅲ 介護記録ソフト、スマートフォン等のICTを使用 | AE29: □ | AF29: ・ | AG29: □
H30: ⅳ 移乗支援機器を使用 | AE30: □ | AF30: ・ | AG30: □
H31: （導入機器）
I32: 名 称
I33: 製造事業者
I34: 用 途
H35: ② 利用者の安全やケアの質の確保、職員の負担の軽減を図るため、以下のすべての項目に ついて、テクノロジー導入後、少なくとも３か月以上実施
H36: ⅰ 利用者の安全並びに介護サービスの質の確保及び職員の負担軽減に資する方策を検討するための 委員会を設置 | AE36: □ | AF36: ・ | AG36: □
H37: ⅱ 職員に対する十分な休憩時間の確保等の勤務・雇用条件への配慮 | AE37: □ | AF37: ・ | AG37: □
H38: ⅲ 機器の不具合の定期チェックの実施（メーカーとの連携を含む） | AE38: □ | AF38: ・ | AG38: □
H39: ⅳ 職員に対するテクノロジー活用に関する教育の実施 | AE39: □ | AF39: ・ | AG39: □
H40: ③ ②のⅰの委員会で安全体制やケアの質の確保、職員の負担軽減が図られていることを確認 | AE40: □ | AF40: ・ | AG40: □
H41: ④ ケアのアセスメント評価や人員体制の見直しをPDCAサイクルによって継続して実施 | AE41: □ | AF41: ・ | AG41: □
B43: 備考１ 要件を満たすことが分かる議事概要を提出すること。このほか要件を満たすことが分かる 根拠書類を準備し、指定権者からの求めがあった場合には、速やかに提出すること。
B44: 備考２ ５①で前６月（前12月）の新規入所者の総数を用いる場合、②及び③については、当該前６月 （前12月）の新規入所者の総数に占めるそれぞれの要件に該当する者の数を記載すること。
B45: 備考３ ６②ⅰの委員会には、介護福祉士をはじめ実際にケア等を行う多職種の職員が参画すること。

Sheet 別紙38
B2: （別紙38）
B4: 栄養マネジメント体制に関する届出書
B6: 1 | C6: 事業所名
B7: 2 | C7: 異動区分 | H7: □ | I7: 1 新規 | M7: □ | N7: 2 変更 | R7: □ | S7: 3 終了
B8: 3 | C8: 施設種別 | H8: □ | I8: 1 介護老人福祉施設 | P8: □ | Q8: 2 介護老人保健施設
H9: □ | I9: 3 地域密着型介護老人福祉施設 | P9: □ | Q9: 4 介護医療院
B12: 4 | C12: 栄養マネジメントの状況 | H12: １．基本サービス（栄養ケア・マネジメントの実施）
I13: 栄養マネジメントに関わる者（注）
I14: 職 種 | Q14: 氏 名
I16: 医 師
I18: 歯科医師
I20: 管 理 栄 養 士
I22: 看 護 師
I24: 介護支援専門員
H31: ２．栄養マネジメント強化加算
I33: ａ．入所者数 | U33: 人
I36: ｂ．栄養マネジメントを実施している管理栄養士の総数（常勤換算） | U36: 人 | V36: → | W36: 入所者数を 50で除した 数以上
W38: （給食管理を行う常勤栄養士が1名以上配置されている場合）70で除した数以上
I39: ｃ．給食管理を行っている常勤栄養士 （ｂ．の管理栄養士は含まない） | U39: 人
B44: 注 「栄養マネジメントに関わる者」には、共同で栄養ケア計画を作成している者の職種及び氏名を記入してください。
B45: ※ 要件を満たすことが分かる根拠書類を準備し、指定権者からの求めがあった場合には、速やかに提出してください。

Sheet 別紙39
B2: （別紙39）
B4: 配置医師緊急時対応加算に係る届出書
B6: 事 業 所 名
B7: 異動等区分 | G7: □ | H7: 1 新規 | L7: □ | M7: 2 変更 | Q7: □ | R7: 3 終了
B8: 施 設 種 別 | G8: □ | H8: 1 介護老人福祉施設 | Q8: □ | R8: 2 地域密着型介護老人福祉施設
B11: 配置医師緊急時対応加算に関する届出内容
C13: 配置医師名
C18: 連携する協力医療機関
C20: 協力医療機関名 | S20: 医療機関コード
T23: 有 | V23: ・ | X23: 無
C24: ① 看護体制加算（Ⅱ）を算定している。 | T24: □ | V24: ・ | X24: □
C25: ② 入所者に対する注意事項や病状等の情報共有並びに、曜 日や時間帯ごとの配置医師又は協力医療機関との連絡方法 や診察を依頼するタイミング等について、配置医師又は協 力医療機関と施設の間で具体的な取り決めがなされている。 | T25: □ | V25: ・ | X25: □
C26: ③ 複数名の配置医師を置いている、若しくは配置医と協力 医療機関の医師が連携し、施設の求めに応じて24時間対応 できる体制を確保している。 | T26: □ | V26: ・ | X26: □
C27: ④ ②及び③の内容について届出を行っている。 | T27: □ | V27: ・ | X27: □
B30: 備考１ 配置医師については、「特別養護老人ホーム等における療養の給付の取扱いについ て」（平成18年３月31日保医発0331002）別紙様式「特別養護老人ホーム等の施設の 状況及び配置医師等について」に記載された配置医師を記載してください。 備考２ 各要件を満たす場合については、それぞれ根拠となる（要件を満たすことがわかる） 書類も提出してください。

Sheet 別紙40
B2: （別紙40）
X3: 令和 | AA3: 年 | AC3: 月 | AE3: 日
B5: 認知症チームケア推進加算に係る届出書
B7: 事 業 所 名
B8: 異動等区分 | F8: □ | G8: １ 新規 | K8: □ | L8: ２ 変更 | Q8: □ | R8: ３ 終了
B9: 施 設 種 別 | F9: □ | G9: １（介護予防）認知症対応型共同生活介護 | R9: □ | S9: ２ 介護老人福祉施設
F10: □ | G10: ３ 地域密着型介護老人福祉施設入所者生活介護 | R10: □ | S10: ４ 介護老人保健施設
F11: □ | G11: ５ 介護医療院
B12: 届 出 項 目 | F12: □ | G12: １ 認知症チームケア推進加算（Ⅰ） | R12: □ | S12: ２ 認知症チームケア推進加算（Ⅱ）
AB14: 有 | AC14: ・ | AD14: 無
B15: １．認知症チームケア推進加算（Ⅰ）に係る届出内容
C16: (1) | D16: 利用者又は入所者の総数のうち、日常生活自立度のランクⅡ、Ⅲ、Ⅳ又はＭに該当する者 | AB16: □ | AC16: ・ | AD16: □
D17: の割合が50％以上である
D19: ① 利用者又は入所者の総数 注 | X19: 人
D20: ② 日常生活自立度のランクⅡ、Ⅲ、Ⅳ又はＭに該当する者の数 注 | X20: 人
D21: ③ ②÷①×100 | T21: =(IFERROR(ROUNDDOWN(T20/T19*100,0),"")) | U21: =(IFERROR(ROUNDDOWN(U20/U19*100,0),"")) | X21: ％
D22: 注 届出日の属する月の前３月の各月末時点の利用者又は入所者の数
E23: の平均で算定。
C25: (2) | D25: 認知症の行動・心理症状の予防等に資する認知症介護の指導に係る専門的な研修を修了 | AB25: □ | AC25: ・ | AD25: □
D26: している者又は認知症介護に係る専門的な研修及び認知症の行動・心理症状の予防等に資する
D27: ケアプログラムを含んだ研修を修了している者を必要数以上配置し、かつ、複数人の介護職員
D28: からなる認知症の行動・心理症状に対応するチームを組んでいる
D30: 認知症の行動・心理症状の予防等に資する認知症介護の指導に係る | X30: 人
D31: 専門的な研修を修了している者又は認知症介護に係る専門的な
D32: 研修及び認知症の行動・心理症状の予防に資するケアプログラムを
D33: 含んだ研修を修了している者の数
C36: (3) | D36: 対象者に対し、個別に認知症の行動・心理症状の評価を計画的に行い、その評価に | AB36: □ | AC36: ・ | AD36: □
D37: 基づく値を測定し、認知症の行動・心理症状の予防等に資するチームケアを実施している
C39: (4） | D39: 認知症の行動・心理症状の予防等に資する認知症ケアについて、カンファレンスの開催、 | AB39: □ | AC39: ・ | AD39: □
D40: 計画の作成、認知症の行動・心理症状の有無及び程度についての定期的な評価、
D41: ケアの振り返り、計画の見直し等を行っている
B43: ２．認知症チームケア推進加算（Ⅱ）に係る届出内容
C44: (1) | D44: 認知症チームケア推進加算（Ⅰ）の（1）、（3）、（4）に該当している | AB44: □ | AC44: ・ | AD44: □
D45: ※認知症チームケア推進加算（Ⅰ）に係る届出内容（1）、（3）、（4）も記入すること。
C48: (2) | D48: 認知症の行動・心理症状の予防等に資する認知症介護に係る専門的な研修を修了している者 | AB48: □ | AC48: ・ | AD48: □
D49: を必要数以上配置し、かつ、複数人の介護職員からなる認知症の行動・心理症状に対応する
D50: チームを組んでいる
D52: 認知症の行動・心理症状の予防等に資する認知症介護に係る専門的な | X52: 人
D53: 研修を修了している者の数
B57: 備考 | D57: 要件を満たすことが分かる根拠書類を準備し、指定権者からの求めがあった場合には、速やかに提出
D58: すること。

Sheet 別紙41
B2: （別紙41）
B4: 褥瘡マネジメント加算に関する届出書
B6: 1 | C6: 事業所名
B7: 2 | C7: 異動区分 | I7: □ | J7: 1 新規 | N7: □ | O7: 2 変更 | S7: □ | T7: 3 終了
B8: 3 | C8: 施設種別 | I8: □ | J8: １ 介護老人福祉施設 | Q8: □ | R8: ２ 地域密着型介護老人福祉施設入所者生活介護
I9: □ | J9: ３ 介護老人保健施設 | Q9: □ | R9: ４ 看護小規模多機能型居宅介護
B11: 4 | C11: 褥瘡マネジメントの状況 | I11: 褥瘡マネジメントに関わる者
I13: 職 種 | O13: 氏 名
I15: 医 師
I17: 歯科医師
I19: 看 護 師
I21: 管 理 栄 養 士
I23: 介護支援専門員
B36: ※ | C36: 「褥瘡マネジメントに関わる者」には、共同で褥瘡ケア計画を作成している者の職種及び氏名を記入してください。

Sheet 別紙46
B2: （別紙46）
B4: 夜間支援体制加算に係る届出書（（介護予防）認知症対応型共同生活介護事業所）
B6: 事 業 所 名
B7: 異動等区分 | G7: □ | H7: 1 新規 | L7: □ | M7: 2 変更 | Q7: □ | R7: 3 終了
B8: 届 出 項 目 | G8: □ | H8: 1 夜間支援体制加算（Ⅰ）
G9: □ | H9: 2 夜間支援体制加算（Ⅱ）
B11: １ 夜間支援体制加算に係る届出内容
C13: ① 共同生活住居の数
L15: ユニット | V15: 有 | W15: ・ | X15: 無
C17: ② 定員超過利用・人員基準欠如に該当していない。 | V17: □ | W17: ・ | X17: □
C19: ③ 共同生活住居１ごとに、夜間及び深夜の時間帯を通じて１の介護従業者を配置している。 | V19: □ | W19: ・ | X19: □
C21: ④ ③へ加配をしている。 | V21: □ | W21: ・ | X21: □
D23: イ | E23: 常勤換算方法で１人以上の夜勤を行う介護従業者
D24: ロ | E24: 見守り機器等を導入した場合で 常勤換算方法で0.9人以上の夜勤を行う介護従業者 ※「２ 見守り機器等を導入した場合の配置要件に該当する届出項目に おける必要事項」も記入すること。
D25: ハ | E25: 事業所内で宿直勤務に当たる者が１以上
B28: ２ 見守り機器等を導入した場合の配置要件に該当する届出項目における必要事項
C30: ① 利用者数
N32: 人
C34: ② 見守り機器を導入して見守りを行っている対象者数
N36: 人
C38: ③ ①に占める②の割合 | V38: 有 | W38: ・ | X38: 無
N40: ％ | P40: → | R40: １０％以上 | V40: □ | W40: ・ | X40: □
C42: ④ 導入機器
D44: 名 称
D45: 製造事業者
D46: 用 途
V47: 有 | W47: ・ | X47: 無
C48: ⑤ 導入機器の継続的な使用（９週間以上） | V48: □ | W48: ・ | X48: □
C50: ⑥ 利用者の安全並びに介護サービスの質の確保及び職員の負担軽減に資する方策を検討するための委員会を設置し、必要な検討等が行われている。 | V50: □ | W50: ・ | X50: □
B52: 備考 要件を満たすことが分かる根拠書類を準備し、指定権者からの求めがあった場合には、
B53: 速やかに提出すること。

Sheet 別紙47
B2: （別紙47）
B4: 看取り介護加算に係る届出書（認知症対応型共同生活介護事業所）
B6: 事 業 所 名
B7: 異動等区分 | G7: □ | H7: 1 新規 | L7: □ | M7: 2 変更 | Q7: □ | R7: 3 終了
B10: 看取り介護加算に係る届出内容 | V10: 有 | W10: ・ | X10: 無
D12: ① | E12: 医療連携体制加算（Ⅰ）イ～（Ⅰ）ハのいずれかを算定している。 | V12: □ | W12: ・ | X12: □
D14: ② | E14: 看取りに関する指針を定め、入居の際に、利用者又はその家族等に当該指針の内容を説明し、同意を得ている。 | V14: □ | W14: ・ | X14: □
D16: ③ | E16: 看取りに関する指針について、医師、看護職員（※）、介護職員、介護支援専門員その他の職種の者による協議の上、当該事業所における看取りの実績等を踏まえ、適宜、見直しを行う。 | V16: □ | W16: ・ | X16: □
D18: ④ | E18: 看取りに関する職員研修を行っている。 | V18: □ | W18: ・ | X18: □
D20: ⑤ | E20: 「人生の最終段階における医療・ケアの決定プロセスに関するガイドライン」等の内容に沿った取組を行っている。 | V20: □ | W20: ・ | X20: □
B23: ※ | E23: 看護職員は事業所の職員又は当該事業所と密接な連携を確保できる範囲内の距離にある病院若しくは診療所若しくは訪問看護ステーションの職員に限る。
B24: 備考 | E24: 要件を満たすことが分かる根拠書類を準備し、指定権者からの求めがあった場合には、速やかに提出すること。

Sheet 別紙48
B2: （別紙48）
B4: 医療連携体制加算（Ⅰ）に係る届出書（認知症対応型共同生活介護事業所）
B6: 事 業 所 名
B7: 異動等区分 | G7: □ | H7: 1 新規 | L7: □ | M7: 2 変更 | Q7: □ | R7: 3 終了
B8: 届 出 項 目 | G8: □ | H8: 1 医療連携体制加算（Ⅰ）イ
G9: □ | H9: 2 医療連携体制加算（Ⅰ）ロ
G10: □ | H10: 3 医療連携体制加算（Ⅰ）ハ
B13: ○医療連携体制加算（Ⅰ）に係る届出内容 | V13: 有 | W13: ・ | X13: 無
C15: ・医療連携体制加算（Ⅰ）イ～（Ⅰ）ハ共通
C16: 指針整備等の 状況 | G16: ① | H16: 利用者が重度化した場合の対応に係る指針を定めている。 | V16: □ | W16: ・ | X16: □
G17: ② | H17: ①で定めた指針の内容を、入居に際して利用者又はその家族等に説明し同意を得ている。 | V17: □ | W17: ・ | X17: □
C19: ・医療連携体制加算（Ⅰ）イ
C20: 看護体制の 状況 | G20: ① | H20: 事業所の職員として看護師を常勤換算方法で１名以上配置している。 | V20: □ | W20: ・ | X20: □
G21: ② | H21: 事業所の職員である看護師又は病院等の看護師との連携により24時間連絡できる体制を確保している。 | V21: □ | W21: ・ | X21: □
C23: ・医療連携体制加算（Ⅰ）ロ
C24: 看護体制の 状況 | G24: ① | H24: 事業所の職員として看護職員を常勤換算方法で１名以上配置している。 | V24: □ | W24: ・ | X24: □
G25: ② | H25: 事業所の職員である看護職員（※１）又は病院等の看護師との連携により24時間連絡できる体制を確保している。 | V25: □ | W25: ・ | X25: □
C27: ・医療連携体制加算（Ⅰ）ハ
C28: 看護体制の 状況 | G28: ① | H28: 事業所の職員として又は病院等（※２）との連携により、看護師を１名以上確保している。 | V28: □ | W28: ・ | X28: □
G29: ② | H29: 看護師により24時間連絡できる体制を確保している。 | V29: □ | W29: ・ | X29: □
C31: ※１ | E31: 事業所の職員として配置している看護職員が准看護師のみである場合は、病院等の看護師により24時間連絡できる体制を確保することが必要。
C32: ※２ | E32: 「病院等」は「病院、診療所若しくは指定訪問看護ステーション」を指す。
B33: 備考 要件を満たすことが分かる根拠書類を準備し、指定権者からの求めがあった場合には、
B34: 速やかに提出すること。

Sheet 別紙48－2
B2: （別紙48－2）
B4: 医療連携体制加算（Ⅱ）に係る届出書（認知症対応型共同生活介護事業所）
B6: 事 業 所 名
B7: 異動等区分 | G7: □ | H7: 1 新規 | L7: □ | M7: 2 変更 | Q7: □ | R7: 3 終了
B10: 医療連携体制加算（Ⅱ）に係る届出内容 | V10: 有 | W10: ・ | X10: 無
D12: ① | E12: 医療連携体制加算（Ⅰ）イ～（Ⅰ）ハのいずれかを算定している。 | V12: □ | W12: ・ | X12: □
D14: ② | E14: 算定日の属する月の前３月間において、下記いずれかに該当する状態の利用者が１人以上である。 | V14: □ | W14: ・ | X14: □
E15: （ア）喀痰吸引を実施している状態
E16: （イ）呼吸障害等により人工呼吸器を使用している状態
E17: （ウ）中心静脈注射を実施している状態
E18: （エ）人工腎臓を実施している状態
E19: （オ）重篤な心機能障害、呼吸障害等により常時モニター測定を実施している状態
E20: （カ）人工膀胱又は人工肛門の処置を実施している状態
E21: （キ）経鼻胃管や胃瘻等の経腸栄養が行われている状態
E22: （ク）褥瘡に対する治療を実施している状態
E23: （ケ）気管切開が行われている状態
E24: （コ）留置カテーテルを使用している状態
E25: （サ）インスリン注射を実施している状態
B28: 備考 要件を満たすことが分かる根拠書類を準備し、指定権者からの求めがあった場合には、
B29: 速やかに提出すること。

Sheet 参考様式2-1
A3: 日常生活継続支援加算に関する確認書①
A5: 施設名
A6: 施設区分 | E6: ① | F6: 介護老人福祉施設 | J6: ② | K6: 地域密着型介護老人福祉施設
A9: 【要件１】 ※１～５のいずれかを記載すること
A11: １ | B11: 要介護４又は要介護５の者の数 （届出月前６か月の新規入所者）
C12: 換算月 | F12: 月 | G12: 月 | H12: 月 | I12: 月 | J12: 月 | K12: 月 | L12: 合計
B13: ① | C13: 新規入所者の総数 | L13: =SUM(F13:K13) -> 0 | M13: ←A | N13: B/A×100
B14: ② | C14: ①のうち入所した日の 要介護状態区分が 要介護４・５の者の数 | L14: =SUM(F14:K14) -> 0 | M14: ←B | O14: ％ | P14: ← | Q14: ７０％以上
A16: ２ | B16: 要介護４又は要介護５の者の数 （届出月前12か月の新規入所者）
C17: 換算月 | F17: 月 | G17: 月 | H17: 月 | I17: 月 | J17: 月 | K17: 月 | L17: 月 | M17: 月 | N17: 月 | O17: 月 | P17: 月 | Q17: 月 | R17: 合計
B18: ① | C18: 新規入所者の総数 | R18: =SUM(F18:Q18) -> 0 | S18: ←A
B19: ② | C19: ①のうち入所した日の 要介護状態区分が 要介護４・５の者の数 | R19: =SUM(F19:Q19) -> 0 | S19: ←B
N20: B/A×100
O21: ％ | P21: ← | Q21: ７０％以上
A23: ３ | B23: 日常生活自立度ランクⅢ、Ⅳ又はＭの者の数 （届出月前６か月の新規入所者）
C24: 換算月 | F24: 月 | G24: 月 | H24: 月 | I24: 月 | J24: 月 | K24: 月 | L24: 合計
B25: ① | C25: 新規入所者の総数 | L25: =SUM(F25:K25) -> 0 | M25: ←a | N25: b/a×100
B26: ② | C26: ①のうち入所した日の日常生活自立度がランクⅢ，Ⅳ又はＭの者の数 | L26: =SUM(F26:K26) -> 0 | M26: ←b | O26: ％ | P26: ← | Q26: ６５％以上
A28: ４ | B28: 日常生活自立度ランクⅢ、Ⅳ又はＭの者の数 （届出月前12か月の新規入所者）
C29: 換算月 | F29: 月 | G29: 月 | H29: 月 | I29: 月 | J29: 月 | K29: 月 | L29: 月 | M29: 月 | N29: 月 | O29: 月 | P29: 月 | Q29: 月 | R29: 合計
B30: ① | C30: 新規入所者の総数 | R30: =SUM(F30:Q30) -> 0 | S30: ←a
B31: ② | C31: ①のうち入所した日の日常生活自立度がランクⅢ，Ⅳ又はＭの者の数 | R31: =SUM(F31:Q31) -> 0 | S31: ←b
N32: b/a×100
O33: ％ | P33: ← | Q33: ６５％以上
A36: ５ | B36: 口腔内のたんの吸引等、経管栄養等を必要とする者の数 （届出月前４月から前々月までの３月間の平均）
B37: 換算月 | D37: ア：入所者数 （各月末日時点） | G37: イ：たんの吸引等 の者の数 （各月末日時点） | J37: ウ：割合 （ イ ÷ ア ） | M37: エ：平均 （ ウの計÷3 ）
C40: 月 | L40: ％ | M40: =+(J43/3)*100 -> 0 | Q40: １５％以上
C41: 月 | L41: ％ | P41: ←
C42: 月 | L42: ％ | O42: ％
A44: （注意事項）
A45: 1 | B45: 各要件について，それぞれ根拠となる（要件を満たすことがわかる）書類も提出してください。
A46: 2 | B46: 届出を行った月以降においても，毎月直近６か月又は12か月間のこれらの割合がそれぞれ所定の割合以上であることが必要である。その割合については，毎月記録するとともに，所定の割合を下回った場合には，加算の取り下げを行うこと。
A50: 【要件２】
B52: 介護福祉士の割合
M53: 平均入所者数
B54: 当該年度の前年度の全入所者の延数 ÷ 当該前年度の日数 | O54: 人 | P54: ← | Q54: ①
B58: 参考様式「日常生活継続支援加算に関する確認書」で算出された届出月前３か月平均における介護福祉士の数 （常勤換算数） | O58: 人 | P58: ← | Q58: ②
B61: ① | C61: 介護福祉士数（②）：入所者数（①）が１：６以上
B62: ② | C62: テクノロジーの導入により介護福祉士数（②）：入所者数（①）が１：７以上→別紙37－２を提出すること

Sheet 参考様式３
A3: 夜勤職員配置加算（夜間勤務等看護加算）に係る確認書
A5: 事業所番号 | N5: 事業所・施設名
A7: 施設種別 | E7: ① | F7: 短期入所生活介護 | M7: ② | N7: 短期入所療養介護 | T7: ③ | U7: 介護老人福祉施設
E8: ④ | F8: 地域密着型介護老人福祉施設 | M8: ⑤ | N8: 介護老人保健施設 | T8: ⑥ | U8: 介護医療院
A10: 前年度の 平均入所者数等 | F10: 短期入所 生活介護・ （地域密着型） 介護老人 福祉施設
J11: 本体施設の前年度の 平均入所者数（※空床短期入所を含む） | N11: 併設型短期入所の前年度の平均利用者数 | R11: 左記の合計 | V11: ﾕﾆｯﾄ部分の ﾕﾆｯﾄ数 （併設短期入所を含む）
F17: 短期入所 療養介護・ 介護老人 保健施設 介護医療院
J18: 前年度の平均入所者数 （※みなし短期入所を含む） | V18: ﾕﾆｯﾄ部分の ﾕﾆｯﾄ数
J20: 認知症専門棟以外 | N20: 認知症専門棟
A25: ●ユニット及び認知症専門棟以外の部分用
A27: 施設の夜勤時間帯 | G27: （ | I27: ： | K27: ）～ | L27: （ | N27: ： | P27: ）の１６時間 | Q27: ) | T27: ※ 22時～翌5時を含めた連続する 16時間で、施設で定めたもの。
B28: 夜勤時間帯における延夜勤時間数
B29: 勤務の 種別 | D29: 勤 務 時 間 | N29: うち、夜勤時間帯に該当する勤務時間数（Ａ） | S29: 当該月内の勤務延日数（Ｂ） | W29: （Ａ）×（Ｂ）
D31: （ | F31: ： | H31: ）～ | I31: （ | K31: ： | M31: ） | R31: ｈ | V31: 日 | W31: =+N31*S31 -> 0 | Z31: ｈ
D32: （ | F32: ： | H32: ）～ | I32: （ | K32: ： | M32: ） | R32: ｈ | V32: 日 | W32: =+N32*S32 -> 0 | Z32: ｈ
D33: （ | F33: ： | H33: ）～ | I33: （ | K33: ： | M33: ） | R33: ｈ | V33: 日 | W33: =+N33*S33 -> 0 | Z33: ｈ
D34: （ | F34: ： | H34: ）～ | I34: （ | K34: ： | M34: ） | R34: ｈ | V34: 日 | W34: =+N34*S34 -> 0 | Z34: ｈ
D35: （ | F35: ： | H35: ）～ | I35: （ | K35: ： | M35: ） | R35: ｈ | V35: 日 | W35: =+N35*S35 -> 0 | Z35: ｈ
D36: （ | F36: ： | H36: ）～ | I36: （ | K36: ： | M36: ） | R36: ｈ | V36: 日 | W36: =+N36*S36 -> 0 | Z36: ｈ
D37: （ | F37: ： | H37: ）～ | I37: （ | K37: ： | M37: ） | R37: ｈ | V37: 日 | W37: =+N37*S37 -> 0 | Z37: ｈ
S38: 延夜勤時間数 | W38: =SUM(W31:Y37) -> 0 | Z38: ｈ
B40: １日平均夜勤職員数
C41: =+W38 -> 0 | F41: ｈ | G41: ÷ （ | L41: 日 | M41: × １６ ） ＝ | Q41: =+C41/(I41*16) -> #DIV/0!
C42: ※延夜勤時間数 | I42: ※当該月の日数 | Q42: ※小数点第３位以下切り捨て
A44: ●ユニット部分用又は認知症専門棟部分
A46: 施設の夜勤時間帯 | G46: （ | I46: ： | K46: ）～ | L46: （ | N46: ： | P46: ）の１６時間 | Q46: ) | T46: ※ 22時～翌5時を含めた連続する 16時間で、施設で定めたもの。
B47: 夜勤時間帯における延夜勤時間数
B48: 勤務の 種別 | D48: 勤 務 時 間 | N48: うち、夜勤時間帯に該当する勤務時間数（Ａ） | S48: 当該月内の勤務延日数（Ｂ） | W48: （Ａ）×（Ｂ）
D50: （ | F50: ： | H50: ）～ | I50: （ | K50: ： | M50: ） | R50: ｈ | V50: 日 | W50: =+N50*S50 -> 0 | Z50: ｈ
D51: （ | F51: ： | H51: ）～ | I51: （ | K51: ： | M51: ） | R51: ｈ | V51: 日 | W51: =+N51*S51 -> 0 | Z51: ｈ
D52: （ | F52: ： | H52: ）～ | I52: （ | K52: ： | M52: ） | R52: ｈ | V52: 日 | W52: =+N52*S52 -> 0 | Z52: ｈ
D53: （ | F53: ： | H53: ）～ | I53: （ | K53: ： | M53: ） | R53: ｈ | V53: 日 | W53: =+N53*S53 -> 0 | Z53: ｈ
D54: （ | F54: ： | H54: ）～ | I54: （ | K54: ： | M54: ） | R54: ｈ | V54: 日 | W54: =+N54*S54 -> 0 | Z54: ｈ
D55: （ | F55: ： | H55: ）～ | I55: （ | K55: ： | M55: ） | R55: ｈ | V55: 日 | W55: =+N55*S55 -> 0 | Z55: ｈ
D56: （ | F56: ： | H56: ）～ | I56: （ | K56: ： | M56: ） | R56: ｈ | V56: 日 | W56: =+N56*S56 -> 0 | Z56: ｈ
S57: 延夜勤時間数 | W57: =SUM(W50:Y56) -> 0 | Z57: ｈ
B59: １日平均夜勤職員数
C60: =+W57 -> 0 | F60: ｈ | G60: ÷ （ | L60: 日 | M60: × １６ ） ＝ | Q60: =+C60/(I60*16) -> #DIV/0!
C61: ※延夜勤時間数 | I61: ※当該月の日数 | Q61: ※小数点第３位以下切り捨て
A63: （注意事項）
A64: 1 | B64: 一部ユニット型施設（経過措置）においては、ユニット部分とユニット以外の部分についてそれぞれ記載すること。（ユニット部分とユニット以外の部分について、それぞれ区分して算定の可否を判断すること。）
A66: 2 | B66: 認知症専門棟を有する介護老人保健施設福祉施設においては、認知症専門棟部分と認知症専門棟以外の部分についてそれぞれ記載すること。（認知症専門棟部分と認知症専門棟以外の部分について、それぞれ区分して算定の可否を判断すること。）

Sheet 参考様式４
A2: 生活機能向上連携加算に関する確認書
B4: 事業所・施設名
B5: 届 出 項 目 | F5: 1 生活機能向上連携加算（Ⅰ） 2 生活機能向上連携加算（Ⅱ）
B6: 施設等区分 | F6: ① | G6: 介護老人福祉施設
F7: ② | G7: 地域密着型介護老人福祉施設
F8: ③ | G8: （介護予防）特定施設入居者生活介護
F9: ④ | G9: 地域密着型特定施設入居者生活介護
F10: ⑤ | G10: （介護予防）短期入所生活介護
B13: 共同する指定訪問リハビリテーション事業所，指定通所リハビリテーション事業所，医療提供施設
B14: 共同等する事業所等の名称 | M14: 事業所番号又は医療機関コード
A21: ※ | B21: 医療提供施設とは，リハビリテーションを実施している施設であり，診療報酬における疾患別リハビリテーション料の届出を行っている病院若しくは診療所又は介護老人保健施設，介護療養型医療施設若しくは介護医療院である。なお，病院の場合は，許可病床数が200床未満のもの又は当該病院を中心とした半径４キロメートル以内に診療所が存在しないものに限る。

Sheet 参考様式32
A2: 入居継続支援加算に関する確認書
A4: 施設名
A5: 施設区分 | E5: □ | F5: 1 | G5: 特定施設入居者生活介護
E6: □ | F6: 2 | G6: 地域密着型特定施設入居者生活介護
A8: 【要件１】
B10: 口腔内の喀痰吸引等，経管栄養等を必要とする者の数（前４月から前々月までの３月間の平均）
B11: 換算月 | D11: ア：入居者数 （各月末日時点） | G11: イ：喀痰吸引等 の者の数 （各月末日時点） | J11: ウ：割合 （ イ ÷ ア ） | M11: エ：平均 （ ウの計÷３ ） | Q11: 加算（Ⅰ） 15％以上 加算（Ⅱ） ５％以上 15％未満
C14: 月 | L14: ％
C15: 月 | L15: ％ | P15: ←
C16: 月 | L16: ％ | O16: ％
B18: 又は
B20: 要件（※）に該当し看護等を必要とする者（前４月から前々月までの３月間の平均）
B21: 換算月 | D21: ア：入居者数 （各月末日時点） | G21: イ：喀痰吸引等 （※）の者の数 （各月末日時点） | J21: ウ：割合 （ イ ÷ ア ） | M21: エ：平均 （ ウの計÷３ ） | Q21: 加算（Ⅰ） 15％以上 加算（Ⅱ） ５％以上 15％未満
C24: 月 | L24: ％
C25: 月 | L25: ％ | P25: ←
C26: 月 | L26: ％ | O26: ％
B28: ※「口腔内の喀痰吸引等を必要としている状態」、「経管栄養等を必要としている状態」、
B29: 「尿道カテーテル留置を実施している状態」、「在宅酸素療法を実施している状態」、
B30: 「インスリン注射を実施している状態」のいずれかに該当する者
A32: （注意事項）
B33: 届出を行った月以降においても，毎月において前４月から前々月までの３月間のこれらの割合がそれぞれ所定の割合以上であることが必要である。これらの割合については，毎月記録するとともに，所定の割合を下回った場合には，加算の取り下げを行うこと。
A38: 【要件２】
B40: 介護福祉士の割合
N41: 平均入居者数
B42: 当該年度の前年度の全入居者の延数 ÷ 当該前年度の日数 | P42: 人 | Q42: ← | R42: ①
B46: 届出月の前３月間の平均における介護福祉士の数 （常勤換算数） | P46: 人 | Q46: ← | R46: ②
H50: 介護福祉士数（②）：入所者数（①）が１：６以上
B51: ※テクノロジーを活用した複数の機器を活用し、利用者に対するケアのアセスメント評価や人員体制の見直しをPDCAサイクルによって継続して行う場合は、当該加算の介護福祉士の配置要件を「７又はその端数を増すごとに１以上」→別紙32-2を提出すること

Sheet 参考様式５
A3: 事業所番号 | M3: 事業所・施設名
A6: 若年性認知症利用者（入所者・患者・入居者）受入加算に関する届出書
A8: 若年性認知症利用者（入所者・患者・入居者）に対応する担当職員職・氏名
B10: 施設種別 | M10: 職 名 | R10: 氏 名
B11: 短期入所生活介護
B12: 短期入所療養介護
B13: 特定施設入居者生活介護
B14: 認知症対応型共同生活介護
B15: 地域密着型特定施設入居者生活介護
B16: 地域密着型介護老人福祉施設
B17: 介護老人福祉施設
B18: 介護老人保健施設
B19: 介護療養型医療施設
B20: 介護医療院
B21: 介護予防短期入所生活介護
B22: 介護予防短期入所療養介護
... B24: 介護予防認知症対応型共同生活介護
B26: 受け入れた若年性認知症利用者（入所者・患者・入居者）ごとに個別の担当者を定めているか。 | U26: 有 ・ 無
A31: 療養食加算に関する届出書
A33: 療養食加算の担当職員職・氏名
B35: 施設種別 | M35: 職 名 | R35: 氏 名
B36: 短期入所生活介護
B37: 短期入所療養介護
B38: 地域密着型介護老人福祉施設
B39: 介護老人福祉施設
B40: 介護老人保健施設
B41: 介護医療院
B42: 介護予防短期入所生活介護
B43: 介護予防短期入所療養介護
B45: 食事の提供が管理栄養士又は栄養士によって管理されているか。 | U45: 有 ・ 無
B49: 利用者（入所者・患者）の年齢、心身の状況によって適切な栄養量及び内容の食事の提供が行われているか。 | U49: 有 ・ 無

Sheet 参考様式６
A2: 精神科医師定期的療養指導に関する届出書
A4: １ 施設名
A5: ２ 施設種別 | D5: 1 | E5: 介護老人福祉施設 | H5: 2 | I5: 地域密着型介護老人福祉施設
A6: ３ 入所者数 | J6: 人
A7: ４ 認知症の症状 を呈する入所者 | J7: 人
D9: 氏 名 | H9: 年齢 | I9: 氏 名 | L9: 年齢
D10: 1 | I10: 16
D11: 2 | I11: 17
D12: 3 | I12: 18
D13: 4 | I13: 19
D14: 5 | I14: 20
D15: 6 | I15: 21
D16: 7 | I16: 22
D17: 8 | I17: 23
D18: 9 | I18: 24
D19: 10 | I19: 25
D20: 11 | I20: 26
D21: 12 | I21: 27
... D23: 14 | I23: 29
D24: 15
A26: ５ 精神科を担当 する医師 | C26: 精神科を 標ぼうする 所属医療機関 | F26: 住所
F28: 氏名
C29: 精神科担当医師氏名
A30: ６ １か月当たり の療養指導の 回数，時間 | D30: イ | E30: 配置医師（嘱託医）とは別に精神科担当医師がいる場合
E31: １か月当たりの回数： | J31: 回
E32: １回当たりの勤務時間： | J32: 時間
D33: ロ | E33: 配置医師（嘱託医）が精神科担当医師を兼ねる場合
E34: (1) 配置医師（嘱託医）として勤務する回数，時間
E35: １か月当たりの回数： | J35: 回
E36: １回当たりの勤務時間： | J36: 時間
E37: (2) 配置医師（嘱託医）として勤務する回数，時間
E38: １か月当たりの回数： | J38: 回
E39: １回当たりの勤務時間： | J39: 時間
A40: ＜精神科担当医師の証明＞
B41: 上記のとおり相違ないことを証明します。
E43: 氏 名
A46: 備考1 | B46: 上記４の欄は，３の欄の全入所者のうち，認知症の症状を呈する入所者の数及びその氏名，年齢を記入すること。
A48: 2 | B48: 上記５の欄は，精神科を標ぼうする医療機関において精神科を担当する医師であって，定期的療養指導を行う医師について記入すること。
A50: 3 | B50: 配置医師（嘱託医）が，上記５の精神科担当医師を兼ねる場合，配置医師として勤務する回数のうち，月４回（１回当たりの勤務時間３～４時間程度）までは，加算算定の基礎とはならないこと。（１回当たりの勤務時間が１．５～２時間の場合にあっては，月８回までは加算算定の基礎としない。）

Sheet 参考様式７
A3: 障害者生活支援体制に関する届出書
A5: 施設名
A6: 異動区分 | F6: 1 | G6: 新規 | J6: 2 | K6: 変更 | N6: 3 | O6: 終了
A7: 施設区分 | E7: ① | F7: 介護老人福祉施設 | J7: ② | K7: 地域密着型介護老人福祉施設
A10: １ 入所者の状況
B11: ① | C11: 入所者の総数 | I11: 人 | J11: Ⅰの要件 | P11: Ⅱの要件
B12: ② | C12: 視覚障害者等である入所者の数 | I12: 人 | J12: →１５人以上 有 ・ 無
B13: ③ | C13: （②÷①）×100 | I13: ％ | J13: →３０％以上 有 ・ 無 | O13: → | P13: ５０％以上 有 ・ 無
A15: 2 障害者生活支援員
B17: a | C17: 点字の指導、点訳、歩行支援等を行うことができる者
B18: b | C18: 手話通訳等を行うことができる者
B19: c | C19: 知的障害者福祉法(昭和三十五年法律第三十七号)第十四条各号に掲げる者又はこれらに準ずる者
B21: d | C21: 精神保健福祉士又は精神保健及び精神障害者福祉に関する法律施行令(昭和二十五年政令第百五十五号)第十二条各号に掲げる者
B24: 障害者生活支援員氏名 | G24: 種別 | J24: 常勤・非常勤
J25: 常勤・非常勤
J26: 常勤・非常勤
J27: 常勤・非常勤
J28: 常勤・非常勤
J29: 常勤・非常勤
B30: ※ 種別には上記a～dの該当する種別を記載してください。
B33: 常勤専従の障害者生活支援員の数 | J33: 人
B38: 加算Ⅰ | D38: 視覚障害者等である入所者の数が５０人以下 | M38: 配置基準 常勤専従１ | P38: 有 ・ 無
D39: 視覚障害者等である入所者の数が５０人を超える | M39: 上記に加え 常勤換算 50：1 | P39: 有 ・ 無
B40: 加算Ⅱ | D40: 視覚障害者等である入所者の数が５０人以下 | M40: 配置基準 常勤専従 2 | P40: 有 ・ 無
D41: 視覚障害者等である入所者の数が５０人を超える | M41: 上記に加え 常勤換算で （（50：1）＋1） | P41: 有 ・ 無
A43: ※ 各要件を満たすことが確認できる書類を添付してください。

Sheet 参考様式９
A2: 排せつ支援加算に関する届出書
A4: 1 事業所名
A5: 2 異動区分 | E5: ① | F5: 新規 | J5: ② | K5: 変更 | O5: ③ | P5: 終了
A6: 3 施設種別 | E6: ① | F6: 介護老人福祉施設 | M6: ② | N6: 地域密着型介護老人福祉施設
E7: ③ | F7: 介護老人保健施設 | M7: ④ | N7: 介護医療院
E8: ⑤ | F8: 看護小規模多機能型居宅介護
A10: 4 排泄支援の状況 | E10: 排泄支援に関わる者
E11: 職 種 | J11: 氏 名
E12: 医 師
E13: 歯科医師
E14: 看護師
E15: 管理栄養士
E16: 介護支援専門員
A23: ※「排泄支援に関わる者」には、共同で排泄支援計画を作成している者の職種及び氏名を記入してくだい。

Sheet 参考様式10
A2: 自立支援促進加算に関する届出書
A4: 1 事業所名
A5: 2 異動区分 | E5: ① | F5: 新規 | J5: ② | K5: 変更 | O5: ③ | P5: 終了
A6: 3 施設種別 | E6: ① | F6: 介護老人福祉施設 | M6: ② | N6: 地域密着型介護老人福祉施設
E7: ③ | F7: 介護老人保健施設 | M7: ④ | N7: 介護医療院
A9: 4 自立支援の状況 | E9: 自立支援に関わる者
E10: 職 種 | J10: 氏 名
E11: 医 師
E12: 歯科医師
E13: 看護師
E14: 管理栄養士
E15: 介護支援専門員
A22: ※「自立支援に関わる者」には、共同で自立支援計画を作成している者の職種及び氏名を記入してください。

Sheet 参考様式11
A2: 安全対策体制に関する確認書
A4: 事業所名
A5: 施設種別 | E5: ① | F5: 介護老人福祉施設 | M5: ② | N5: 地域密着型介護老人福祉施設
E6: ③ | F6: 介護老人保健施設 | M6: ④ | N6: 介護医療院
A8: 安全対策体制の状況 | E8: 措置を適切に実施するための担当者の職種及び氏名
E9: 職 種 | J9: 氏 名
E14: 担当者が受講した安全対策に係る外部研修
E15: 氏 名 | J15: 研修名
E20: 当該施設内に設置された安全管理部門名称

Sheet 【記載例】（ユニット型）
G1: （標準様式1） | Q1: 従業者の勤務の体制及び勤務形態一覧表 | AW1: サービス種別（ | AX1: 指定介護老人福祉施設（ユニット型） | BN1: ）
AF2: 令和 | AG2: 6 | AI2: ( | AJ2: =IF(AG2=0,"",YEAR(DATE(2018+AG2,1,1))) -> 2024 | AL2: ) | AM2: 年 | AN2: 4 | AP2: 月 | AW2: 事業所名（ | AX2: ○○○○ | BN2: ）
BH3: (1) | BI3: ４週
BH4: (2) | BI4: 予定
AS6: (3) 事業所における常勤の従業者が勤務すべき時間数 | BE6: 40 | BG6: 時間/週 | BI6: 160 | BK6: 時間/月
BF8: 当月の日数 | BI8: =DAY(EOMONTH(DATE(AJ2,AN2,1),0)) -> 30 | BK8: 日
AU10: (4) 入所者数（利用者数） | BG10: （前年度の平均値または推定数） | BI10: 36 | BK10: 人
B12: No | C12: (5) ユニットリーダー | D12: (6) ユニット名 | G12: (7) 職種 | M12: (8) 勤務 形態 | O12: (9) 資格 | S12: (10) 氏 名 | AA12: (11) | BF12: =IF(BI3="４週","(12)1～4週目の勤務時間数合計","(12)1か月の勤務時間数 合計") -> (12)1～4週目の勤務時間数合計 | BH12: (13) 週平均 勤務時間数 | BJ12: (14) 兼務状況 （兼務先/兼務する職務の内容）等
AA13: 1週目 | AH13: 2週目 | AO13: 3週目 | AV13: 4週目 | BC13: 5週目
AA14: 1 | AB14: 2 | AC14: 3 | AD14: 4 | AE14: 5 | AF14: 6 | AG14: 7 | AH14: 8 | AI14: 9 | AJ14: 10 | AK14: 11 | AL14: 12 | AM14: 13 | AN14: 14 | AO14: 15 | AP14: 16 | AQ14: 17 | AR14: 18 | AS14: 19 | AT14: 20 | AU14: 21 | AV14: 22 | AW14: 23 | AX14: 24 | AY14: 25 | AZ14: 26 | BA14: 27 | BB14: 28 | BC14: =IF($BI$3="実績",IF(DAY(DATE($AJ$2,$AN$2,29))=29,29,""),"") | BD14: =IF($BI$3="実績",IF(DAY(DATE($AJ$2,$AN$2,30))=30,30,""),"") | BE14: =IF($BI$3="実績",IF(DAY(DATE($AJ$2,$AN$2,31))=31,31,""),"")
AA15: =WEEKDAY(DATE($AJ$2,$AN$2,1)) -> 2 | AB15: =WEEKDAY(DATE($AJ$2,$AN$2,2)) -> 3 | AC15: =WEEKDAY(DATE($AJ$2,$AN$2,3)) -> 4 | AD15: =WEEKDAY(DATE($AJ$2,$AN$2,4)) -> 5 | AE15: =WEEKDAY(DATE($AJ$2,$AN$2,5)) -> 6 | AF15: =WEEKDAY(DATE($AJ$2,$AN$2,6)) -> 7 | AG15: =WEEKDAY(DATE($AJ$2,$AN$2,7)) -> 1 | AH15: =WEEKDAY(DATE($AJ$2,$AN$2,8)) -> 2 | AI15: =WEEKDAY(DATE($AJ$2,$AN$2,9)) -> 3 | AJ15: =WEEKDAY(DATE($AJ$2,$AN$2,10)) -> 4 | AK15: =WEEKDAY(DATE($AJ$2,$AN$2,11)) -> 5 | AL15: =WEEKDAY(DATE($AJ$2,$AN$2,12)) -> 6 | AM15: =WEEKDAY(DATE($AJ$2,$AN$2,13)) -> 7 | AN15: =WEEKDAY(DATE($AJ$2,$AN$2,14)) -> 1 | AO15: =WEEKDAY(DATE($AJ$2,$AN$2,15)) -> 2 | AP15: =WEEKDAY(DATE($AJ$2,$AN$2,16)) -> 3 | AQ15: =WEEKDAY(DATE($AJ$2,$AN$2,17)) -> 4 | AR15: =WEEKDAY(DATE($AJ$2,$AN$2,18)) -> 5 | AS15: =WEEKDAY(DATE($AJ$2,$AN$2,19)) -> 6 | AT15: =WEEKDAY(DATE($AJ$2,$AN$2,20)) -> 7 | AU15: =WEEKDAY(DATE($AJ$2,$AN$2,21)) -> 1 | AV15: =WEEKDAY(DATE($AJ$2,$AN$2,22)) -> 2 | AW15: =WEEKDAY(DATE($AJ$2,$AN$2,23)) -> 3 | AX15: =WEEKDAY(DATE($AJ$2,$AN$2,24)) -> 4 | AY15: =WEEKDAY(DATE($AJ$2,$AN$2,25)) -> 5 | AZ15: =WEEKDAY(DATE($AJ$2,$AN$2,26)) -> 6 | BA15: =WEEKDAY(DATE($AJ$2,$AN$2,27)) -> 7 | BB15: =WEEKDAY(DATE($AJ$2,$AN$2,28)) -> 1 | BC15: =IF(BC14=29,WEEKDAY(DATE($AJ$2,$AN$2,29)),0) -> 0 | BD15: =IF(BD14=30,WEEKDAY(DATE($AJ$2,$AN$2,30)),0) -> 0 | BE15: =IF(BE14=31,WEEKDAY(DATE($AJ$2,$AN$2,31)),0) -> 0
AA16: =IF(AA15=1,"日",IF(AA15=2,"月",IF(AA15=3,"火",IF(AA15=4,"水",IF(AA15=5,"木",IF(AA15=6,"金","土")))))) -> 月 | AB16: =IF(AB15=1,"日",IF(AB15=2,"月",IF(AB15=3,"火",IF(AB15=4,"水",IF(AB15=5,"木",IF(AB15=6,"金","土")))))) -> 火 | AC16: =IF(AC15=1,"日",IF(AC15=2,"月",IF(AC15=3,"火",IF(AC15=4,"水",IF(AC15=5,"木",IF(AC15=6,"金","土")))))) -> 水 | AD16: =IF(AD15=1,"日",IF(AD15=2,"月",IF(AD15=3,"火",IF(AD15=4,"水",IF(AD15=5,"木",IF(AD15=6,"金","土")))))) -> 木 | AE16: =IF(AE15=1,"日",IF(AE15=2,"月",IF(AE15=3,"火",IF(AE15=4,"水",IF(AE15=5,"木",IF(AE15=6,"金","土")))))) -> 金 | AF16: =IF(AF15=1,"日",IF(AF15=2,"月",IF(AF15=3,"火",IF(AF15=4,"水",IF(AF15=5,"木",IF(AF15=6,"金","土")))))) -> 土 | AG16: =IF(AG15=1,"日",IF(AG15=2,"月",IF(AG15=3,"火",IF(AG15=4,"水",IF(AG15=5,"木",IF(AG15=6,"金","土")))))) -> 日 | AH16: =IF(AH15=1,"日",IF(AH15=2,"月",IF(AH15=3,"火",IF(AH15=4,"水",IF(AH15=5,"木",IF(AH15=6,"金","土")))))) -> 月 | ... BB16: =IF(BB15=1,"日",IF(BB15=2,"月",IF(BB15=3,"火",IF(BB15=4,"水",IF(BB15=5,"木",IF(BB15=6,"金","土")))))) -> 日 | BC16: =IF(BC15=1,"日",IF(BC15=2,"月",IF(BC15=3,"火",IF(BC15=4,"水",IF(BC15=5,"木",IF(BC15=6,"金",IF(BC15=0,"","土"))))))) | BD16: =IF(BD15=1,"日",IF(BD15=2,"月",IF(BD15=3,"火",IF(BD15=4,"水",IF(BD15=5,"木",IF(BD15=6,"金",IF(BD15=0,"","土"))))))) | BE16: =IF(BE15=1,"日",IF(BE15=2,"月",IF(BE15=3,"火",IF(BE15=4,"水",IF(BE15=5,"木",IF(BE15=6,"金",IF(BE15=0,"","土")))))))
B17: =B15+1 -> 1 | G17: 管理者 | M17: A | O17: 社会福祉主事任用資格 | S17: 厚労 太郎 | X17: シフト記号 | AA17: b | AB17: b | AC17: b | AF17: b | AG17: b | AH17: b | AI17: b | AJ17: b | AM17: b | AN17: b | AO17: b | AP17: b | AQ17: b | AT17: b | AU17: b | AV17: b | AW17: b | AX17: b | BA17: b | BB17: b
J18: =G17 -> 管理者 | L18: =M17 -> A | X18: 勤務時間数 | AA18: =IF(AA17="","",VLOOKUP(AA17,'【記載例】シフト記号表（勤務時間帯）'!$C$6:$L$47,10,FALSE)) -> 8 | AB18: =IF(AB17="","",VLOOKUP(AB17,'【記載例】シフト記号表（勤務時間帯）'!$C$6:$L$47,10,FALSE)) -> 8 | AC18: =IF(AC17="","",VLOOKUP(AC17,'【記載例】シフト記号表（勤務時間帯）'!$C$6:$L$47,10,FALSE)) -> 8 | AD18: =IF(AD17="","",VLOOKUP(AD17,'【記載例】シフト記号表（勤務時間帯）'!$C$6:$L$47,10,FALSE)) | AE18: =IF(AE17="","",VLOOKUP(AE17,'【記載例】シフト記号表（勤務時間帯）'!$C$6:$L$47,10,FALSE)) | AF18: =IF(AF17="","",VLOOKUP(AF17,'【記載例】シフト記号表（勤務時間帯）'!$C$6:$L$47,10,FALSE)) -> 8 | AG18: =IF(AG17="","",VLOOKUP(AG17,'【記載例】シフト記号表（勤務時間帯）'!$C$6:$L$47,10,FALSE)) -> 8 | AH18: =IF(AH17="","",VLOOKUP(AH17,'【記載例】シフト記号表（勤務時間帯）'!$C$6:$L$47,10,FALSE)) -> 8 | ... BE18: =IF(BE17="","",VLOOKUP(BE17,'【記載例】シフト記号表（勤務時間帯）'!$C$6:$L$47,10,FALSE)) | BF18: =IF($BI$3="４週",SUM(AA18:BB18),IF($BI$3="暦月",SUM(AA18:BE18),"")) -> 160 | BH18: =IF($BI$3="４週",BF18/4,IF($BI$3="暦月",(BF18/($BI$8/7)),"")) -> 40
B19: =B17+1 -> 2 | G19: 医師 | M19: C | O19: 医師 | S19: ○○ A男 | X19: シフト記号 | AA19: e | AC19: e | AF19: e | AH19: e | AJ19: e | AM19: e | AO19: e | AQ19: e | AT19: e | AV19: e | AX19: e | BA19: e
J20: =G19 -> 医師 | L20: =M19 -> C | X20: 勤務時間数 | AA20: =IF(AA19="","",VLOOKUP(AA19,'【記載例】シフト記号表（勤務時間帯）'!$C$6:$L$47,10,FALSE)) -> 4 | AB20: =IF(AB19="","",VLOOKUP(AB19,'【記載例】シフト記号表（勤務時間帯）'!$C$6:$L$47,10,FALSE)) | AC20: =IF(AC19="","",VLOOKUP(AC19,'【記載例】シフト記号表（勤務時間帯）'!$C$6:$L$47,10,FALSE)) -> 4 | AD20: =IF(AD19="","",VLOOKUP(AD19,'【記載例】シフト記号表（勤務時間帯）'!$C$6:$L$47,10,FALSE)) | AE20: =IF(AE19="","",VLOOKUP(AE19,'【記載例】シフト記号表（勤務時間帯）'!$C$6:$L$47,10,FALSE)) | AF20: =IF(AF19="","",VLOOKUP(AF19,'【記載例】シフト記号表（勤務時間帯）'!$C$6:$L$47,10,FALSE)) -> 4 | AG20: =IF(AG19="","",VLOOKUP(AG19,'【記載例】シフト記号表（勤務時間帯）'!$C$6:$L$47,10,FALSE)) | AH20: =IF(AH19="","",VLOOKUP(AH19,'【記載例】シフト記号表（勤務時間帯）'!$C$6:$L$47,10,FALSE)) -> 4 | ... BE20: =IF(BE19="","",VLOOKUP(BE19,'【記載例】シフト記号表（勤務時間帯）'!$C$6:$L$47,10,FALSE)) | BF20: =IF($BI$3="４週",SUM(AA20:BB20),IF($BI$3="暦月",SUM(AA20:BE20),"")) -> 48 | BH20: =IF($BI$3="４週",BF20/4,IF($BI$3="暦月",(BF20/($BI$8/7)),"")) -> 12
B21: =B19+1 -> 3 | G21: 生活相談員 | M21: A | O21: 社会福祉主事任用資格 | S21: ○○ B子 | X21: シフト記号 | AA21: b | AB21: b | AC21: b | AF21: b | AG21: b | AH21: b | AI21: b | AJ21: b | AM21: b | AN21: b | AO21: b | AP21: b | AQ21: b | AT21: b | AU21: b | AV21: b | AW21: b | AX21: b | BA21: b | BB21: b
J22: =G21 -> 生活相談員 | L22: =M21 -> A | X22: 勤務時間数 | AA22: =IF(AA21="","",VLOOKUP(AA21,'【記載例】シフト記号表（勤務時間帯）'!$C$6:$L$47,10,FALSE)) -> 8 | AB22: =IF(AB21="","",VLOOKUP(AB21,'【記載例】シフト記号表（勤務時間帯）'!$C$6:$L$47,10,FALSE)) -> 8 | AC22: =IF(AC21="","",VLOOKUP(AC21,'【記載例】シフト記号表（勤務時間帯）'!$C$6:$L$47,10,FALSE)) -> 8 | AD22: =IF(AD21="","",VLOOKUP(AD21,'【記載例】シフト記号表（勤務時間帯）'!$C$6:$L$47,10,FALSE)) | AE22: =IF(AE21="","",VLOOKUP(AE21,'【記載例】シフト記号表（勤務時間帯）'!$C$6:$L$47,10,FALSE)) | AF22: =IF(AF21="","",VLOOKUP(AF21,'【記載例】シフト記号表（勤務時間帯）'!$C$6:$L$47,10,FALSE)) -> 8 | AG22: =IF(AG21="","",VLOOKUP(AG21,'【記載例】シフト記号表（勤務時間帯）'!$C$6:$L$47,10,FALSE)) -> 8 | AH22: =IF(AH21="","",VLOOKUP(AH21,'【記載例】シフト記号表（勤務時間帯）'!$C$6:$L$47,10,FALSE)) -> 8 | ... BE22: =IF(BE21="","",VLOOKUP(BE21,'【記載例】シフト記号表（勤務時間帯）'!$C$6:$L$47,10,FALSE)) | BF22: =IF($BI$3="４週",SUM(AA22:BB22),IF($BI$3="暦月",SUM(AA22:BE22),"")) -> 160 | BH22: =IF($BI$3="４週",BF22/4,IF($BI$3="暦月",(BF22/($BI$8/7)),"")) -> 40
B23: =B21+1 -> 4 | G23: 機能訓練指導員 | M23: B | O23: 看護師 | S23: ○○ C太 | X23: シフト記号 | AA23: f | AB23: f | AC23: f | AF23: f | AG23: f | AH23: f | AI23: f | AJ23: f | AM23: f | AN23: f | AO23: f | AP23: f | AQ23: f | AT23: f | AU23: f | AV23: f | AW23: f | AX23: f | BA23: f | BB23: f | BJ23: 看護職員を兼務
J24: =G23 -> 機能訓練指導員 | L24: =M23 -> B | X24: 勤務時間数 | AA24: =IF(AA23="","",VLOOKUP(AA23,'【記載例】シフト記号表（勤務時間帯）'!$C$6:$L$47,10,FALSE)) -> 4 | AB24: =IF(AB23="","",VLOOKUP(AB23,'【記載例】シフト記号表（勤務時間帯）'!$C$6:$L$47,10,FALSE)) -> 4 | AC24: =IF(AC23="","",VLOOKUP(AC23,'【記載例】シフト記号表（勤務時間帯）'!$C$6:$L$47,10,FALSE)) -> 4 | AD24: =IF(AD23="","",VLOOKUP(AD23,'【記載例】シフト記号表（勤務時間帯）'!$C$6:$L$47,10,FALSE)) | AE24: =IF(AE23="","",VLOOKUP(AE23,'【記載例】シフト記号表（勤務時間帯）'!$C$6:$L$47,10,FALSE)) | AF24: =IF(AF23="","",VLOOKUP(AF23,'【記載例】シフト記号表（勤務時間帯）'!$C$6:$L$47,10,FALSE)) -> 4 | AG24: =IF(AG23="","",VLOOKUP(AG23,'【記載例】シフト記号表（勤務時間帯）'!$C$6:$L$47,10,FALSE)) -> 4 | AH24: =IF(AH23="","",VLOOKUP(AH23,'【記載例】シフト記号表（勤務時間帯）'!$C$6:$L$47,10,FALSE)) -> 4 | ... BE24: =IF(BE23="","",VLOOKUP(BE23,'【記載例】シフト記号表（勤務時間帯）'!$C$6:$L$47,10,FALSE)) | BF24: =IF($BI$3="４週",SUM(AA24:BB24),IF($BI$3="暦月",SUM(AA24:BE24),"")) -> 80 | BH24: =IF($BI$3="４週",BF24/4,IF($BI$3="暦月",(BF24/($BI$8/7)),"")) -> 20
B25: =B23+1 -> 5 | G25: 栄養士 | M25: C | O25: 管理栄養士 | S25: ○○ D美 | X25: シフト記号 | AA25: e | AB25: e | AC25: e | AF25: e | AG25: e | AH25: e | AI25: e | AJ25: e | AM25: e | AN25: e | AO25: e | AP25: e | AQ25: e | AT25: e | AU25: e | AV25: e | AW25: e | AX25: e | BA25: e | BB25: e
J26: =G25 -> 栄養士 | L26: =M25 -> C | X26: 勤務時間数 | AA26: =IF(AA25="","",VLOOKUP(AA25,'【記載例】シフト記号表（勤務時間帯）'!$C$6:$L$47,10,FALSE)) -> 4 | AB26: =IF(AB25="","",VLOOKUP(AB25,'【記載例】シフト記号表（勤務時間帯）'!$C$6:$L$47,10,FALSE)) -> 4 | AC26: =IF(AC25="","",VLOOKUP(AC25,'【記載例】シフト記号表（勤務時間帯）'!$C$6:$L$47,10,FALSE)) -> 4 | AD26: =IF(AD25="","",VLOOKUP(AD25,'【記載例】シフト記号表（勤務時間帯）'!$C$6:$L$47,10,FALSE)) | AE26: =IF(AE25="","",VLOOKUP(AE25,'【記載例】シフト記号表（勤務時間帯）'!$C$6:$L$47,10,FALSE)) | AF26: =IF(AF25="","",VLOOKUP(AF25,'【記載例】シフト記号表（勤務時間帯）'!$C$6:$L$47,10,FALSE)) -> 4 | AG26: =IF(AG25="","",VLOOKUP(AG25,'【記載例】シフト記号表（勤務時間帯）'!$C$6:$L$47,10,FALSE)) -> 4 | AH26: =IF(AH25="","",VLOOKUP(AH25,'【記載例】シフト記号表（勤務時間帯）'!$C$6:$L$47,10,FALSE)) -> 4 | ... BE26: =IF(BE25="","",VLOOKUP(BE25,'【記載例】シフト記号表（勤務時間帯）'!$C$6:$L$47,10,FALSE)) | BF26: =IF($BI$3="４週",SUM(AA26:BB26),IF($BI$3="暦月",SUM(AA26:BE26),"")) -> 80 | BH26: =IF($BI$3="４週",BF26/4,IF($BI$3="暦月",(BF26/($BI$8/7)),"")) -> 20
B27: =B25+1 -> 6 | G27: 介護支援専門員 | M27: A | O27: 介護支援専門員 | S27: ○○ D太 | X27: シフト記号 | AA27: b | AB27: b | AC27: a | AD27: a | AF27: d | AI27: b | AJ27: b | AK27: a | AL27: a | AN27: d | AO27: d | AQ27: b | AR27: b | AS27: a | AT27: a | AV27: d | AY27: b | AZ27: b | BA27: a | BB27: a
J28: =G27 -> 介護支援専門員 | L28: =M27 -> A | X28: 勤務時間数 | AA28: =IF(AA27="","",VLOOKUP(AA27,'【記載例】シフト記号表（勤務時間帯）'!$C$6:$L$47,10,FALSE)) -> 8 | AB28: =IF(AB27="","",VLOOKUP(AB27,'【記載例】シフト記号表（勤務時間帯）'!$C$6:$L$47,10,FALSE)) -> 8 | AC28: =IF(AC27="","",VLOOKUP(AC27,'【記載例】シフト記号表（勤務時間帯）'!$C$6:$L$47,10,FALSE)) -> 8 | AD28: =IF(AD27="","",VLOOKUP(AD27,'【記載例】シフト記号表（勤務時間帯）'!$C$6:$L$47,10,FALSE)) -> 8 | AE28: =IF(AE27="","",VLOOKUP(AE27,'【記載例】シフト記号表（勤務時間帯）'!$C$6:$L$47,10,FALSE)) | AF28: =IF(AF27="","",VLOOKUP(AF27,'【記載例】シフト記号表（勤務時間帯）'!$C$6:$L$47,10,FALSE)) -> 8 | AG28: =IF(AG27="","",VLOOKUP(AG27,'【記載例】シフト記号表（勤務時間帯）'!$C$6:$L$47,10,FALSE)) | AH28: =IF(AH27="","",VLOOKUP(AH27,'【記載例】シフト記号表（勤務時間帯）'!$C$6:$L$47,10,FALSE)) | ... BE28: =IF(BE27="","",VLOOKUP(BE27,'【記載例】シフト記号表（勤務時間帯）'!$C$6:$L$47,10,FALSE)) | BF28: =IF($BI$3="４週",SUM(AA28:BB28),IF($BI$3="暦月",SUM(AA28:BE28),"")) -> 160 | BH28: =IF($BI$3="４週",BF28/4,IF($BI$3="暦月",(BF28/($BI$8/7)),"")) -> 40
B29: =B27+1 -> 7 | G29: 看護職員 | M29: B | O29: 看護師 | S29: ○○ C太 | X29: シフト記号 | AA29: e | AB29: e | AC29: e | AF29: e | AG29: e | AH29: e | AI29: e | AJ29: e | AM29: e | AN29: e | AO29: e | AP29: e | AQ29: e | AT29: e | AU29: e | AV29: e | AW29: e | AX29: e | BA29: e | BB29: e | BJ29: 機能訓練指導員を兼務
J30: =G29 -> 看護職員 | L30: =M29 -> B | X30: 勤務時間数 | AA30: =IF(AA29="","",VLOOKUP(AA29,'【記載例】シフト記号表（勤務時間帯）'!$C$6:$L$47,10,FALSE)) -> 4 | AB30: =IF(AB29="","",VLOOKUP(AB29,'【記載例】シフト記号表（勤務時間帯）'!$C$6:$L$47,10,FALSE)) -> 4 | AC30: =IF(AC29="","",VLOOKUP(AC29,'【記載例】シフト記号表（勤務時間帯）'!$C$6:$L$47,10,FALSE)) -> 4 | AD30: =IF(AD29="","",VLOOKUP(AD29,'【記載例】シフト記号表（勤務時間帯）'!$C$6:$L$47,10,FALSE)) | AE30: =IF(AE29="","",VLOOKUP(AE29,'【記載例】シフト記号表（勤務時間帯）'!$C$6:$L$47,10,FALSE)) | AF30: =IF(AF29="","",VLOOKUP(AF29,'【記載例】シフト記号表（勤務時間帯）'!$C$6:$L$47,10,FALSE)) -> 4 | AG30: =IF(AG29="","",VLOOKUP(AG29,'【記載例】シフト記号表（勤務時間帯）'!$C$6:$L$47,10,FALSE)) -> 4 | AH30: =IF(AH29="","",VLOOKUP(AH29,'【記載例】シフト記号表（勤務時間帯）'!$C$6:$L$47,10,FALSE)) -> 4 | ... BE30: =IF(BE29="","",VLOOKUP(BE29,'【記載例】シフト記号表（勤務時間帯）'!$C$6:$L$47,10,FALSE)) | BF30: =IF($BI$3="４週",SUM(AA30:BB30),IF($BI$3="暦月",SUM(AA30:BE30),"")) -> 80 | BH30: =IF($BI$3="４週",BF30/4,IF($BI$3="暦月",(BF30/($BI$8/7)),"")) -> 20
B31: =B29+1 -> 8 | G31: 看護職員 | M31: A | O31: 看護師 | S31: ○○ E夫 | X31: シフト記号 | AC31: b | AD31: b | AE31: b | AF31: b | AG31: b | AJ31: b | AK31: b | AL31: b | AM31: b | AN31: b | AQ31: b | AR31: b | AS31: b | AT31: b | AU31: b | AX31: b | AY31: b | AZ31: b | BA31: b | BB31: b
J32: =G31 -> 看護職員 | L32: =M31 -> A | X32: 勤務時間数 | AA32: =IF(AA31="","",VLOOKUP(AA31,'【記載例】シフト記号表（勤務時間帯）'!$C$6:$L$47,10,FALSE)) | AB32: =IF(AB31="","",VLOOKUP(AB31,'【記載例】シフト記号表（勤務時間帯）'!$C$6:$L$47,10,FALSE)) | AC32: =IF(AC31="","",VLOOKUP(AC31,'【記載例】シフト記号表（勤務時間帯）'!$C$6:$L$47,10,FALSE)) -> 8 | AD32: =IF(AD31="","",VLOOKUP(AD31,'【記載例】シフト記号表（勤務時間帯）'!$C$6:$L$47,10,FALSE)) -> 8 | AE32: =IF(AE31="","",VLOOKUP(AE31,'【記載例】シフト記号表（勤務時間帯）'!$C$6:$L$47,10,FALSE)) -> 8 | AF32: =IF(AF31="","",VLOOKUP(AF31,'【記載例】シフト記号表（勤務時間帯）'!$C$6:$L$47,10,FALSE)) -> 8 | AG32: =IF(AG31="","",VLOOKUP(AG31,'【記載例】シフト記号表（勤務時間帯）'!$C$6:$L$47,10,FALSE)) -> 8 | AH32: =IF(AH31="","",VLOOKUP(AH31,'【記載例】シフト記号表（勤務時間帯）'!$C$6:$L$47,10,FALSE)) | ... BE32: =IF(BE31="","",VLOOKUP(BE31,'【記載例】シフト記号表（勤務時間帯）'!$C$6:$L$47,10,FALSE)) | BF32: =IF($BI$3="４週",SUM(AA32:BB32),IF($BI$3="暦月",SUM(AA32:BE32),"")) -> 160 | BH32: =IF($BI$3="４週",BF32/4,IF($BI$3="暦月",(BF32/($BI$8/7)),"")) -> 40
B33: =B31+1 -> 9 | G33: 看護職員 | M33: A | O33: 看護師 | S33: ○○ F子 | X33: シフト記号 | AA33: b | AB33: b | AC33: b | AF33: b | AG33: b | AH33: b | AI33: b | AJ33: b | AM33: b | AN33: b | AO33: b | AP33: b | AQ33: b | AT33: b | AU33: b | AV33: b | AW33: b | AX33: b | BA33: b | BB33: b
J34: =G33 -> 看護職員 | L34: =M33 -> A | X34: 勤務時間数 | AA34: =IF(AA33="","",VLOOKUP(AA33,'【記載例】シフト記号表（勤務時間帯）'!$C$6:$L$47,10,FALSE)) -> 8 | AB34: =IF(AB33="","",VLOOKUP(AB33,'【記載例】シフト記号表（勤務時間帯）'!$C$6:$L$47,10,FALSE)) -> 8 | AC34: =IF(AC33="","",VLOOKUP(AC33,'【記載例】シフト記号表（勤務時間帯）'!$C$6:$L$47,10,FALSE)) -> 8 | AD34: =IF(AD33="","",VLOOKUP(AD33,'【記載例】シフト記号表（勤務時間帯）'!$C$6:$L$47,10,FALSE)) | AE34: =IF(AE33="","",VLOOKUP(AE33,'【記載例】シフト記号表（勤務時間帯）'!$C$6:$L$47,10,FALSE)) | AF34: =IF(AF33="","",VLOOKUP(AF33,'【記載例】シフト記号表（勤務時間帯）'!$C$6:$L$47,10,FALSE)) -> 8 | AG34: =IF(AG33="","",VLOOKUP(AG33,'【記載例】シフト記号表（勤務時間帯）'!$C$6:$L$47,10,FALSE)) -> 8 | AH34: =IF(AH33="","",VLOOKUP(AH33,'【記載例】シフト記号表（勤務時間帯）'!$C$6:$L$47,10,FALSE)) -> 8 | ... BE34: =IF(BE33="","",VLOOKUP(BE33,'【記載例】シフト記号表（勤務時間帯）'!$C$6:$L$47,10,FALSE)) | BF34: =IF($BI$3="４週",SUM(AA34:BB34),IF($BI$3="暦月",SUM(AA34:BE34),"")) -> 160 | BH34: =IF($BI$3="４週",BF34/4,IF($BI$3="暦月",(BF34/($BI$8/7)),"")) -> 40
B35: =B33+1 -> 10 | C35: ◎ | D35: ユニット１ | G35: 介護職員 | M35: A | O35: 介護福祉士 | S35: ○○ G太 | X35: シフト記号 | AA35: h | AB35: i | AC35: a | AD35: a | AF35: d | AI35: h | AJ35: i | AK35: a | AL35: a | AN35: d | AO35: d | AQ35: h | AR35: i | AS35: a | AT35: a | AV35: d | AY35: h | AZ35: i | BA35: a | BB35: a
J36: =G35 -> 介護職員 | L36: =M35 -> A | X36: 勤務時間数 | AA36: =IF(AA35="","",VLOOKUP(AA35,'【記載例】シフト記号表（勤務時間帯）'!$C$6:$L$47,10,FALSE)) -> 8 | AB36: =IF(AB35="","",VLOOKUP(AB35,'【記載例】シフト記号表（勤務時間帯）'!$C$6:$L$47,10,FALSE)) -> 8 | AC36: =IF(AC35="","",VLOOKUP(AC35,'【記載例】シフト記号表（勤務時間帯）'!$C$6:$L$47,10,FALSE)) -> 8 | AD36: =IF(AD35="","",VLOOKUP(AD35,'【記載例】シフト記号表（勤務時間帯）'!$C$6:$L$47,10,FALSE)) -> 8 | AE36: =IF(AE35="","",VLOOKUP(AE35,'【記載例】シフト記号表（勤務時間帯）'!$C$6:$L$47,10,FALSE)) | AF36: =IF(AF35="","",VLOOKUP(AF35,'【記載例】シフト記号表（勤務時間帯）'!$C$6:$L$47,10,FALSE)) -> 8 | AG36: =IF(AG35="","",VLOOKUP(AG35,'【記載例】シフト記号表（勤務時間帯）'!$C$6:$L$47,10,FALSE)) | AH36: =IF(AH35="","",VLOOKUP(AH35,'【記載例】シフト記号表（勤務時間帯）'!$C$6:$L$47,10,FALSE)) | ... BE36: =IF(BE35="","",VLOOKUP(BE35,'【記載例】シフト記号表（勤務時間帯）'!$C$6:$L$47,10,FALSE)) | BF36: =IF($BI$3="４週",SUM(AA36:BB36),IF($BI$3="暦月",SUM(AA36:BE36),"")) -> 160 | BH36: =IF($BI$3="４週",BF36/4,IF($BI$3="暦月",(BF36/($BI$8/7)),"")) -> 40
B37: =B35+1 -> 11 | D37: ユニット１ | G37: 介護職員 | M37: A | O37: ー | S37: ○○ H美 | X37: シフト記号 | AB37: h | AC37: i | AD37: d | AE37: a | AG37: d | AH37: d | AJ37: h | AK37: i | AL37: d | AM37: a | AO37: d | AP37: a | AR37: h | AS37: i | AT37: d | AW37: d | AX37: a | AZ37: h | BA37: i | BB37: d
J38: =G37 -> 介護職員 | L38: =M37 -> A | X38: 勤務時間数 | AA38: =IF(AA37="","",VLOOKUP(AA37,'【記載例】シフト記号表（勤務時間帯）'!$C$6:$L$47,10,FALSE)) | AB38: =IF(AB37="","",VLOOKUP(AB37,'【記載例】シフト記号表（勤務時間帯）'!$C$6:$L$47,10,FALSE)) -> 8 | AC38: =IF(AC37="","",VLOOKUP(AC37,'【記載例】シフト記号表（勤務時間帯）'!$C$6:$L$47,10,FALSE)) -> 8 | AD38: =IF(AD37="","",VLOOKUP(AD37,'【記載例】シフト記号表（勤務時間帯）'!$C$6:$L$47,10,FALSE)) -> 8 | AE38: =IF(AE37="","",VLOOKUP(AE37,'【記載例】シフト記号表（勤務時間帯）'!$C$6:$L$47,10,FALSE)) -> 8 | AF38: =IF(AF37="","",VLOOKUP(AF37,'【記載例】シフト記号表（勤務時間帯）'!$C$6:$L$47,10,FALSE)) | AG38: =IF(AG37="","",VLOOKUP(AG37,'【記載例】シフト記号表（勤務時間帯）'!$C$6:$L$47,10,FALSE)) -> 8 | AH38: =IF(AH37="","",VLOOKUP(AH37,'【記載例】シフト記号表（勤務時間帯）'!$C$6:$L$47,10,FALSE)) -> 8 | ... BE38: =IF(BE37="","",VLOOKUP(BE37,'【記載例】シフト記号表（勤務時間帯）'!$C$6:$L$47,10,FALSE)) | BF38: =IF($BI$3="４週",SUM(AA38:BB38),IF($BI$3="暦月",SUM(AA38:BE38),"")) -> 160 | BH38: =IF($BI$3="４週",BF38/4,IF($BI$3="暦月",(BF38/($BI$8/7)),"")) -> 40
B39: =B37+1 -> 12 | D39: ユニット１ | G39: 介護職員 | M39: A | O39: ー | S39: ○○ J太郎 | X39: シフト記号 | AA39: d | AC39: h | AD39: i | AE39: d | AF39: a | AH39: a | AI39: d | AK39: h | AL39: i | AM39: d | AO39: a | AP39: d | AS39: h | AT39: i | AU39: a | AV39: a | AX39: d | AY39: a | BA39: h | BB39: i
J40: =G39 -> 介護職員 | L40: =M39 -> A | X40: 勤務時間数 | AA40: =IF(AA39="","",VLOOKUP(AA39,'【記載例】シフト記号表（勤務時間帯）'!$C$6:$L$47,10,FALSE)) -> 8 | AB40: =IF(AB39="","",VLOOKUP(AB39,'【記載例】シフト記号表（勤務時間帯）'!$C$6:$L$47,10,FALSE)) | AC40: =IF(AC39="","",VLOOKUP(AC39,'【記載例】シフト記号表（勤務時間帯）'!$C$6:$L$47,10,FALSE)) -> 8 | AD40: =IF(AD39="","",VLOOKUP(AD39,'【記載例】シフト記号表（勤務時間帯）'!$C$6:$L$47,10,FALSE)) -> 8 | AE40: =IF(AE39="","",VLOOKUP(AE39,'【記載例】シフト記号表（勤務時間帯）'!$C$6:$L$47,10,FALSE)) -> 8 | AF40: =IF(AF39="","",VLOOKUP(AF39,'【記載例】シフト記号表（勤務時間帯）'!$C$6:$L$47,10,FALSE)) -> 8 | AG40: =IF(AG39="","",VLOOKUP(AG39,'【記載例】シフト記号表（勤務時間帯）'!$C$6:$L$47,10,FALSE)) | AH40: =IF(AH39="","",VLOOKUP(AH39,'【記載例】シフト記号表（勤務時間帯）'!$C$6:$L$47,10,FALSE)) -> 8 | ... BE40: =IF(BE39="","",VLOOKUP(BE39,'【記載例】シフト記号表（勤務時間帯）'!$C$6:$L$47,10,FALSE)) | BF40: =IF($BI$3="４週",SUM(AA40:BB40),IF($BI$3="暦月",SUM(AA40:BE40),"")) -> 160 | BH40: =IF($BI$3="４週",BF40/4,IF($BI$3="暦月",(BF40/($BI$8/7)),"")) -> 40
B41: =B39+1 -> 13 | D41: ユニット１ | G41: 介護職員 | M41: A | O41: ー | S41: ○○ K子 | X41: シフト記号 | AA41: a | AB41: d | AD41: h | AE41: i | AG41: a | AH41: d | AI41: d | AJ41: a | AL41: h | AM41: i | AO41: d | AQ41: d | AR41: d | AT41: h | AU41: i | AV41: d | AW41: a | AY41: d | AZ41: d | BB41: h
J42: =G41 -> 介護職員 | L42: =M41 -> A | X42: 勤務時間数 | AA42: =IF(AA41="","",VLOOKUP(AA41,'【記載例】シフト記号表（勤務時間帯）'!$C$6:$L$47,10,FALSE)) -> 8 | AB42: =IF(AB41="","",VLOOKUP(AB41,'【記載例】シフト記号表（勤務時間帯）'!$C$6:$L$47,10,FALSE)) -> 8 | AC42: =IF(AC41="","",VLOOKUP(AC41,'【記載例】シフト記号表（勤務時間帯）'!$C$6:$L$47,10,FALSE)) | AD42: =IF(AD41="","",VLOOKUP(AD41,'【記載例】シフト記号表（勤務時間帯）'!$C$6:$L$47,10,FALSE)) -> 8 | AE42: =IF(AE41="","",VLOOKUP(AE41,'【記載例】シフト記号表（勤務時間帯）'!$C$6:$L$47,10,FALSE)) -> 8 | AF42: =IF(AF41="","",VLOOKUP(AF41,'【記載例】シフト記号表（勤務時間帯）'!$C$6:$L$47,10,FALSE)) | AG42: =IF(AG41="","",VLOOKUP(AG41,'【記載例】シフト記号表（勤務時間帯）'!$C$6:$L$47,10,FALSE)) -> 8 | AH42: =IF(AH41="","",VLOOKUP(AH41,'【記載例】シフト記号表（勤務時間帯）'!$C$6:$L$47,10,FALSE)) -> 8 | ... BE42: =IF(BE41="","",VLOOKUP(BE41,'【記載例】シフト記号表（勤務時間帯）'!$C$6:$L$47,10,FALSE)) | BF42: =IF($BI$3="４週",SUM(AA42:BB42),IF($BI$3="暦月",SUM(AA42:BE42),"")) -> 160 | BH42: =IF($BI$3="４週",BF42/4,IF($BI$3="暦月",(BF42/($BI$8/7)),"")) -> 40
B43: =B41+1 -> 14 | D43: ユニット１ | G43: 介護職員 | M43: C | O43: ー | S43: ○○ L太 | X43: シフト記号 | AB43: a | AC43: d | AE43: d | AF43: d | AI43: a | AJ43: d | AK43: d | AN43: a | AQ43: a | AR43: a | AS43: d | AU43: d | AW43: d | AX43: d | AZ43: d | BA43: a
J44: =G43 -> 介護職員 | L44: =M43 -> C | X44: 勤務時間数 | AA44: =IF(AA43="","",VLOOKUP(AA43,'【記載例】シフト記号表（勤務時間帯）'!$C$6:$L$47,10,FALSE)) | AB44: =IF(AB43="","",VLOOKUP(AB43,'【記載例】シフト記号表（勤務時間帯）'!$C$6:$L$47,10,FALSE)) -> 8 | AC44: =IF(AC43="","",VLOOKUP(AC43,'【記載例】シフト記号表（勤務時間帯）'!$C$6:$L$47,10,FALSE)) -> 8 | AD44: =IF(AD43="","",VLOOKUP(AD43,'【記載例】シフト記号表（勤務時間帯）'!$C$6:$L$47,10,FALSE)) | AE44: =IF(AE43="","",VLOOKUP(AE43,'【記載例】シフト記号表（勤務時間帯）'!$C$6:$L$47,10,FALSE)) -> 8 | AF44: =IF(AF43="","",VLOOKUP(AF43,'【記載例】シフト記号表（勤務時間帯）'!$C$6:$L$47,10,FALSE)) -> 8 | AG44: =IF(AG43="","",VLOOKUP(AG43,'【記載例】シフト記号表（勤務時間帯）'!$C$6:$L$47,10,FALSE)) | AH44: =IF(AH43="","",VLOOKUP(AH43,'【記載例】シフト記号表（勤務時間帯）'!$C$6:$L$47,10,FALSE)) | ... BE44: =IF(BE43="","",VLOOKUP(BE43,'【記載例】シフト記号表（勤務時間帯）'!$C$6:$L$47,10,FALSE)) | BF44: =IF($BI$3="４週",SUM(AA44:BB44),IF($BI$3="暦月",SUM(AA44:BE44),"")) -> 128 | BH44: =IF($BI$3="４週",BF44/4,IF($BI$3="暦月",(BF44/($BI$8/7)),"")) -> 32
B45: =B43+1 -> 15 | C45: ○ | D45: ユニット２ | G45: 介護職員 | M45: A | O45: 介護福祉士 | S45: ○○ M子 | X45: シフト記号 | AA45: d | AB45: d | AE45: h | AF45: i | AG45: a | AH45: a | AJ45: d | AK45: d | AM45: h | AN45: i | AO45: a | AP45: a | AR45: d | AU45: h | AV45: i | AW45: a | AX45: a | AZ45: a | BA45: d | BB45: d
J46: =G45 -> 介護職員 | L46: =M45 -> A | X46: 勤務時間数 | AA46: =IF(AA45="","",VLOOKUP(AA45,'【記載例】シフト記号表（勤務時間帯）'!$C$6:$L$47,10,FALSE)) -> 8 | AB46: =IF(AB45="","",VLOOKUP(AB45,'【記載例】シフト記号表（勤務時間帯）'!$C$6:$L$47,10,FALSE)) -> 8 | AC46: =IF(AC45="","",VLOOKUP(AC45,'【記載例】シフト記号表（勤務時間帯）'!$C$6:$L$47,10,FALSE)) | AD46: =IF(AD45="","",VLOOKUP(AD45,'【記載例】シフト記号表（勤務時間帯）'!$C$6:$L$47,10,FALSE)) | AE46: =IF(AE45="","",VLOOKUP(AE45,'【記載例】シフト記号表（勤務時間帯）'!$C$6:$L$47,10,FALSE)) -> 8 | AF46: =IF(AF45="","",VLOOKUP(AF45,'【記載例】シフト記号表（勤務時間帯）'!$C$6:$L$47,10,FALSE)) -> 8 | AG46: =IF(AG45="","",VLOOKUP(AG45,'【記載例】シフト記号表（勤務時間帯）'!$C$6:$L$47,10,FALSE)) -> 8 | AH46: =IF(AH45="","",VLOOKUP(AH45,'【記載例】シフト記号表（勤務時間帯）'!$C$6:$L$47,10,FALSE)) -> 8 | ... BE46: =IF(BE45="","",VLOOKUP(BE45,'【記載例】シフト記号表（勤務時間帯）'!$C$6:$L$47,10,FALSE)) | BF46: =IF($BI$3="４週",SUM(AA46:BB46),IF($BI$3="暦月",SUM(AA46:BE46),"")) -> 160 | BH46: =IF($BI$3="４週",BF46/4,IF($BI$3="暦月",(BF46/($BI$8/7)),"")) -> 40
B47: =B45+1 -> 16 | D47: ユニット２ | G47: 介護職員 | M47: A | O47: ー | S47: ○○ N男 | X47: シフト記号 | AB47: a | AC47: d | AD47: d | AF47: h | AG47: i | AH47: d | AJ47: d | AK47: d | AN47: h | AO47: i | AP47: d | AQ47: d | AR47: d | AS47: a | AT47: a | AV47: h | AW47: i | AX47: a | AY47: d | BB47: a
J48: =G47 -> 介護職員 | L48: =M47 -> A | X48: 勤務時間数 | AA48: =IF(AA47="","",VLOOKUP(AA47,'【記載例】シフト記号表（勤務時間帯）'!$C$6:$L$47,10,FALSE)) | AB48: =IF(AB47="","",VLOOKUP(AB47,'【記載例】シフト記号表（勤務時間帯）'!$C$6:$L$47,10,FALSE)) -> 8 | AC48: =IF(AC47="","",VLOOKUP(AC47,'【記載例】シフト記号表（勤務時間帯）'!$C$6:$L$47,10,FALSE)) -> 8 | AD48: =IF(AD47="","",VLOOKUP(AD47,'【記載例】シフト記号表（勤務時間帯）'!$C$6:$L$47,10,FALSE)) -> 8 | AE48: =IF(AE47="","",VLOOKUP(AE47,'【記載例】シフト記号表（勤務時間帯）'!$C$6:$L$47,10,FALSE)) | AF48: =IF(AF47="","",VLOOKUP(AF47,'【記載例】シフト記号表（勤務時間帯）'!$C$6:$L$47,10,FALSE)) -> 8 | AG48: =IF(AG47="","",VLOOKUP(AG47,'【記載例】シフト記号表（勤務時間帯）'!$C$6:$L$47,10,FALSE)) -> 8 | AH48: =IF(AH47="","",VLOOKUP(AH47,'【記載例】シフト記号表（勤務時間帯）'!$C$6:$L$47,10,FALSE)) -> 8 | ... BE48: =IF(BE47="","",VLOOKUP(BE47,'【記載例】シフト記号表（勤務時間帯）'!$C$6:$L$47,10,FALSE)) | BF48: =IF($BI$3="４週",SUM(AA48:BB48),IF($BI$3="暦月",SUM(AA48:BE48),"")) -> 160 | BH48: =IF($BI$3="４週",BF48/4,IF($BI$3="暦月",(BF48/($BI$8/7)),"")) -> 40
B49: =B47+1 -> 17 | D49: ユニット２ | G49: 介護職員 | M49: A | O49: ー | S49: ○○ P子 | X49: シフト記号 | AA49: a | AC49: a | AE49: d | AG49: h | AH49: i | AI49: d | AJ49: d | AK49: a | AL49: a | AN49: d | AO49: h | AP49: i | AQ49: a | AS49: d | AT49: d | AW49: h | AX49: i | AY49: a | AZ49: d | BA49: d
J50: =G49 -> 介護職員 | L50: =M49 -> A | X50: 勤務時間数 | AA50: =IF(AA49="","",VLOOKUP(AA49,'【記載例】シフト記号表（勤務時間帯）'!$C$6:$L$47,10,FALSE)) -> 8 | AB50: =IF(AB49="","",VLOOKUP(AB49,'【記載例】シフト記号表（勤務時間帯）'!$C$6:$L$47,10,FALSE)) | AC50: =IF(AC49="","",VLOOKUP(AC49,'【記載例】シフト記号表（勤務時間帯）'!$C$6:$L$47,10,FALSE)) -> 8 | AD50: =IF(AD49="","",VLOOKUP(AD49,'【記載例】シフト記号表（勤務時間帯）'!$C$6:$L$47,10,FALSE)) | AE50: =IF(AE49="","",VLOOKUP(AE49,'【記載例】シフト記号表（勤務時間帯）'!$C$6:$L$47,10,FALSE)) -> 8 | AF50: =IF(AF49="","",VLOOKUP(AF49,'【記載例】シフト記号表（勤務時間帯）'!$C$6:$L$47,10,FALSE)) | AG50: =IF(AG49="","",VLOOKUP(AG49,'【記載例】シフト記号表（勤務時間帯）'!$C$6:$L$47,10,FALSE)) -> 8 | AH50: =IF(AH49="","",VLOOKUP(AH49,'【記載例】シフト記号表（勤務時間帯）'!$C$6:$L$47,10,FALSE)) -> 8 | ... BE50: =IF(BE49="","",VLOOKUP(BE49,'【記載例】シフト記号表（勤務時間帯）'!$C$6:$L$47,10,FALSE)) | BF50: =IF($BI$3="４週",SUM(AA50:BB50),IF($BI$3="暦月",SUM(AA50:BE50),"")) -> 160 | BH50: =IF($BI$3="４週",BF50/4,IF($BI$3="暦月",(BF50/($BI$8/7)),"")) -> 40
B51: =B49+1 -> 18 | D51: ユニット２ | G51: 介護職員 | M51: A | O51: ー | S51: ○○ R次郎 | X51: シフト記号 | AA51: i | AC51: d | AD51: a | AE51: a | AF51: a | AH51: h | AI51: i | AJ51: a | AL51: d | AM51: d | AP51: h | AQ51: i | AR51: a | AT51: d | AU51: d | AV51: d | AX51: h | AY51: i | AZ51: a | BB51: d
J52: =G51 -> 介護職員 | L52: =M51 -> A | X52: 勤務時間数 | AA52: =IF(AA51="","",VLOOKUP(AA51,'【記載例】シフト記号表（勤務時間帯）'!$C$6:$L$47,10,FALSE)) -> 8 | AB52: =IF(AB51="","",VLOOKUP(AB51,'【記載例】シフト記号表（勤務時間帯）'!$C$6:$L$47,10,FALSE)) | AC52: =IF(AC51="","",VLOOKUP(AC51,'【記載例】シフト記号表（勤務時間帯）'!$C$6:$L$47,10,FALSE)) -> 8 | AD52: =IF(AD51="","",VLOOKUP(AD51,'【記載例】シフト記号表（勤務時間帯）'!$C$6:$L$47,10,FALSE)) -> 8 | AE52: =IF(AE51="","",VLOOKUP(AE51,'【記載例】シフト記号表（勤務時間帯）'!$C$6:$L$47,10,FALSE)) -> 8 | AF52: =IF(AF51="","",VLOOKUP(AF51,'【記載例】シフト記号表（勤務時間帯）'!$C$6:$L$47,10,FALSE)) -> 8 | AG52: =IF(AG51="","",VLOOKUP(AG51,'【記載例】シフト記号表（勤務時間帯）'!$C$6:$L$47,10,FALSE)) | AH52: =IF(AH51="","",VLOOKUP(AH51,'【記載例】シフト記号表（勤務時間帯）'!$C$6:$L$47,10,FALSE)) -> 8 | ... BE52: =IF(BE51="","",VLOOKUP(BE51,'【記載例】シフト記号表（勤務時間帯）'!$C$6:$L$47,10,FALSE)) | BF52: =IF($BI$3="４週",SUM(AA52:BB52),IF($BI$3="暦月",SUM(AA52:BE52),"")) -> 160 | BH52: =IF($BI$3="４週",BF52/4,IF($BI$3="暦月",(BF52/($BI$8/7)),"")) -> 40
B53: =B51+1 -> 19 | D53: ユニット２ | G53: 介護職員 | M53: C | O53: ー | S53: ○○ S子 | X53: シフト記号 | AA53: d | AD53: d | AF53: d | AG53: d | AI53: d | AL53: d | AM53: a | AN53: a | AO53: d | AQ53: d | AS53: d | AU53: a | AV53: a | AW53: d | AY53: d | BA53: a
J54: =G53 -> 介護職員 | L54: =M53 -> C | X54: 勤務時間数 | AA54: =IF(AA53="","",VLOOKUP(AA53,'【記載例】シフト記号表（勤務時間帯）'!$C$6:$L$47,10,FALSE)) -> 8 | AB54: =IF(AB53="","",VLOOKUP(AB53,'【記載例】シフト記号表（勤務時間帯）'!$C$6:$L$47,10,FALSE)) | AC54: =IF(AC53="","",VLOOKUP(AC53,'【記載例】シフト記号表（勤務時間帯）'!$C$6:$L$47,10,FALSE)) | AD54: =IF(AD53="","",VLOOKUP(AD53,'【記載例】シフト記号表（勤務時間帯）'!$C$6:$L$47,10,FALSE)) -> 8 | AE54: =IF(AE53="","",VLOOKUP(AE53,'【記載例】シフト記号表（勤務時間帯）'!$C$6:$L$47,10,FALSE)) | AF54: =IF(AF53="","",VLOOKUP(AF53,'【記載例】シフト記号表（勤務時間帯）'!$C$6:$L$47,10,FALSE)) -> 8 | AG54: =IF(AG53="","",VLOOKUP(AG53,'【記載例】シフト記号表（勤務時間帯）'!$C$6:$L$47,10,FALSE)) -> 8 | AH54: =IF(AH53="","",VLOOKUP(AH53,'【記載例】シフト記号表（勤務時間帯）'!$C$6:$L$47,10,FALSE)) | ... BE54: =IF(BE53="","",VLOOKUP(BE53,'【記載例】シフト記号表（勤務時間帯）'!$C$6:$L$47,10,FALSE)) | BF54: =IF($BI$3="４週",SUM(AA54:BB54),IF($BI$3="暦月",SUM(AA54:BE54),"")) -> 128 | BH54: =IF($BI$3="４週",BF54/4,IF($BI$3="暦月",(BF54/($BI$8/7)),"")) -> 32
B55: =B53+1 -> 20 | C55: ◎ | D55: ユニット３ | G55: 介護職員 | M55: A | O55: 介護福祉士 | S55: ○○ T太 | X55: シフト記号 | AA55: h | AB55: i | AC55: a | AD55: a | AF55: d | AI55: h | AJ55: i | AK55: a | AL55: a | AN55: d | AO55: d | AQ55: h | AR55: i | AS55: a | AT55: a | AV55: d | AY55: h | AZ55: i | BA55: a | BB55: a
J56: =G55 -> 介護職員 | L56: =M55 -> A | X56: 勤務時間数 | AA56: =IF(AA55="","",VLOOKUP(AA55,'【記載例】シフト記号表（勤務時間帯）'!$C$6:$L$47,10,FALSE)) -> 8 | AB56: =IF(AB55="","",VLOOKUP(AB55,'【記載例】シフト記号表（勤務時間帯）'!$C$6:$L$47,10,FALSE)) -> 8 | AC56: =IF(AC55="","",VLOOKUP(AC55,'【記載例】シフト記号表（勤務時間帯）'!$C$6:$L$47,10,FALSE)) -> 8 | AD56: =IF(AD55="","",VLOOKUP(AD55,'【記載例】シフト記号表（勤務時間帯）'!$C$6:$L$47,10,FALSE)) -> 8 | AE56: =IF(AE55="","",VLOOKUP(AE55,'【記載例】シフト記号表（勤務時間帯）'!$C$6:$L$47,10,FALSE)) | AF56: =IF(AF55="","",VLOOKUP(AF55,'【記載例】シフト記号表（勤務時間帯）'!$C$6:$L$47,10,FALSE)) -> 8 | AG56: =IF(AG55="","",VLOOKUP(AG55,'【記載例】シフト記号表（勤務時間帯）'!$C$6:$L$47,10,FALSE)) | AH56: =IF(AH55="","",VLOOKUP(AH55,'【記載例】シフト記号表（勤務時間帯）'!$C$6:$L$47,10,FALSE)) | ... BE56: =IF(BE55="","",VLOOKUP(BE55,'【記載例】シフト記号表（勤務時間帯）'!$C$6:$L$47,10,FALSE)) | BF56: =IF($BI$3="４週",SUM(AA56:BB56),IF($BI$3="暦月",SUM(AA56:BE56),"")) -> 160 | BH56: =IF($BI$3="４週",BF56/4,IF($BI$3="暦月",(BF56/($BI$8/7)),"")) -> 40
B57: =B55+1 -> 21 | D57: ユニット３ | G57: 介護職員 | M57: A | O57: ー | S57: ○○ U子 | X57: シフト記号 | AB57: h | AC57: i | AD57: d | AE57: a | AG57: d | AH57: d | AJ57: h | AK57: i | AL57: d | AM57: a | AO57: d | AP57: a | AR57: h | AS57: i | AT57: d | AW57: d | AX57: a | AZ57: h | BA57: i | BB57: d
