Workbook
Name 【記載例】シフト記号: 'シフト記号表（従来型・ユニット型共通）'!$C$6:$C$47
Name 【記載例】シフト記号表: 'シフト記号表（従来型・ユニット型共通）'!$C$6:$C$47
Name 【記載例】シフト記号表: '【記載例】シフト記号表（勤務時間帯）'!$C$6:$C$47
Name ｋ: #REF!
Name ｋ: #N/A
Name ｋ: #REF!
Name ｋ: #REF!
Name あ: #REF!
Name あ: #REF!
Name サービス名: #REF!
Name サービス名: #N/A
Name サービス名: #REF!
Name サービス名: #REF!
Name サービス名称: #REF!
Name サービス名称: #N/A
Name サービス名称: #REF!
Name サービス名称: #REF!
Name シフト記号表: 'シフト記号表（従来型・ユニット型共通）'!$C$6:$C$47
Name だだ: #REF!
Name だだ: #N/A
Name だだ: #REF!
Name だだ: #REF!
Name っっｋ: #N/A
Name っっｋ: #REF!
Name っっっっｌ: #N/A
Name っっっっｌ: #REF!
Name 医師: 'プルダウン・リスト（従来型・ユニット型共通）'!$D$22:$D$31
Name 栄養士: 'プルダウン・リスト（従来型・ユニット型共通）'!$H$22:$H$31
Name 介護支援専門員: 'プルダウン・リスト（従来型・ユニット型共通）'!$J$22:$J$31
Name 介護職員: 'プルダウン・リスト（従来型・ユニット型共通）'!$G$22:$G$31
Name 確認: #N/A
Name 確認: #REF!
Name 看護職員: 'プルダウン・リスト（従来型・ユニット型共通）'!$F$22:$F$31
Name 管理者: 'プルダウン・リスト（従来型・ユニット型共通）'!$C$22:$C$31
Name 機能訓練指導員: 'プルダウン・リスト（従来型・ユニット型共通）'!$I$22:$I$31
Name 職種: 'プルダウン・リスト（従来型・ユニット型共通）'!$C$21:$L$21
Name 生活相談員: 'プルダウン・リスト（従来型・ユニット型共通）'!$E$22:$E$31

Sheet 加算様式２（医療院＋療養SS）
A1: 介護給付費算定に係る体制等に関する届出書・変更届出書 チェック表 （介護医療院） （介護医療院：短期入所療養介護・介護予防短期入所療養介護）
I2: 担当者名
I3: 連絡先（TEL）
A5: ※ 加算が算定されなくなる場合、欠員が解消される場合等についても同様に届け出てください。
A6: ※ （介護予防）通所リハビリテーションに係る届出は、（介護予防）通所リハビリテーション事業所用の様式を使用してください。
A7: ※ （介護予防）訪問リハビリテーションに係る届出は、（介護予防）訪問リハビリテーション事業所用の様式を使用してください。
A8: ※ 別紙1-1及び別紙1-2のうち、「55 介護医療院」「2A 短期入所療養介護」「2B 介護予防短期入所療養介護」のうち、
B9: 施設等の区分が該当しない部分については提出を省略して差し支えありません（「55」「2A」「2B」が１種類ずつ表示されていれば可）
A10: ※ ①を除き従業者の勤務体制及び勤務形態一覧表＜別紙７＞又はこれに準じた勤務割表等は、
B11: 介護医療院及び併設する（介護予防）短期入所療養介護事業所のすべての従業者を記載してください。
A12: ※ ①の別紙７又はこれに準じた勤務割表等は、添付資料の欄のとおり、通所リハビリテーション事業所及び訪問リハビリテーション事業所
B13: も含む全従業者が対象です。
A14: ※ 「従業者の勤務の体制及び勤務形態一覧表（別紙７）又はこれに準じた勤務割表等」については、
B15: 指定申請等に使用した（標準様式１）で作成したものも対象です。
A16: ※ 厚労省様式（「別紙○」の名称のもの）については、記載の注意事項を確認し正しい方法で使用してください。
A17: ※ 参考様式は、算定要件を満たす内容を証するものであれば任意様式で提出しても差し支えありませんが、
B18: 届け出後も同じ様式を継続して使用し、算定要件を毎月確認及び記録してください。
A19: ※ 介護医療院又は（介護予防）短期入所療養介護における届出事項で、重複する添付資料は提出不要です。
E20: 算定・届出対象
A21: 届出事項 | C21: 開設 | D21: 加算 追加 ・ 加算 削除 | E21: 本体 医療院 | F21: 併設 療養SS | G21: 添 付 書 類 | J21: 備 考
A22: 共 通 事 項 （必ず必要な書類） | C22: □ | D22: □ | E22: ○ （共通） | G22: ・ | H22: 介護給付費算定に係る体制等に関する届出書・変更届出書＜加算様式１＞
C23: □ | D23: □ | E23: ○ （共通） | G23: ・ | H23: 本チェック表＜加算様式２＞ | J23: 自主点検したもの（チェック済）を提出すること。
C24: □ | D24: □ | E24: ○ （共通） | G24: ・ | H24: 介護給付費算定に係る体制等状況一覧表＜別紙1-1,1-2＞ | J24: 別シートの「備考（1-1）(1-2)」も必ず確認すること。
D25: □ | E25: ○ | F25: ○ | G25: ・ | H25: 運営規程 | J25: 介護給付費算定に係る体制等に関する変更に伴い，改正したもの。介護の内容・利用料金の変更等について記載が必要。
H26: ※ | I26: 変更後の運営規程又は新旧対照表
B29: LIFEへの登録 | C29: □ | D29: □ | E29: ○ （共通） | J29: 別紙１(届)の変更内容欄にLIFE登録日を記入すること。
B30: 施設等の区分・ 人員配置区分 | C30: □ | D30: □ | E30: ○ （共通） | G30: ・ | H30: 介護医療院の基本施設サービス費に係る届出 ＜Ⅰ型：別紙30，Ⅱ型：別紙30-2＞
C31: □ | D31: □ | E31: ○ （共通） | G31: ・ | H31: 従業者の勤務の体制及び勤務形態一覧表＜別紙７＞又はこれに準じた勤務割表等 | J31: 看護職員、介護職員の配置状況がわかるもの。
B32: 夜間勤務条件基準 | D32: □ | E32: ○ （共通） | G32: ・ | H32: 理由書 | J32: 任意の様式で可。
D33: □ | E33: ○ （共通） | G33: ・ | H33: 従業者の勤務の体制及び勤務形態一覧表＜別紙７＞又はこれに準じた勤務割表等
B34: 職員の欠員による減算の状況 | D34: □ | E34: ○ （共通） | G34: ・ | H34: 理由書 | J34: 任意の様式で可。
D35: □ | E35: ○ （共通） | G35: ① | H35: 従業者の勤務の体制及び勤務形態一覧表＜別紙７＞又はこれに準じた勤務割表等 | J35: 医師、看護職員、介護職員、理学療法士療法士・作業療法士・言語聴覚士、介護支援専門員の配置状況がわかるもの（欠員となり解消された職種のみで可）
H36: ※全従業員（通所ﾘﾊ・訪問ﾘﾊ含む。）の勤務体制表を提出すること。 ※看護職員、介護職員分は、入所と通所リハ・訪問リハ分を別様とすること。それ以外の職種については、通所リハ・訪問リハにおける勤務時間も含めて記載すること。 ※兼務者はそれぞれに分けて記載すること。
D37: □ | E37: ○ （共通） | G37: ・ | H37: 組織体制図 | J37: 任意の様式で可。
D38: □ | E38: ○ （共通） | G38: ・ | H38: 該当する資格証（写） | J38: 欠員が解消される場合。
B39: ユニットケア体制
B40: 身体拘束廃止取組 の有無 | D40: □ | E40: ○ （共通） | G40: ・ | H40: 理由書 | J40: 任意の様式で可。
D41: □ | E41: ○ （共通） | G41: ・ | H41: 身体拘束改善計画又は身体拘束改善報告 | J41: 任意の様式で可（理事長名）。ただし、経緯、今後の改善策・職員教育、対象入所者の現状及び廃止に向けた取組みは必ず記載すること。
B42: 安全管理体制 | D42: □ | E42: ○ | G42: ・ | H42: 理由書 | J42: 任意の様式で可。
D43: □ | E43: ○ | G43: ・ | H43: 運営基準における事故の発生又は再発を防止するための措置を講じるための改善報告書 | J43: 任意の様式で可（理事長名）。ただし、今後の改善計画（指針の整備・体制の整備・従業者研修計画）を必ず記載すること。
...

Sheet 加算様式２（老健＋療養SS）
A1: 介護給付費算定に係る体制等に関する届出書・変更届出書 チェック表 （介護老人保健施設（介護療養型老人保健施設を含む。）） （介護老人保健施設：短期入所療養介護・介護予防短期入所療養介護）
I2: 担当者名
I3: 連絡先（TEL）
A5: ※ 加算が算定されなくなる場合、欠員が解消される場合等についても同様に届け出てください。
A6: ※ （介護予防）通所リハビリテーションに係る届出は、（介護予防）通所リハビリテーション事業所用の様式を使用してください。
A7: ※ （介護予防）訪問リハビリテーションに係る届出は、（介護予防）訪問リハビリテーション事業所用の様式を使用してください。
A8: ※ 別紙1-1及び別紙1-2のうち、「52 介護老人保健施設」「22 短期入所療養介護」「25 介護予防短期入所療養介護」のうち、
B9: 施設等の区分が該当しない部分については提出を省略して差し支えありません（「52」「22」「25」が１種類ずつ表示されていれば可）
A10: ※ ①を除き従業者の勤務体制及び勤務形態一覧表＜別紙７＞又はこれに準じた勤務割表等は、
B11: 介護老人保健施設及び併設する（介護予防）短期入所療養介護事業所のすべての従業者を記載してください。
A12: ※ ①の別紙７又はこれに準じた勤務割表等は、添付資料の欄のとおり、通所リハビリテーション事業所及び訪問リハビリテーション事業所
B13: も含む全従業者が対象です。
A14: ※ 「従業者の勤務の体制及び勤務形態一覧表（別紙７）又はこれに準じた勤務割表等」については、
B15: 指定申請等に使用した（標準様式１）で作成したものも対象です。
A16: ※ 厚労省様式（「別紙○」の名称のもの）については、記載の注意事項を確認し正しい方法で使用してください。
A17: ※ 参考様式は、算定要件を満たす内容を証するものであれば任意様式で提出しても差し支えありませんが、
B18: 届け出後も同じ様式を継続して使用し、算定要件を毎月確認及び記録してください。
A19: ※ 介護老人保健施設又は（介護予防）短期入所療養介護における届出事項で、重複する添付資料は提出不要です。
E20: 算定・届出対象
A21: 届出事項 | C21: 開設 | D21: 加算 追加 ・ 加算 削除 | E21: 本体 老健 | F21: 併設 療養SS | G21: 添 付 書 類 | J21: 備 考
A22: 共 通 事 項 （必ず必要な書類） | C22: □ | D22: □ | E22: ○ （共通） | G22: ・ | H22: 介護給付費算定に係る体制等に関する届出書・変更届出書＜加算様式１＞
C23: □ | D23: □ | E23: ○ （共通） | G23: ・ | H23: 本チェック表＜加算様式２＞ | J23: 自主点検したもの（チェック済）を提出すること。
C24: □ | D24: □ | E24: ○ （共通） | G24: ・ | H24: 介護給付費算定に係る体制等状況一覧表＜別紙1-1,1-2＞ | J24: 別シートの「備考（1-1）(1-2)」も必ず確認すること。
D25: □ | E25: ○ | F25: ○ | G25: ・ | H25: 運営規程 | J25: 介護給付費算定に係る体制等に関する変更に伴い，改正したもの。介護の内容・利用料金の変更等について記載が必要。
H26: ※ | I26: 変更後の運営規程又は新旧対照表
B29: LIFEへの登録 | C29: □ | D29: □ | E29: ○ （共通） | J29: 別紙１(届)の変更内容欄にLIFE登録日を記入すること。
B30: 施設等の区分・ 人員配置区分 | C30: □ | D30: □ | E30: ○ | G30: ・ | H30: 介護老人保健施設（基本型・在宅強化型）の基本施設サービス費及び在宅復帰・在宅療養支援機能加算に係る届出＜別紙29（R6.9月提供分まで）又は別紙29-2(R6.10月提供以降）＞ | J30: 施設等の区分が、「1介護老人保健施設（Ⅰ）」又は「2ユニット型介護老人保健施設（Ⅰ）」に該当する場合。
C31: □ | D31: □ | E31: ○ | G31: ・ | H31: 介護老人保健施設（療養型）の基本施設サービス費及び療養体制維持特別加算（Ⅱ）に係る届出＜別紙29-3＞ | J31: 施設等の区分が、「介護老人保健施設（Ⅱ）」又は「介護老人保健施設（Ⅲ）に該当する場合。
B32: 夜間勤務条件基準 | D32: □ | E32: ○ （共通） | G32: ・ | H32: 理由書 | J32: 任意の様式で可。
D33: □ | E33: ○ （共通） | G33: ・ | H33: 従業者の勤務の体制及び勤務形態一覧表＜別紙７＞又はこれに準じた勤務割表等
B34: 職員の欠員による減算の状況 | D34: □ | E34: ○ （共通） | G34: ・ | H34: 理由書 | J34: 任意の様式で可。
D35: □ | E35: ○ （共通） | G35: ① | H35: 従業者の勤務の体制及び勤務形態一覧表＜別紙７＞又はこれに準じた勤務割表等 | J35: 医師、看護職員、介護職員、理学療法士療法士・作業療法士・言語聴覚士、介護支援専門員の配置状況がわかるもの。
H36: ※全従業員（通所ﾘﾊ・訪問ﾘﾊ含む。）の勤務体制表を提出すること。 ※看護職員、介護職員分は、入所と通所リハ・訪問リハ分を別様とすること。それ以外の職種については、通所リハ・訪問リハにおける勤務時間も含めて記載すること。 ※兼務者はそれぞれに分けて記載すること。
D39: □ | E39: ○ （共通） | G39: ・ | H39: 組織体制図 | J39: 任意の様式で可。
D40: □ | E40: ○ （共通） | G40: ・ | H40: 該当する資格証（写） | J40: 欠員が解消される場合。
B41: ユニットケア体制
B42: 身体拘束廃止取組 の有無 | D42: □ | E42: ○ （共通） | G42: ・ | H42: 理由書 | J42: 任意の様式で可。
D43: □ | E43: ○ （共通） | G43: ・ | H43: 身体拘束改善計画又は身体拘束改善報告 | J43: 任意の様式で可（理事長名）。ただし、経緯、今後の改善策・職員教育、対象入所者の現状及び廃止に向けた取組みは必ず記載すること。
B44: 安全管理体制 | D44: □ | E44: ○ | G44: ・ | H44: 理由書 | J44: 任意の様式で可。
D45: □ | E45: ○ | G45: ・ | H45: 運営基準における事故の発生又は再発を防止するための措置を講じるための改善報告書 | J45: 任意の様式で可（理事長名）。ただし、今後の改善計画（指針の整備・体制の整備・従業者研修計画）を必ず記載すること。
...

Sheet 【R6.5月まで】加算様式２（GH）
A1: 介護給付費算定に係る体制等に関する届出書・変更届出書 チェック表 （認知症対応型共同生活介護・介護予防認知症対応型共同生活介護）
A2: ○ R6.4.1～R6.5.31 版
G3: 担当者名
G4: 連絡先（TEL）
A6: ※ 加算が算定されなくなる場合、欠員が解消される場合等についても同様に届け出てください。
A7: ※ 厚労省様式（「別紙○」の名称のもの）については、記載の注意事項を確認し正しい方法で使用してください。
A8: ※ 参考様式は、算定要件を満たす内容を証するものであれば任意様式で提出しても差し支えありませんが、
B9: 届け出後も同じ様式を継続して使用し、算定要件を毎月確認及び記録してください。
A10: ※ 「従業者の勤務の体制及び勤務形態一覧表（別紙７）又はこれに準じた勤務割表等」については、
B11: 指定申請等に使用した（標準様式１）で作成したものも対象です。
A12: 届出事項 | C12: 開設 | D12: 加算 追加 ・ 加算 削除 | E12: 添 付 書 類 | H12: 備 考
A13: 共 通 事 項 （必ず必要な書類） | C13: □ | D13: □ | E13: ・ | F13: 介護給付費算定に係る体制等に関する届出書・変更届出書＜加算様式１＞
C14: □ | D14: □ | E14: ・ | F14: 本チェック表＜加算様式２＞ | H14: 自主点検したもの（チェック済）を提出すること。
C15: □ | D15: □ | E15: ・ | F15: 介護給付費算定に係る体制等状況一覧表＜別紙1-3＞ | H15: 別シートの「備考（1-3）」も必ず確認すること。
D16: □ | E16: ・ | F16: 運営規程 | H16: 介護給付費算定に係る体制等に関する変更に伴い，改正したもの。介護の内容・利用料金の変更等について記載が必要。
F17: ※ | G17: 変更後の運営規程又は新旧対照表
B20: LIFEへの登録 | C20: □ | D20: □ | H20: 別紙1(届)の変更内容欄にLIFE登録日を記入すること。
B21: 割引をする場合 | C21: □ | D21: □ | E21: ・ | F21: 指定居宅サービス事業者等による介護給付費の割引に係る割引率の設定について＜別紙５-２＞
B22: 施設等の区分
B23: 職員の欠員による減算の状況 | D23: □ | E23: ・ | F23: 理由書 | H23: 任意の様式で可。
D24: □ | E24: ・ | F24: 従業者の勤務の体制及び勤務形態一覧表＜別紙７＞又はこれに準じた勤務割表等 | H24: 介護従業者の勤務状況がわかるもの。
D25: □ | E25: ・ | F25: 組織体制図 | H25: 任意の様式で可。
B26: 夜間勤務条件基準 | D26: □ | E26: ・ | F26: 理由書 | H26: 任意の様式で可。
D27: □ | E27: ・ | F27: 従業者の勤務の体制及び勤務形態一覧表＜別紙７＞又はこれに準じた勤務割表等
B28: 身体拘束廃止取組 の有無 | D28: □ | E28: ・ | F28: 理由書 | H28: 任意の様式で可。
D29: □ | E29: ・ | F29: 身体拘束改善計画又は身体拘束改善報告 | H29: 任意の様式で可（代表者名）。ただし、経緯、今後の改善策・職員教育、対象入所者の現状及び廃止に向けた取組みは必ず記載すること。
B30: 高齢者虐待防止措置実施の有無 | D30: □ | E30: ・ | F30: 理由書 | H30: 任意の様式で可。
D31: □ | E31: ・ | F31: 高齢者虐待防止措置に係る改善計画又は改善報告書 | H31: 任意の様式で可（代表者名）。ただし、未措置事項（指針、委員会、研修、担当者の設置）の現状及び改善に向けた取組みは必ず記載すること。
B32: 業務継続計画策定の有無 | D32: □ | E32: ・ | F32: 理由書 | H32: 任意の様式で可。
D33: □ | E33: ・ | F33: 業務継続計画に係る改善計画又は改善報告書 | H33: 任意の様式で可（代表者名）。ただし、未措置事項（BPC策定、訓練、研修）の現状及び改善に向けた取組みは必ず記載すること。
D34: □ | E34: ・ | F34: 業務継続計画（BPC） | H34: BCP未策定に伴う減算を解消する場合。感染症及び災害の項目を設定したもの。
B35: ３ユニットの事業所が夜勤職員を２人以上とする場合 | D35: □ | E35: ・ | F35: 従業者の勤務の体制及び勤務形態一覧表＜別紙７＞又はこれに準じた勤務割表等 | H35: 介護従業者の勤務状況がわかるもの。
D36: □ | E36: ・ | F36: 事業所の平面図＜別紙６＞ | H36: 最新の状況であれば、指定時に提出した平面図と同等のもの（任意様式）での提出可。
B37: 夜間支援体制加算 | D37: □ | E37: ・ | F37: 夜間支援体制加算に係る届出書＜別紙46＞
D38: □ | E38: ・ | F38: 従業者の勤務の体制及び勤務形態一覧表＜別紙７＞又はこれに準じた勤務割表等 | H38: 夜間及び深夜の時間帯を明記すること。算定開始する月の分。
D39: □ | E39: ・ | F39: ≪見守り機器等を導入した緩和措置を適用する場合≫ 利用者の安全やケアの質の確保、職員の負担の軽減を図るための委員会の議事概要 | H39: 導入後から９週間以上、継続して定期的に実施していることがわかるようにすること。
B40: 若年性認知症利用者受入加算 | C40: □ | D40: □ | E40: ・ | F40: 若年性認知症利用者受入加算に関する届出書＜参考様式５＞
B41: 利用者の入院期間中の体制（入院時費用） | C41: □ | D41: □ | E41: ・ | F41: 入院時費用に関する調書＜参考様式15＞
B42: 看取り介護加算 ＊介護サービス（短期利用型を除く）のみ | C42: □ | D42: □ | E42: ・ | F42: 看取り介護加算に関する届出書＜別紙47＞
C43: □ | D43: □ | E43: ・ | F43: 看取りに関する指針 | H43: 必要な要件を満たしている場合は，重度化した場合の対応に係る指針をもって代えることも可。
...

Sheet 【R6.5月まで】加算様式２（地密特定）
A1: 介護給付費算定に係る体制等に関する届出書・変更届出書 チェック表 （地域密着型特定施設入居者生活介護）
A2: ○ R6.4.1～R6.5.31 版
G3: 担当者名
G4: 連絡先（TEL）
A6: ※ 加算が算定されなくなる場合、欠員が解消される場合等についても同様に届け出てください。
A7: ※ 厚労省様式（「別紙○」の名称のもの）については、記載の注意事項を確認し正しい方法で使用してください。
A8: ※ 参考様式は、算定要件を満たす内容を証するものであれば任意様式で提出しても差し支えありませんが、
B9: 届け出後も同じ様式を継続して使用し、算定要件を毎月確認及び記録してください。
A10: ※ 「従業者の勤務の体制及び勤務形態一覧表（別紙７）又はこれに準じた勤務割表等」については、
B11: 指定申請等に使用した（標準様式１）で作成したものも対象です。
A12: 届出事項 | C12: 開設 | D12: 加算 追加 ・ 加算 削除 | E12: 添 付 書 類 | H12: 備 考
A13: 共 通 事 項 （必ず必要な書類） | C13: □ | D13: □ | E13: ・ | F13: 介護給付費算定に係る体制等に関する届出書・変更届出書＜加算様式１＞
C14: □ | D14: □ | E14: ・ | F14: 本チェック表＜加算様式２＞ | H14: 自主点検したもの（チェック済）を提出すること。
C15: □ | D15: □ | E15: ・ | F15: 介護給付費算定に係る体制等状況一覧表＜別紙1-3＞ | H15: 別シートの「備考（1-3）」も必ず確認すること。
D16: □ | E16: ・ | F16: 運営規程 | H16: 介護給付費算定に係る体制等に関する変更に伴い、改正したもの。介護の内容・利用料金の変更等について記載が必要。
F17: ※ | G17: 変更後の運営規程又は新旧対照表
B20: LIFEへの登録 | C20: □ | D20: □ | H20: 別紙1(届)の変更内容欄にLIFE登録日を記入すること。
B21: 割引をする場合 | C21: □ | D21: □ | E21: ・ | F21: 指定居宅サービス事業者等による介護給付費の割引に係る割引率の設定について＜別紙５＞
B22: 施設等の区分
B23: 職員の欠員による減算の状況 | D23: □ | E23: ・ | F23: 理由書 | H23: 任意の様式で可。
D24: □ | E24: ・ | F24: 従業者の勤務の体制及び勤務形態一覧表＜別紙７＞又はこれに準じた勤務割表等 | H24: 看護職員、介護職員の配置状況がわかるもの。
D25: □ | E25: ・ | F25: 組織体制図 | H25: 任意の様式で可。
D26: □ | E26: ・ | F26: 該当する資格証（写） | H26: 看護職員の欠員が解消される場合。
B27: 身体拘束廃止取組の有無 | D27: □ | E27: ・ | F27: 理由書 | H27: 任意の様式で可。
D28: □ | E28: ・ | F28: 身体拘束改善計画又は身体拘束改善報告 | H28: 任意の様式で可（代表者名）。ただし、経緯、今後の改善策・職員教育、対象入居者の現状及び廃止に向けた取組みは必ず記載すること。
B29: 高齢者虐待防止措置実施の有無 | D29: □ | E29: ・ | F29: 理由書 | H29: 任意の様式で可。
D30: □ | E30: ・ | F30: 高齢者虐待防止措置に係る改善計画又は改善報告書 | H30: 任意の様式で可（代表者名）。ただし、未措置事項（指針、委員会、研修、担当者の設置）の現状及び改善に向けた取組みは必ず記載すること。
B31: 業務継続計画策定の有無 | D31: □ | E31: ・ | F31: 理由書 | H31: 任意の様式で可。
D32: □ | E32: ・ | F32: 業務継続計画に係る改善計画又は改善報告書 | H32: 任意の様式で可（代表者名）。ただし、未措置事項（BPC策定、訓練、研修）の現状及び改善に向けた取組みは必ず記載すること。
D33: □ | E33: ・ | F33: 業務継続計画（BPC） | H33: BCP未策定に伴う減算を解消する場合。感染症及び災害の項目を設定したもの。
B34: 入居継続支援加算 ＊介護サービスのみ | D34: □ | E34: ・ | F34: 入居継続支援加算に関する届出書＜別紙32＞
D35: □ | E35: ・ | F35: 入居継続支援加算に関する確認書＜参考様式32＞
D36: □ | E36: ・ | F36: 従業者の勤務の体制及び勤務形態一覧表＜別紙７＞又はこれに準じた勤務割表等
D37: □ | E37: ・ | F37: 有資格者等の割合の参考計算書＜別紙７-2＞又はこれに準じた計算資料 | H37: 届出月前３月間における介護福祉士の常勤換算数及び平均を求めたもの
D38: □ | E38: ・ | F38: ≪別紙32の要件③・④が「有」の場合≫ 該当する資格証（写） | H38: 看護に係る責任者である常勤看護師の分のみ
B39: テクノロジーの導入 （入居継続支援加算関係） | D39: □ | E39: ・ | F39: テクノロジーの導入による入居継続支援加算に関する届出書＜別紙32-２＞
D40: □ | E40: ・ | F40: 利用者の安全やケアの質の確保、職員の負担の軽減を図るための委員会の議事概要 | H40: 導入後から３月以上、継続して定期的に実施していることがわかるようにすること。
D41: □ | E41: ・ | F41: 介護機器の使用方法の講習やヒヤリ・ハット事例等の周知、その事例を通じた再発防止策の実習等を含む職員研修の記録 | H41: 算定開始月時点で予定の場合は、予定している研修等の概要がわかるもの。
D42: □ | E42: ・ | F42: 算定開始月を含む年間又は年度研修計画 若しくは介護機器の使用方法の講習等を定期的かつ臨機応変に実施するためのフロー（手順書）等 | H42: 上記の研修等に相当するもの（複数の研修や通常業務の手順等を組み合わせて内容を網羅する場合は、どの研修等で何を実施するのか）がわかるようにすること。
B43: 生活機能向上連携加算 | C43: □ | D43: □ | E43: ・ | F43: 生活機能向上連携加算に関する確認書＜参考様式４＞
...

Sheet 【R6.5月まで】加算様式２（特定）
A1: 介護給付費算定に係る体制等に関する届出書・変更届出書 チェック表 （特定施設入居者生活介護・介護予防特定施設入居者生活介護）
A2: ○ R6.4.1～R6.5.31 版
G3: 担当者名
G4: 連絡先（TEL）
A6: ※ 加算が算定されなくなる場合、欠員が解消される場合等についても同様に届け出てください。
A7: ※ 厚労省様式（「別紙○」の名称のもの）については、記載の注意事項を確認し正しい方法で使用してください。
A8: ※ 参考様式は、算定要件を満たす内容を証するものであれば任意様式で提出しても差し支えありませんが、
B9: 届け出後も同じ様式を継続して使用し、算定要件を毎月確認及び記録してください。
A10: ※ 「従業者の勤務の体制及び勤務形態一覧表（別紙７）又はこれに準じた勤務割表等」については、
B11: 指定申請等に使用した（標準様式１）で作成したものも対象です。
A12: 届出事項 | C12: 開設 | D12: 加算 追加 ・ 加算 削除 | E12: 添 付 書 類 | H12: 備 考
A13: 共 通 事 項 （必ず必要な書類） | C13: □ | D13: □ | E13: ・ | F13: 介護給付費算定に係る体制等に関する届出書・変更届出書＜加算様式１＞
C14: □ | D14: □ | E14: ・ | F14: 本チェック表＜加算様式２＞ | H14: 自主点検したもの（チェック済）を提出すること。
C15: □ | D15: □ | E15: ・ | F15: 介護給付費算定に係る体制等状況一覧表＜別紙1-1、1-2＞ | H15: 別シートの「備考（1-1）（1-2）」も必ず確認すること。
D16: □ | E16: ・ | F16: 運営規程 | H16: 介護給付費算定に係る体制等に関する変更に伴い、改正したもの。介護の内容・利用料金の変更等について記載が必要。
F17: ※ | G17: 変更後の運営規程又は新旧対照表
B20: LIFEへの登録 | C20: □ | D20: □ | H20: 別紙1(届)の変更内容欄にLIFE登録日を記入すること。
B21: 割引をする場合 | C21: □ | D21: □ | E21: ・ | F21: 指定居宅サービス事業者等による介護給付費の割引に係る割引率の設定について＜別紙５＞
B22: 施設等の区分
B23: 人員配置区分 | E23: 〔外部サービス利用型〕
D24: □ | E24: ・ | F24: 従業者の勤務の体制及び勤務形態一覧表＜別紙７＞又はこれに準じた勤務割表等
C25: □ | D25: □ | E25: ・ | F25: 居宅サービスの委託契約書（写）
E26: 〔一般型から外部サービス利用型への変更〕
D27: □ | E27: ・ | F27: 従業者の勤務の体制及び勤務形態一覧表＜別紙７＞又はこれに準じた勤務割表等
D28: □ | E28: ・ | F28: 居宅サービスの委託契約書（写）
E29: 〔外部サービス利用型から一般型への変更〕
D30: □ | E30: ・ | F30: 従業者の勤務の体制及び勤務形態一覧表＜別紙７＞又はこれに準じた勤務割表等
D31: □ | E31: ・ | F31: 従業者の資格証（写） | H31: 資格を要する職種のみ。
B32: 職員の欠員による減算の状況 | D32: □ | E32: ・ | F32: 理由書 | H32: 任意の様式で可。
D33: □ | E33: ・ | F33: 従業者の勤務の体制及び勤務形態一覧表＜別紙７＞又はこれに準じた勤務割表等 | H33: 看護職員、介護職員の配置状況がわかるもの。
D34: □ | E34: ・ | F34: 組織体制図 | H34: 任意の様式で可。
D35: □ | E35: ・ | F35: 該当する資格証（写） | H35: 看護職員の欠員が解消される場合。
B36: 身体拘束廃止取組の有無 | D36: □ | E36: ・ | F36: 理由書 | H36: 任意の様式で可。
D37: □ | E37: ・ | F37: 身体拘束改善計画又は身体拘束改善報告 | H37: 任意の様式で可（代表者名）。ただし、経緯、今後の改善策・職員教育、対象入居者の現状及び廃止に向けた取組みは必ず記載すること。
B38: 高齢者虐待防止措置実施の有無 | D38: □ | E38: ・ | F38: 理由書 | H38: 任意の様式で可。
D39: □ | E39: ・ | F39: 高齢者虐待防止措置に係る改善計画又は改善報告書 | H39: 任意の様式で可（代表者名）。ただし、未措置事項（指針、委員会、研修、担当者の設置）の現状及び改善に向けた取組みは必ず記載すること。
B40: 業務継続計画策定の有無 | D40: □ | E40: ・ | F40: 理由書 | H40: 任意の様式で可。
D41: □ | E41: ・ | F41: 業務継続計画に係る改善計画又は改善報告書 | H41: 任意の様式で可（代表者名）。ただし、未措置事項（BPC策定、訓練、研修）の現状及び改善に向けた取組みは必ず記載すること。
D42: □ | E42: ・ | F42: 業務継続計画（BPC） | H42: BCP未策定に伴う減算を解消する場合。感染症及び災害の項目を設定したもの。
B43: 入居継続支援加算 ＊介護サービスのみ | D43: □ | E43: ・ | F43: 入居継続支援加算に関する届出書＜別紙32＞
...

Sheet 【R6.5月まで】加算様式２（SS）
A1: 介護給付費算定に係る体制等に関する届出書・変更届出書 チェック表 （短期入所生活介護・介護予防短期入所生活介護）
A2: ○ R6.4.1～R6.5.31 版
G3: 担当者名
G4: 連絡先（TEL）
A6: ※ 加算が算定されなくなる場合、欠員が解消される場合等についても同様に届け出てください。
A7: ※ 厚労省様式（「別紙○」の名称のもの）については、記載の注意事項を確認し正しい方法で使用してください。
A8: ※ 参考様式は、算定要件を満たす内容を証するものであれば任意様式で提出しても差し支えありませんが、
B9: 届け出後も同じ様式を継続して使用し、算定要件を毎月確認及び記録してください。
A10: ※ 「従業者の勤務の体制及び勤務形態一覧表（別紙７）又はこれに準じた勤務割表等」については、
B11: 指定申請等に使用した（標準様式１）で作成したものも対象です。
B12: （本ファイルには特養用の（標準様式１）をセットしています。プルダウンリストの修正等、特定施設にあわせた修正作業に
B13: 不安がある場合は、特定施設の加算届ファイルにセットされた（標準様式１）を使用してください）
A14: ※ 本体が特養かつ併設型・空床型の両方を実施している場合で、「空床型のみ算定する加算」を新たに届け出る場合は、
B15: 当該加算算定に係る特養の届出と同時に提出するか、特養の別紙1-1～３（直近の届出状況）を添付すること。
B16: （その場合、下記チェック表で加算ごとに指定している添付書類については提出不要）
A17: 届出事項 | C17: 開設 | D17: 加算 追加 ・ 加算 削除 | E17: 添 付 書 類 | H17: 備 考
A18: 共 通 事 項 （必ず必要な書類） | C18: □ | D18: □ | E18: ・ | F18: 介護給付費算定に係る体制等に関する届出書・変更届出書＜加算様式１＞
C19: □ | D19: □ | E19: ・ | F19: 本チェック表＜加算様式２＞ | H19: 自主点検したもの（チェック済）を提出すること。
C20: □ | D20: □ | E20: ・ | F20: 介護給付費算定に係る体制等状況一覧表＜別紙1-1、1-2＞ | H20: 別シートの「備考（1-1）（1-2）」も必ず確認すること。
D21: □ | E21: ・ | F21: 運営規程 | H21: 介護給付費算定に係る体制等に関する変更に伴い、改正したもの。介護の内容・利用料金の変更等について記載が必要。
F22: ※ | G22: 変更後の運営規程又は新旧対照表
B25: LIFEへの登録 | C25: □ | D25: □ | H25: 別紙１(届)の変更内容欄にLIFE登録日を記入すること。
B26: 割引をする場合 | C26: □ | D26: □ | E26: ・ | F26: 指定居宅サービス事業者等による介護給付費の割引に係る割引率の設定について＜別紙５＞
B27: 施設等の区分
B28: 夜間勤務条件基準 | D28: □ | E28: ・ | F28: 理由書 | H28: 任意の様式で可。
D29: □ | E29: ・ | F29: 従業者の勤務の体制及び勤務形態一覧表＜別紙7＞又はこれに準じた勤務割表等
B30: 職員の欠員による減算の状況 | D30: □ | E30: ・ | F30: 理由書 | H30: 任意の様式で可。
D31: □ | E31: ・ | F31: 従業者の勤務の体制及び勤務形態一覧表＜別紙7＞又はこれに準じた勤務割表等 | H31: 看護職員、介護職員の配置状況がわかるもの。
D32: □ | E32: ・ | F32: 組織体制図 | H32: 任意の様式で可。
D33: □ | E33: ・ | F33: 該当する資格証（写） | H33: 欠員が解消される場合。
B34: ユニットケア体制
B35: 高齢者虐待防止措置実施の有無 | D35: □ | E35: ・ | F35: 理由書 | H35: 任意の様式で可。
D36: □ | E36: ・ | F36: 高齢者虐待防止措置に係る改善計画又は改善報告書 | H36: 任意の様式で可（代表者名）。ただし、未措置事項（指針、委員会、研修、担当者の設置）の現状及び改善に向けた取組みは必ず記載すること。
B37: 業務継続計画策定の有無 | D37: □ | E37: ・ | F37: 理由書 | H37: 任意の様式で可。
D38: □ | E38: ・ | F38: 業務継続計画に係る改善計画又は改善報告書 | H38: 任意の様式で可（代表者名）。ただし、未措置事項（BPC策定、訓練、研修）の現状及び改善に向けた取組みは必ず記載すること。
D39: □ | E39: ・ | F39: 業務継続計画（BPC） | H39: BCP未策定に伴う減算を解消する場合。感染症及び災害の項目を設定したもの。
B40: 共生型サービスの提供 （短期入所事業所）
B41: 生活相談員配置等加算 | C41: □ | D41: □ | E41: ・ | F41: 生活相談員配置等加算に係る届出書＜別紙21＞
C42: □ | D42: □ | E42: ・ | F42: 該当する資格証（写）
D43: □ | E43: ・ | F43: 従業者の勤務の体制及び勤務形態一覧表＜別紙7＞又はこれに準じた勤務割表等
...

Sheet 【R6.5月まで】加算様式２（特養）
A1: 介護給付費算定に係る体制等に関する届出書・変更届出書 チェック表 （介護老人福祉施設）
A2: ○ R6.4.1～R6.5.31 版
G3: 担当者名
G4: 連絡先（TEL）
A6: ※ 加算が算定されなくなる場合、欠員が解消される場合等についても同様に届け出てください。
A7: ※ 厚労省様式（「別紙○」の名称のもの）については、記載の注意事項を確認し正しい方法で使用してください。
A8: ※ 参考様式は、算定要件を満たす内容を証するものであれば任意様式で提出しても差し支えありませんが、
B9: 届け出後も同じ様式を継続して使用し、算定要件を毎月確認及び記録してください。
A10: ※ 「従業者の勤務の体制及び勤務形態一覧表（別紙７）又はこれに準じた勤務割表等」については、
B11: 指定申請等に使用した（標準様式１）で作成したものも対象です。
A12: 届出事項 | C12: 開設 | D12: 加算 追加 ・ 加算 削除 | E12: 添 付 書 類 | H12: 備 考
A13: 共 通 事 項 （必ず必要な書類） | C13: □ | D13: □ | E13: ・ | F13: 介護給付費算定に係る体制等に関する届出書・変更届出書＜加算様式１＞
C14: □ | D14: □ | E14: ・ | F14: 本チェック表＜加算様式２＞ | H14: 自主点検したもの（チェック済）を提出すること。
C15: □ | D15: □ | E15: ・ | F15: 介護給付費算定に係る体制等状況一覧表＜別紙1-1＞ | H15: 別シートの「備考（1-1）」も必ず確認すること。
D16: □ | E16: ・ | F16: 運営規程 | H16: 介護給付費算定に係る体制等に関する変更に伴い，改正したもの。介護の内容・利用料金の変更等について記載が必要。
F17: ※ | G17: 変更後の運営規程又は新旧対照表
B20: LIFEへの登録 | C20: □ | D20: □ | H20: 別紙１(届)の変更内容欄にLIFE登録日を記入すること。
B21: 割引をする場合 | C21: □ | D21: □ | E21: ・ | F21: 指定居宅サービス事業者等による介護給付費の割引に係る割引率の設定について＜別紙５＞
B22: 施設等の区分
B23: 夜間勤務条件基準 | D23: □ | E23: ・ | F23: 理由書 | H23: 任意の様式で可。
D24: □ | E24: ・ | F24: 従業者の勤務の体制及び勤務形態一覧表＜別紙７＞又はこれに準じた勤務割表等
B25: 職員の欠員による減算の状況 | D25: □ | E25: ・ | F25: 理由書 | H25: 任意の様式で可。
D26: □ | E26: ・ | F26: 従業者の勤務の体制及び勤務形態一覧表＜別紙７＞又はこれに準じた勤務割表等 | H26: 看護職員、介護職員、介護支援専門員の配置状況がわかるもの。
D27: □ | E27: ・ | F27: 組織体制図 | H27: 任意の様式で可。
D28: □ | E28: ・ | F28: 該当する資格証（写） | H28: 欠員が解消される場合。
B29: ユニットケア体制
B30: 身体拘束廃止取組 の有無 | D30: □ | E30: ・ | F30: 理由書 | H30: 任意の様式で可。
D31: □ | E31: ・ | F31: 身体拘束改善計画又は身体拘束改善報告 | H31: 任意の様式で可（理事長名）。ただし、経緯、今後の改善策・職員教育、対象入所者の現状及び廃止に向けた取組みは必ず記載すること。
B32: 安全管理体制 | D32: □ | E32: ・ | F32: 理由書 | H32: 任意の様式で可。
D33: □ | E33: ・ | F33: 運営基準における事故の発生又は再発を防止するための措置を講じるための改善報告書 | H33: 任意の様式で可（理事長名）。ただし、今後の改善計画（指針の整備・体制の整備・従業者研修計画）を必ず記載すること。
D34: □ | E34: ・ | F34: 安全管理対策体制に関する確認書＜参考様式11＞ | H34: 担当者未設置に伴う減算を解消する場合。研修の欄以外を埋めること。
B35: 高齢者虐待防止措置実施の有無 | D35: □ | E35: ・ | F35: 理由書 | H35: 任意の様式で可。
D36: □ | E36: ・ | F36: 高齢者虐待防止措置に係る改善計画又は改善報告書 | H36: 任意の様式で可（代表者名）。ただし、未措置事項（指針、委員会、研修、担当者の設置）の現状及び改善に向けた取組みは必ず記載すること。
B37: 業務継続計画策定の有無 | D37: □ | E37: ・ | F37: 理由書 | H37: 任意の様式で可。
D38: □ | E38: ・ | F38: 業務継続計画に係る改善計画又は改善報告書 | H38: 任意の様式で可（代表者名）。ただし、未措置事項（BPC策定、訓練、研修）の現状及び改善に向けた取組みは必ず記載すること。
D39: □ | E39: ・ | F39: 業務継続計画（BPC） | H39: BCP未策定に伴う減算を解消する場合。感染症及び災害の項目を設定したもの。
B40: 栄養ケア・マネジメントの実施の有無 | C40: □ | D40: □ | E40: ・ | F40: 栄養マネジメント体制に関する届出書＜別紙38＞
D41: □ | E41: ・ | F41: 従業者の勤務の体制及び勤務形態一覧表＜別紙７＞又はこれに準じた勤務割表等 | H41: 算定開始する月の分。
C42: □ | D42: □ | E42: ・ | F42: 栄養士及び管理栄養士の資格証（写）
B43: 日常生活継続支援加算 ＊開設時からの算定は不可 | D43: □ | E43: ・ | F43: 日常生活継続支援加算に関する届出書＜別紙37＞
...

Sheet チェック表
A1: 介護給付費算定に係る体制等に関する届出書・変更届出書 チェック表 （地域密着型介護老人福祉施設入所者生活介護）
A6: ※ 加算が算定されなくなる場合、欠員が解消される場合等についても同様に届け出てください。
A7: 届出事項 | C7: 開設 | D7: 加算 追加 ・ 加算 削除 | E7: 添 付 書 類 | H7: 備 考
A8: 共 通 事 項 （必ず必要な書類） | C8: □ | D8: □ | E8: ・ | F8: 介護給付費算定に係る体制等に関する届出書・変更届出書＜別紙3-2＞
C9: □ | D9: □ | E9: ・ | F9: 本チェック表 | H9: 自主点検したもの（チェック済）を提出すること。
C10: □ | D10: □ | E10: ・ | F10: 介護給付費算定に係る体制等状況一覧表＜別紙1-3＞ | H10: 別シートの「備考（1-3）」も必ず確認すること。
D11: □ | E11: ・ | F11: 運営規程 | H11: 介護給付費算定に係る体制等に関する変更に伴い，改正したもの。介護の内容・利用料金の変更等について記載が必要。
F12: ※ | G12: 変更後の運営規程又は新旧対照表
B15: LIFEへの登録 | C15: □ | D15: □ | H15: 別紙１(届)の変更内容欄にLIFE登録日を記入すること。
B16: 割引をする場合 | C16: □ | D16: □ | E16: ・ | F16: 指定居宅サービス事業者等による介護給付費の割引に係る割引率の設定について＜別紙５-2＞
B17: 施設等の区分
B18: 夜間勤務条件基準 | D18: □ | E18: ・ | F18: 理由書 | H18: 任意の様式で可。
D19: □ | E19: ・ | F19: 従業者の勤務の体制及び勤務形態一覧表＜別紙７＞又はこれに準じた勤務割表等
B20: 職員の欠員による減算の状況 | D20: □ | E20: ・ | F20: 理由書 | H20: 任意の様式で可。
D21: □ | E21: ・ | F21: 従業者の勤務の体制及び勤務形態一覧表＜別紙７＞又はこれに準じた勤務割表等 | H21: 看護職員、介護職員、介護支援専門員の配置状況がわかるもの。
D22: □ | E22: ・ | F22: 組織体制図 | H22: 任意の様式で可。
D23: □ | E23: ・ | F23: 該当する資格証（写） | H23: 欠員が解消される場合。
B24: ユニットケア体制
B25: 身体拘束廃止取組 の有無 | D25: □ | E25: ・ | F25: 理由書 | H25: 任意の様式で可。
D26: □ | E26: ・ | F26: 身体拘束改善計画又は身体拘束改善報告 | H26: 任意の様式で可（理事長名）。ただし、経緯、今後の改善策・職員教育、対象入所者の現状及び廃止に向けた取組みは必ず記載すること。
B27: 安全管理体制 | D27: □ | E27: ・ | F27: 理由書 | H27: 任意の様式で可。
D28: □ | E28: ・ | F28: 運営基準における事故の発生又は再発を防止するための措置を講じるための改善報告書 | H28: 任意の様式で可（理事長名）。ただし、今後の改善計画（指針の整備・体制の整備・従業者研修計画）を必ず記載すること。
D29: □ | E29: ・ | F29: 安全対策体制に関する確認書＜参考様式11＞ | H29: 担当者未設置に伴う減算を解消する場合。研修の欄以外を埋めること。
B30: 高齢者虐待防止措置実施の有無 | D30: □ | E30: ・ | F30: 理由書 | H30: 任意の様式で可。
D31: □ | E31: ・ | F31: 高齢者虐待防止措置に係る改善計画又は改善報告書 | H31: 任意の様式で可（代表者名）。ただし、未措置事項（指針、委員会、研修、担当者の設置）の現状及び改善に向けた取組みは必ず記載すること。
B32: 業務継続計画策定の有無 | D32: □ | E32: ・ | F32: 理由書 | H32: 任意の様式で可。
D33: □ | E33: ・ | F33: 業務継続計画に係る改善計画又は改善報告書 | H33: 任意の様式で可（代表者名）。ただし、未措置事項（BCP策定、訓練、研修）の現状及び改善に向けた取組みは必ず記載すること。
D34: □ | E34: ・ | F34: 業務継続計画（BCP） | H34: BCP未策定に伴う減算を解消する場合。感染症及び災害の項目を設定したもの。
B35: 栄養ケア・マネジメントの実施の有無 | C35: □ | D35: □ | E35: ・ | F35: 栄養マネジメント体制に関する届出書＜別紙38＞
D36: □ | E36: ・ | F36: 従業者の勤務の体制及び勤務形態一覧表＜別紙７＞又はこれに準じた勤務割表等 | H36: 算定開始する月の分。
C37: □ | D37: □ | E37: ・ | F37: 栄養士及び管理栄養士の資格証（写）
B38: 日常生活継続支援加算 ＊開設時からの算定は不可 | D38: □ | E38: ・ | F38: 日常生活継続支援加算に関する届出書＜別紙37＞
D39: □ | E39: ・ | F39: 日常生活継続支援加算に関する確認書①＜参考様式2-1＞ | H39: 前６月又は前12月における別紙37の人数等を計算したもの
D40: □ | E40: ・ | F40: 有資格者等の割合の参考計算書＜別紙７-2＞又はこれに準じた計算資料 | H40: 届出前３か月の介護職員のうち介護福祉士の常勤換算数を平均したもの
B41: テクノロジーの導入 （日常生活継続支援加算関係） | D41: □ | E41: ・ | F41: テクノロジーの導入による日常生活継続支援加算に関する届出書＜別紙37-2＞
D42: □ | E42: ・ | F42: 利用者の安全やケアの質の確保、職員の負担の軽減を図るための委員会の議事概要 | H42: 導入後から３月以上、継続して定期的に実施していることがわかるようにすること。
D43: □ | E43: ・ | F43: 介護機器の使用方法の講習やヒヤリ・ハット事例等の周知、その事例を通じた再発防止策の実習等を含む職員研修の記録 | H43: 算定開始月時点で予定の場合は、予定している研修等の概要がわかるもの。
D44: □ | E44: ・ | F44: 算定開始月を含む年間又は年度研修計画 若しくは介護機器の使用方法の講習等を定期的かつ臨機応変に実施するためのフロー（手順書）等 | H44: 上記の研修等に相当するもの（複数の研修や通常業務の手順等を組み合わせて内容を網羅する場合は、どの研修等で何を実施するのか）がわかるようにすること。
B45: 看護体制加算 | C45: □ | D45: □ | E45: ・ | F45: 看護体制加算に係る届出書＜別紙25-2＞
D46: □ | E46: ・ | F46: 従業者の勤務の体制及び勤務形態一覧表＜別紙７＞又はこれに準じた勤務割表等 | H46: 算定開始する月の分。
...

Sheet 届出書 別紙3－2
B2: （別紙３－２）
AB3: 受付番号
B5: 介護給付費算定に係る体制等に関する届出書
B6: ＜地域密着型サービス事業者・地域密着型介護予防サービス事業者用＞＜居宅介護支援事業者・介護予防支援事業者用＞
AE7: 令和 | AH7: 年 | AK7: 月 | AN7: 日
H8: 嘉麻市長 | K8: 殿
AA9: 所在地
Z10: 名称
AA11: 代表者
C12: このことについて、以下のとおり関係書類を添えて届け出ます。
B14: 届 出 者 | C14: フリガナ
C15: 名 称
C16: 主たる事務所の所在地 | M16: (郵便番号 | T16: ー | X16: ）
Q17: 県 | V17: 群市
M18: (ビルの名称等)
C19: 連 絡 先 | M19: 電話番号 | AB19: FAX番号
C20: 法人である場合その種別 | V20: 法人所轄庁
C21: 代表者の職・氏名 | M21: 職名 | AB21: 氏名
C22: 代表者の住所 | M22: (郵便番号 | T22: ー | X22: ）
Q23: 県 | V23: 群市
B25: 事業所の状況 | C25: フリガナ
C26: 事業所・施設の名称
C27: 主たる事業所の所在地 | M27: (郵便番号 | T27: ー | X27: ）
Q28: 県 | V28: 群市
C30: 連 絡 先 | M30: 電話番号 | AB30: FAX番号
C31: 主たる事業所の所在地以外の場所で一部実施する場合の出張所等の所在地 | M31: (郵便番号 | T31: ー | X31: ）
Q32: 県 | V32: 群市
C34: 連 絡 先 | M34: 電話番号 | AB34: FAX番号
C35: 管理者の氏名
C36: 管理者の住所 | M36: (郵便番号 | T36: ー | X36: ）
Q37: 県 | V37: 群市
B39: 届出を行う事業所の状況 | C39: 同一所在地において行う 事業等の種類 | M39: 実施事業 | O39: 指定年 | R39: 異動等の区分 | AA39: 異動（予定） | AE39: 異動項目 | AI39: 市町村が定める単位の有無
O40: 月日 | AA40: 年月日 | AE40: (※変更の場合) | AI40: (市町村記載)
C41: 地域密着型サービス | E41: 夜間対応型訪問介護 | R41: □ | S41: 1新規 | U41: □ | V41: 2変更 | X41: □ | Y41: 3終了 | AI41: □ | AJ41: 1 有 | AL41: □ | AM41: 2 無
E42: 地域密着型通所介護 | R42: □ | S42: 1新規 | U42: □ | V42: 2変更 | X42: □ | Y42: 3終了 | AI42: □ | AJ42: 1 有 | AL42: □ | AM42: 2 無
E43: 療養通所介護 | R43: □ | S43: 1新規 | U43: □ | V43: 2変更 | X43: □ | Y43: 3終了 | AI43: □ | AJ43: 1 有 | AL43: □ | AM43: 2 無
E44: 認知症対応型通所介護 | R44: □ | S44: 1新規 | U44: □ | V44: 2変更 | X44: □ | Y44: 3終了 | AI44: □ | AJ44: 1 有 | AL44: □ | AM44: 2 無
E45: 小規模多機能型居宅介護 | R45: □ | S45: 1新規 | U45: □ | V45: 2変更 | X45: □ | Y45: 3終了 | AI45: □ | AJ45: 1 有 | AL45: □ | AM45: 2 無
E46: 認知症対応型共同生活介護 | R46: □ | S46: 1新規 | U46: □ | V46: 2変更 | X46: □ | Y46: 3終了 | AI46: □ | AJ46: 1 有 | AL46: □ | AM46: 2 無
E47: 地域密着型特定施設入居者生活介護 | R47: □ | S47: 1新規 | U47: □ | V47: 2変更 | X47: □ | Y47: 3終了 | AI47: □ | AJ47: 1 有 | AL47: □ | AM47: 2 無
...

Sheet 別紙1-3 
A2: （別紙１－３）
A3: 介 護 給 付 費 算 定 に 係 る 体 制 等 状 況 一 覧 表 （地域密着型サービス・地域密着型介護予防サービス）
S5: 事 業 所 番 号
A7: 提供サービス | D7: 施設等の区分 | F7: 人員配置区分 | H7: そ の 他 該 当 す る 体 制 等 | Y7: LIFEへの登録 | AC7: 割 引
A8: 各サービス共通 | H8: 地域区分 | I8: □ | J8: １ １級地 | M8: □ | N8: ６ ２級地 | Q8: □ | R8: ７ ３級地 | U8: □ | V8: ２ ４級地
I9: □ | J9: ３ ５級地 | M9: □ | N9: ４ ６級地 | Q9: □ | R9: ９ ７級地 | U9: □ | V9: ５ その他
H10: 夜間勤務条件基準 | I10: □ | J10: １ 基準型 | M10: □ | N10: ６ 減算型 | Y10: □ | Z10: １ なし | AC10: □ | AD10: １ なし
H11: 職員の欠員による減算の状況 | I11: □ | J11: １ なし | M11: □ | N11: ２ 看護職員 | Q11: □ | R11: ３ 介護職員 | Y11: □ | Z11: ２ あり | AC11: □ | AD11: ２ あり
I12: □ | J12: ４ 介護支援専門員
H13: ユニットケア体制 | I13: □ | J13: １ 対応不可 | M13: □ | N13: ２ 対応可
H14: 身体拘束廃止取組の有無 | I14: □ | J14: １ 減算型 | M14: □ | N14: ２ 基準型
H15: 安全管理体制 | I15: □ | J15: １ 減算型 | M15: □ | N15: ２ 基準型
H16: 高齢者虐待防止措置実施の有無 | I16: □ | J16: １ 減算型 | M16: □ | N16: ２ 基準型
H17: 業務継続計画策定の有無 | I17: □ | J17: １ 減算型 | M17: □ | N17: ２ 基準型
H18: 栄養ケア・マネジメントの 実施の有無 | I18: □ | J18: １ なし | L18: □ | M18: ２ あり
H20: 日常生活継続支援加算 | I20: □ | J20: １ なし | L20: □ | M20: ２ あり
H21: テクノロジーの導入 （日常生活継続支援加算関係） | I21: □ | J21: １ なし | L21: □ | M21: ２ あり
H23: 看護体制加算Ⅰ | I23: □ | J23: １ なし | L23: □ | M23: ２ あり
H24: 看護体制加算Ⅱ | I24: □ | J24: １ なし | L24: □ | M24: ２ あり
H25: 夜勤職員配置加算 | I25: □ | J25: １ なし | L25: □ | M25: ２ 加算Ⅰ・加算Ⅱ | Q25: □ | R25: ３ 加算Ⅲ・加算Ⅳ
H26: テクノロジーの導入 （夜勤職員配置加算関係） | I26: □ | J26: １ なし | L26: □ | M26: ２ あり
H28: 準ユニットケア体制 | I28: □ | J28: １ 対応不可 | M28: □ | N28: ２ 対応可
D29: □ | E29: １ 地域密着型介護老人福祉施設 | H29: 生活機能向上連携加算 | I29: □ | J29: １ なし | L29: □ | M29: ３ 加算Ⅰ | O29: □ | P29: ２ 加算Ⅱ
C30: 地域密着型 | D30: □ | E30: ２ サテライト型地域密着型 | F30: □ | G30: １ 経過的施設以外 | H30: 個別機能訓練加算 | I30: □ | J30: １ なし | L30: □ | M30: ３ 加算Ⅰ | O30: □ | P30: ４ 加算Ⅱ | R30: □ | S30: ５ 加算Ⅲ
A31: □ | B31: 54 | C31: 介護老人福祉施設 | E31: 介護老人福祉施設 | F31: □ | G31: ２ 経過的施設 | H31: ADL維持等加算〔申出〕の有無 | I31: □ | J31: １ なし | L31: □ | M31: ２ あり
C32: 入所者生活介護 | D32: □ | E32: ３ ユニット型地域密着型介護老人福祉施設 | H32: 若年性認知症入所者受入加算 | I32: □ | J32: １ なし | L32: □ | M32: ２ あり
D33: □ | E33: ４ サテライト型ユニット型 | H33: 常勤専従医師配置 | I33: □ | J33: １ なし | L33: □ | M33: ２ あり
E34: 地域密着型介護老人福祉施設 | H34: 精神科医師定期的療養指導 | I34: □ | J34: １ なし | L34: □ | M34: ２ あり
H35: 障害者生活支援体制 | I35: □ | J35: １ なし | L35: □ | M35: ２ 加算Ⅰ | O35: □ | P35: ３ 加算Ⅱ
H36: 栄養マネジメント強化体制 | I36: □ | J36: １ なし | L36: □ | M36: ２ あり
H37: 療養食加算 | I37: □ | J37: １ なし | L37: □ | M37: ２ あり
H38: 配置医師緊急時対応加算 | I38: □ | J38: １ なし | L38: □ | M38: ２ あり
H39: 看取り介護体制 | I39: □ | J39: １ なし | L39: □ | M39: ２ 加算Ⅰ | O39: □ | P39: ３ 加算Ⅱ
H40: 在宅・入所相互利用体制 | I40: □ | J40: １ 対応不可 | M40: □ | N40: ２ 対応可
H41: 小規模拠点集合体制 | I41: □ | J41: １ なし | L41: □ | M41: ２ あり
H42: 認知症専門ケア加算 | I42: □ | J42: １ なし | L42: □ | M42: ２ 加算Ⅰ | O42: □ | P42: ３ 加算Ⅱ
H43: 認知症チームケア推進加算 | I43: □ | J43: １ なし | L43: □ | M43: ２ 加算Ⅰ | O43: □ | P43: ３ 加算Ⅱ
H44: 褥瘡マネジメント加算 | I44: □ | J44: １ なし | L44: □ | M44: ２ あり
H45: 排せつ支援加算 | I45: □ | J45: １ なし | L45: □ | M45: ２ あり
H46: 自立支援促進加算 | I46: □ | J46: １ なし | L46: □ | M46: ２ あり
...

Sheet 備考1-3
B1: 備考 （別紙１－３）地域密着型サービス・地域密着型介護予防サービス
B3: 備考 １ 事業所・施設において、施設等の区分欄、人員配置区分欄、LIFE（科学的介護情報システム（Long-term care Information system For Evidence）への登録欄、その他該当する体制等欄に掲げる項目 につき該当する番号の横の□を■にしてください。
B4: ２ 「施設等の区分」及び「その他該当する体制等」欄で施設・設備等に係る加算（減算）の届出については、「平面図」（別紙６）を添付してください。
B5: ３ 人員配置に係る届出については、勤務体制がわかる書類（「従業者の勤務の体制及び勤務形態一覧表」（別紙７）又はこれに準じた勤務割表等）を添付してください。
B6: ４ 「割引｣を｢あり｣と記載する場合は「地域密着型サービス事業者等による介護給付費の割引に係る割引率の設定について」（別紙5－2）を添付してください。
B7: ５ 「訪問看護体制減算」、「看護体制強化加算」及び「サテライト体制未整備減算」については、「看護体制及びサテライト体制に係る届出書」（別紙49）を添付してください。
B8: ６ 「緊急時訪問看護加算」「緊急時対応加算」「特別管理体制」「ターミナルケア体制」については、「緊急時（介護予防）訪問看護加算・緊急時対応加算・特別管理体制・ターミナルケア体制に係る届出書」（別紙16）を添付してください。
B9: ７ 「総合マネジメント体制強化加算」については、「総合マネジメント体制強化加算に係る届出書」（別紙42）を添付してください。
B10: ８ 「認知症専門ケア加算」については、「認知症専門ケア加算に係る届出書（訪問介護、（介護予防）訪問入浴介護、定期巡回・随時対応型訪問介護看護、夜間対応型訪問介護）」（別紙12）又は 「認知症専門ケア加算に係る届出書（（介護予防）短期入所生活介護、（介護予防）短期入所療養介護、（介護予防）特定施設入居者生活介護、（介護予防）認知症対応型共同生活介護、地域密着型特定施設入居者生活介護、 地域密着型介護老人福祉施設入所者生活介護、介護老人福祉施設、介護老人保健施設、介護医療院）」（別紙12-2）」を添付してください。
B11: また、「認知症チームケア推進加算」については、「認知症チームケア推進加算に係る届出書」（別紙40）を添付してください。
B12: ９ 「24時間通報対応加算」については、「24時間通報対応加算に係る届出書」（別紙43）を添付してください。
B13: 10 「その他該当する体制等」欄で人員配置に係る加算（減算）の届出については、それぞれ加算（減算）の要件となる職員の配置状況や勤務体制がわかる書類を添付してください。
... B43: 備考 １ この表は、事業所所在地以外の場所で一部事業を実施する出張所等がある場合について記載することとし、複数出張所等を有する場合は出張所ごとに提出してください。

Sheet 【結合済】別紙１－２
A2: （別紙１－２）
A3: 介 護 給 付 費 算 定 に 係 る 体 制 等 状 況 一 覧 表 （介護予防サービス）
S5: 事 業 所 番 号
A7: 提供サービス | D7: 施設等の区分 | F7: 人員配置区分 | H7: そ の 他 該 当 す る 体 制 等 | Y7: LIFEへの登録 | AC7: 割 引
A8: 各サービス共通 | H8: 地域区分 | I8: □ | J8: １ １級地 | M8: □ | N8: ６ ２級地 | Q8: □ | R8: ７ ３級地 | U8: □ | V8: ２ ４級地
I9: □ | J9: ３ ５級地 | M9: □ | N9: ４ ６級地 | Q9: □ | R9: ９ ７級地 | U9: □ | V9: ５ その他
H10: 高齢者虐待防止措置実施の有無 | I10: □ | J10: １ 減算型 | M10: □ | N10: ２ 基準型 | Y10: □ | Z10: １ なし | AC10: □ | AD10: １ なし
H11: 特別地域加算 | I11: □ | J11: １ なし | L11: □ | M11: ２ あり | Y11: □ | Z11: ２ あり | AC11: □ | AD11: ２ あり
H12: 中山間地域等における小規模事業所 加算（地域に関する状況） | I12: □ | J12: １ 非該当 | M12: □ | N12: ２ 該当
H14: 中山間地域等における小規模事業所 加算（規模に関する状況） | I14: □ | J14: １ 非該当 | M14: □ | N14: ２ 該当
A15: □ | B15: 62 | C15: 介護予防訪問入浴介護
H16: 認知症専門ケア加算 | I16: □ | J16: １ なし | L16: □ | M16: ２ 加算Ⅰ | O16: □ | P16: ３ 加算Ⅱ
H17: サービス提供体制強化加算 | I17: □ | J17: １ なし | L17: □ | M17: ４ 加算Ⅰ | O17: □ | P17: ３ 加算Ⅱ | R17: □ | S17: ５ 加算Ⅲ
H18: 介護職員処遇改善加算 | I18: □ | J18: １ なし | L18: □ | M18: ６ 加算Ⅰ | O18: □ | P18: ５ 加算Ⅱ | R18: □ | S18: ２ 加算Ⅲ
H19: 介護職員等特定処遇改善加算 | I19: □ | J19: １ なし | L19: □ | M19: ２ 加算Ⅰ | O19: □ | P19: ３ 加算Ⅱ
H20: 介護職員等ベースアップ等支援加算 | I20: □ | J20: １ なし | L20: □ | M20: ２ あり
H21: 特別地域加算 | I21: □ | J21: １ なし | L21: □ | M21: ２ あり | Y21: □ | Z21: １ なし
H22: 中山間地域等における小規模事業所 加算（地域に関する状況） | I22: □ | J22: １ 非該当 | M22: □ | N22: ２ 該当 | Y22: □ | Z22: ２ あり
H24: 中山間地域等における小規模事業所 加算（規模に関する状況） | I24: □ | J24: １ 非該当 | M24: □ | N24: ２ 該当
A25: □ | B25: 63 | C25: 介護予防訪問看護 | D25: □ | E25: １ 訪問看護ステーション
D26: □ | E26: ２ 病院又は診療所 | H26: 緊急時介護予防訪問看護加算 | I26: □ | J26: １ なし | L26: □ | M26: ２ あり
H27: 特別管理体制 | I27: □ | J27: １ 対応不可 | M27: □ | N27: ２ 対応可
H28: 看護体制強化加算 | I28: □ | J28: １ なし | L28: □ | M28: ２ あり
H29: サービス提供体制強化加算 | I29: □ | J29: １ なし | L29: □ | M29: ３ 加算Ⅰ | O29: □ | P29: ４ 加算Ⅱ
H30: 特別地域加算 | I30: □ | J30: １ なし | L30: □ | M30: ２ あり | Y30: □ | Z30: １ なし
H31: 中山間地域等における小規模事業所加算（地域に関する状況） | I31: □ | J31: １ 非該当 | M31: □ | N31: ２ 該当 | Y31: □ | Z31: ２ あり
D32: □ | E32: １ 病院又は診療所
A33: □ | B33: 64 | C33: 介護予防訪問 | D33: □ | E33: ２ 介護老人保健施設 | H33: 中山間地域等における小規模事業所加算（規模に関する状況） | I33: □ | J33: １ 非該当 | M33: □ | N33: ２ 該当
C34: リハビリテーション | D34: □ | E34: ３ 介護医療院
H35: サービス提供体制強化加算 | I35: □ | J35: １ なし | L35: □ | M35: ３ 加算Ⅰ | O35: □ | P35: ４ 加算Ⅱ
H36: 特別地域加算 | I36: □ | J36: １ なし | L36: □ | M36: ２ あり | Y36: □ | Z36: １ なし
H37: 中山間地域等における小規模事業所加算（地域に関する状況） | I37: □ | J37: １ 非該当 | M37: □ | N37: ２ 該当 | Y37: □ | Z37: ２ あり
A38: □ | B38: 34 | C38: 介護予防
C39: 居宅療養管理指導 | H39: 中山間地域等における小規模事業所加算（規模に関する状況） | I39: □ | J39: １ 非該当 | M39: □ | N39: ２ 該当
H41: 職員の欠員による減算の状況 | I41: □ | J41: １ なし | M41: □ | N41: ２ 医師 | Q41: □ | R41: ３ 看護職員 | U41: □ | V41: ４ 介護職員 | Y41: □ | Z41: １ なし
I42: □ | J42: ５ 理学療法士 | M42: □ | N42: ６ 作業療法士 | Q42: □ | R42: ７ 言語聴覚士 | Y42: □ | Z42: ２ あり
H43: 生活行為向上ﾘﾊﾋﾞﾘﾃｰｼｮﾝ実施加算 | I43: □ | J43: １ なし | L43: □ | M43: ２ あり
H44: 若年性認知症利用者受入加算 | I44: □ | J44: １ なし | L44: □ | M44: ２ あり
H45: 運動器機能向上体制 | I45: □ | J45: １ なし | L45: □ | M45: ２ あり
D46: □ | E46: １ 病院又は診療所 | H46: 栄養アセスメント・栄養改善体制 | I46: □ | J46: １ なし | L46: □ | M46: ２ あり
...

Sheet 【結合済】備考（1－2）
B1: 備考 （別紙１－２）介護予防サービス
B3: 備考 １ 事業所・施設において、施設等の区分欄、人員配置区分欄、LIFE（科学的介護情報システム（Long-term care Information system For Evidence）への登録欄、その他該当する体制等欄に掲げる項目につき該当する番号の横の□を■にしてください。
B4: ２ 「施設等の区分」及び「その他該当する体制等」欄で施設・設備等に係る加算（減算）の届出については、「平面図」（別紙６）を添付してください。
B5: ３ 介護老人保健施設における「施設等の区分」及び「在宅復帰・在宅療養支援機能加算」に係る届出については、「介護老人保健施設（基本型・在宅強化型）の基本施設サービス費及び在宅復帰・在宅療養支援機能加算に係る届出書」
B6: （令和６年９月サービス提供分までは別紙28、令和６年10月サービス提供分以降は別紙29-2）又は「介護老人保健施設（療養型）の基本施設サービス費及び療養体制維持特別加算（Ⅱ）に係る届出書」（別紙29-3）を添付してください。
B7: ４ 病院又は診療所における短期入所療養介護（療養機能強化型以外）における「施設等の区分」に係る届出については、「病院又は診療所における短期入所療養介護（療養機能強化型以外）の基本施設サービス費に係る届出書」（別紙29－4）を添付してください。
B8: ５ 介護医療院における「施設等の区分」に係る届出ついては、「Ⅰ型介護医療院の基本施設サービス費に係る届出」（別紙30）又は「Ⅱ型介護医療院の基本施設サービス費に係る届出」（別紙30-2）を添付してください。
B9: ６ 人員配置に係る届出については、勤務体制がわかる書類（「従業者の勤務の体制及び勤務形態一覧表」（別紙７）又はこれに準じた勤務割表等）を添付してください。
B10: ７ 「割引｣を｢あり｣と記載する場合は「指定居宅サービス事業所等による介護給付費の割引に係る割引率の設定について」（別紙５）を添付してください。
B11: ８ 「認知症専門ケア加算」については、「認知症専門ケア加算に係る届出書（訪問介護、（介護予防）訪問入浴介護、定期巡回・随時対応型訪問介護看護、夜間対応型訪問介護）」（別紙12）又は 「認知症専門ケア加算に係る届出書（（介護予防）短期入所生活介護、（介護予防）短期入所療養介護、（介護予防）特定施設入居者生活介護、（介護予防）認知症対応型共同生活介護、地域密着型特定施設入居者生活介護、 地域密着型介護老人福祉施設入所者生活介護、介護老人福祉施設、介護老人保健施設、介護医療院）」（別紙12－2）」を添付してください。
B12: ９ 「緊急時介護予防訪問看護加算」「特別管理体制」については、「緊急時（介護予防）訪問看護加算・特別管理体制・ターミナルケア体制に係る届出書」（別紙16）を添付してください。
B13: 10 「看護体制強化加算」については、「看護体制強化加算に係る届出書」（別紙19）を添付してください。
... B47: 備考 １ この表は、事業所所在地以外の場所で一部事業を実施する出張所等がある場合について記載することとし、複数出張所等を有する場合は出張所ごとに提出してください。

Sheet 【結合済】別紙１－３
A2: （別紙１－３）
A3: 介 護 給 付 費 算 定 に 係 る 体 制 等 状 況 一 覧 表 （地域密着型サービス・地域密着型介護予防サービス）
S5: 事 業 所 番 号
A7: 提供サービス | D7: 施設等の区分 | F7: 人員配置区分 | H7: そ の 他 該 当 す る 体 制 等 | Y7: LIFEへの登録 | AC7: 割 引
A8: 各サービス共通 | H8: 地域区分 | I8: □ | J8: １ １級地 | M8: □ | N8: ６ ２級地 | Q8: □ | R8: ７ ３級地 | U8: □ | V8: ２ ４級地
I9: □ | J9: ３ ５級地 | M9: □ | N9: ４ ６級地 | Q9: □ | R9: ９ ７級地 | U9: □ | V9: ５ その他
H10: 高齢者虐待防止措置実施の有無 | I10: □ | J10: １ 減算型 | M10: □ | N10: ２ 基準型 | Y10: □ | Z10: １ なし | AC10: □ | AD10: １ なし
H11: 特別地域加算 | I11: □ | J11: １ なし | L11: □ | M11: ２ あり | Y11: □ | Z11: ２ あり | AC11: □ | AD11: ２ あり
H12: 中山間地域等における小規模事業所加算（地域に関する状況） | I12: □ | J12: １ 非該当 | M12: □ | N12: ２ 該当
H14: 中山間地域等における小規模事業所加算（規模に関する状況） | I14: □ | J14: １ 非該当 | M14: □ | N14: ２ 該当
H16: 緊急時訪問看護加算 | I16: □ | J16: １ なし | L16: □ | M16: ３ 加算Ⅰ | O16: □ | P16: ２ 加算Ⅱ
A17: □ | B17: 76 | C17: 定期巡回・随時対応型 | D17: □ | E17: １ 一体型 | H17: 特別管理体制 | I17: □ | J17: １ 対応不可 | M17: □ | N17: ２ 対応可
C18: 訪問介護看護 | D18: □ | E18: ２ 連携型 | H18: ターミナルケア体制 | I18: □ | J18: １ なし | L18: □ | M18: ２ あり
H19: 総合マネジメント体制強化加算 | I19: □ | J19: １ なし | L19: □ | M19: ３ 加算Ⅰ | O19: □ | P19: ２ 加算Ⅱ
H20: 認知症専門ケア加算 | I20: □ | J20: １ なし | L20: □ | M20: ２ 加算Ⅰ | O20: □ | P20: ３ 加算Ⅱ
H21: 口腔連携強化加算 | I21: □ | J21: １ なし | L21: □ | M21: ２ あり
H22: サービス提供体制強化加算 | I22: □ | J22: １ なし | L22: □ | M22: ６ 加算Ⅰ | O22: □ | P22: ５ 加算Ⅱ | R22: □ | S22: ７ 加算Ⅲ
H23: 介護職員処遇改善加算 | I23: □ | J23: １ なし | L23: □ | M23: ６ 加算Ⅰ | O23: □ | P23: ５ 加算Ⅱ | R23: □ | S23: ２ 加算Ⅲ
H24: 介護職員等特定処遇改善加算 | I24: □ | J24: １ なし | L24: □ | M24: ２ 加算Ⅰ | O24: □ | P24: ３ 加算Ⅱ
H25: 介護職員等ベースアップ等支援加算 | I25: □ | J25: １ なし | L25: □ | M25: ２ あり
H26: 高齢者虐待防止措置実施の有無 | I26: □ | J26: １ 減算型 | M26: □ | N26: ２ 基準型 | Y26: □ | Z26: １ なし | AC26: □ | AD26: １ なし
H27: 24時間通報対応加算 | I27: □ | J27: １ 対応不可 | M27: □ | N27: ２ 対応可 | Y27: □ | Z27: ２ あり | AC27: □ | AD27: ２ あり
H28: 特別地域加算 | I28: □ | J28: １ なし | L28: □ | M28: ２ あり
H29: 中山間地域等における小規模事業所 加算（地域に関する状況） | I29: □ | J29: １ 非該当 | M29: □ | N29: ２ 該当
A31: □ | B31: 71 | C31: 夜間対応型訪問介護 | D31: □ | E31: １ Ⅰ型 | H31: 認知症専門ケア加算 | I31: □ | J31: １ なし | L31: □ | M31: ２ 加算Ⅰ | O31: □ | P31: ３ 加算Ⅱ
D32: □ | E32: ２ Ⅱ型 | H32: サービス提供体制強化加算 | I32: □ | J32: １ なし | L32: □ | M32: ６ 加算Ⅰ（イの場合） | R32: □ | S32: ４ 加算Ⅱ（イ場合）
I33: □ | J33: ７ 加算Ⅲ（イの場合） | O33: □ | P33: ８ 加算Ⅰ（ロの場合）
I34: □ | J34: ５ 加算Ⅱ（ロの場合） | O34: □ | P34: ９ 加算Ⅲ（ロの場合）
H35: 介護職員等特定処遇改善加算 | I35: □ | J35: １ なし | L35: □ | M35: ２ 加算Ⅰ | O35: □ | P35: ３ 加算Ⅱ
H36: 介護職員等ベースアップ等支援加算 | I36: □ | J36: １ なし | L36: □ | M36: ２ あり
H37: 職員の欠員による減算の状況 | I37: □ | J37: １ なし | M37: □ | N37: ２ 看護職員 | Q37: □ | R37: ３ 介護職員 | Y37: □ | Z37: １ なし | AC37: □ | AD37: １ なし
H38: 高齢者虐待防止措置実施の有無 | I38: □ | J38: １ 減算型 | M38: □ | N38: ２ 基準型 | Y38: □ | Z38: ２ あり | AC38: □ | AD38: ２ あり
H39: 業務継続計画策定の有無 | I39: □ | J39: １ 減算型 | M39: □ | N39: ２ 基準型
H40: 感染症又は災害の発生を理由とする利用者数の減少が一定以上生じている場合の対応 | I40: □ | J40: １ なし | L40: □ | M40: ２ あり
H43: 時間延長サービス体制 | I43: □ | J43: １ 対応不可 | M43: □ | N43: ２ 対応可
H44: 共生型サービスの提供 （生活介護事業所） | I44: □ | J44: １ なし | L44: □ | M44: ２ あり
H46: 共生型サービスの提供 （自立訓練事業所） | I46: □ | J46: １ なし | L46: □ | M46: ２ あり
H48: 共生型サービスの提供 （児童発達支援事業所） | I48: □ | J48: １ なし | L48: □ | M48: ２ あり
H49: 共生型サービスの提供 （放課後等デイサービス事業所） | I49: □ | J49: １ なし | L49: □ | M49: ２ あり
H51: 生活相談員配置等加算 | I51: □ | J51: １ なし | L51: □ | M51: ２ あり
...

Sheet 【結合済】備考（1－3）
B1: 備考 （別紙１－３）地域密着型サービス・地域密着型介護予防サービス
B3: 備考 １ 事業所・施設において、施設等の区分欄、人員配置区分欄、LIFE（科学的介護情報システム（Long-term care Information system For Evidence）への登録欄、その他該当する体制等欄に掲げる項目 につき該当する番号の横の□を■にしてください。
B4: ２ 「施設等の区分」及び「その他該当する体制等」欄で施設・設備等に係る加算（減算）の届出については、「平面図」（別紙６）を添付してください。
B5: ３ 人員配置に係る届出については、勤務体制がわかる書類（「従業者の勤務の体制及び勤務形態一覧表」（別紙７）又はこれに準じた勤務割表等）を添付してください。
B6: ４ 「割引｣を｢あり｣と記載する場合は「地域密着型サービス事業者等による介護給付費の割引に係る割引率の設定について」（別紙5－2）を添付してください。
B7: ５ 「訪問看護体制減算」、「看護体制強化加算」及び「サテライト体制未整備減算」については、「看護体制及びサテライト体制に係る届出書」（別紙49）を添付してください。
B8: ６ 「緊急時訪問看護加算」「緊急時対応加算」「特別管理体制」「ターミナルケア体制」については、「緊急時（介護予防）訪問看護加算・緊急時対応加算・特別管理体制・ターミナルケア体制に係る届出書」（別紙16）を添付してください。
B9: ７ 「総合マネジメント体制強化加算」については、「総合マネジメント体制強化加算に係る届出書」（別紙42）を添付してください。
B10: ８ 「認知症専門ケア加算」については、「認知症専門ケア加算に係る届出書（訪問介護、（介護予防）訪問入浴介護、定期巡回・随時対応型訪問介護看護、夜間対応型訪問介護）」（別紙12）又は 「認知症専門ケア加算に係る届出書（（介護予防）短期入所生活介護、（介護予防）短期入所療養介護、（介護予防）特定施設入居者生活介護、（介護予防）認知症対応型共同生活介護、地域密着型特定施設入居者生活介護、 地域密着型介護老人福祉施設入所者生活介護、介護老人福祉施設、介護老人保健施設、介護医療院）」（別紙12－2）」を添付してください。
B11: また、「認知症チームケア推進加算」については、「認知症チームケア推進加算に係る届出書」（別紙40）を添付してください。
B12: ９ 「24時間通報対応加算」については、「24時間通報対応加算に係る届出書」（別紙43）を添付してください。
B13: 10 「その他該当する体制等」欄で人員配置に係る加算（減算）の届出については、それぞれ加算（減算）の要件となる職員の配置状況や勤務体制がわかる書類を添付してください。
... B43: 備考 １ この表は、事業所所在地以外の場所で一部事業を実施する出張所等がある場合について記載することとし、複数出張所等を有する場合は出張所ごとに提出してください。

Sheet 別紙４
B2: （別紙４）
T4: 令和 | W4: 年 | Z4: 月 | AC4: 日
B5: （あて先）福岡 | H5: 市長
P7: 市町村名 | Q7: 福岡市
B10: 基準該当サービスに係る特例居宅介護サービス費、特例介護予防サービス費、特例居宅介護 サービス計画費及び特例介護予防サービス計画費の支給に係る上限の率の設定について
B15: このことについて、上限の率を下記のとおり設定しましたのでお知らせします。
B17: 記
A19: 1 全国共通の介護報酬額に対して定める率
B21: 項 目 | K21: サービスの種類 | W21: 全国共通の介護報酬額に対して定める率
B22: 特例居宅介護サービス費 | K22: 訪問介護 | AC22: ％
K23: 訪問入浴介護 | AC23: ％
K24: 通所介護 | AC24: ％
K25: 短期入所生活介護 | AC25: ％
K26: 福祉用具貸与 | AC26: ％
B27: 特例介護予防サービス費 | K27: 介護予防訪問入浴介護 | AC27: ％
K28: 介護予防短期入所生活介護 | AC28: ％
K29: 介護予防福祉用具貸与 | AC29: ％
B30: 特例居宅介護サービス計画費 | AC30: ％
B31: 特例介護予防サービス計画費 | AC31: ％
A33: 2 適用開始年月日 | N33: 年 | Q33: 月 | T33: 日

Sheet 別紙５
B2: （別紙５）
W4: 令和 | Z4: 年 | AC4: 月 | AF4: 日
B5: （あて先）福岡 | H5: 市長
S7: 事業所・施設名
B9: 指定居宅サービス事業者等による介護給付費の割引に係る割引率の設定について
A11: 1 割引率等
R13: 事業所番号 | W13: 4 | X13: 0
B15: サービスの種類 | M15: 割引率 | O15: 適用条件
B16: 訪問介護 | M16: （例）10 | N16: ％ | O16: （例）毎日 午後２時から午後４時まで
N17: ％
N18: ％
B19: 訪問入浴介護 | N19: ％
N20: ％
N21: ％
B22: 通所介護 | N22: ％
N23: ％
N24: ％
B25: 短期入所生活介護 | N25: ％
N26: ％
N27: ％
B28: 特定施設入居者生活介護 | N28: ％
N29: ％
N30: ％
B31: 介護老人福祉施設 | N31: ％
N32: ％
N33: ％
B34: 介護予防訪問入浴介護 | N34: ％
N35: ％
N36: ％
B37: 介護予防短期入所生活介護 | N37: ％
N38: ％
N39: ％
B40: 介護予防特定施設入居者 生活介護 | N40: ％
N41: ％
N42: ％
B44: 備考 「適用条件」欄には、当該割引率が適用される時間帯、曜日、日時について具体的に
B45: 記載してください。
A47: 2 適用開始年月日 | N47: 年 | Q47: 月 | T47: 日

Sheet 別紙5－2
B2: （別紙５ー２）
W4: 令和 | Z4: 年 | AC4: 月 | AF4: 日
B5: （あて先）嘉麻 | H5: 市長 | K5: 殿
S7: 事業所・施設名
B9: 地域密着型サービス事業者又は地域密着型介護予防サービス事業者による介護給付費の割引に 係る割引率の設定について
A12: 1 割引率等
R14: 事業所番号 | W14: 4 | X14: 0
B16: サービスの種類 | M16: 割引率 | O16: 適用条件
B17: 夜間対応型訪問介護 | N17: ％
N18: ％
N19: ％
B20: 地域密着型通所介護 | N20: ％
N21: ％
N22: ％
B23: 認知症対応型通所介護 | N23: ％
N24: ％
N25: ％
B26: 小規模多機能型居宅介護 | N26: ％
N27: ％
N28: ％
B29: 認知症対応型共同生活介護 | N29: ％
N30: ％
N31: ％
B32: 地域密着型特定施設入居者 生活介護 | N32: ％
N33: ％
N34: ％
B35: 地域密着型介護老人福祉施設入所者生活介護 | N35: ％
N36: ％
N37: ％
B38: 定期巡回・随時対応型訪問介護看護 | N38: ％
N39: ％
N40: ％
B41: 複合型サービス | N41: ％
N42: ％
N43: ％
B44: 介護予防認知症対応型 通所介護 | N44: ％
N45: ％
N46: ％
B47: 介護予防小規模多機能型 居宅介護 | N47: ％
N48: ％
...

Sheet 別紙
B2: （別紙） | AA2: 令和 年 月 日
B4: テクノロジーを導入する場合の夜間の人員配置基準（ユニット型を除く）に係る届出書
B6: 事 業 所 名
B7: 異動等区分 | G7: 1 新規 2 変更 3 終了
B8: 施 設 種 別 | G8: 1 介護老人保健施設 3 介護予防短期入所療養介護 | P8: 2 短期入所療養介護
C11: ① 入所（利用）者全員に見守り機器を使用 | Y11: 有・無
C13: ② 夜勤職員全員がインカム等のICTを使用 | Y13: 有・無
C15: ③ 導入機器
C17: 名 称
C18: 製造事業者
C19: 用 途
C21: ④ 利用者の安全やケアの質の確保、職員の負担の軽減を図るため、以下のすべての項目 について、テクノロジー導入後、少なくとも３か月以上実施
D23: ⅰ 利用者の安全並びに介護サービスの質の確保及び職員の負担軽減に資する方策を検討するための委員会の設置 | Y23: 有・無
D25: ⅱ 職員に対する十分な休憩時間の確保等の勤務・雇用条件への配慮 | Y25: 有・無
D27: ⅲ 緊急時の体制整備（近隣在住職員を中心とした緊急参集要員の確保等） | Y27: 有・無
D29: ⅳ 機器の不具合の定期チェックの実施（メーカーとの連携を含む） | Y29: 有・無
D31: ⅴ 職員に対するテクノロジー活用に関する教育の実施 | Y31: 有・無
D33: ⅵ 夜間の訪室が必要な利用者に対する訪室の個別実施 | Y33: 有・無
C35: ⑤ ④ⅰの委員会で安全体制やケアの質の確保、職員の負担軽減が図られている ことを確認 | Y35: 有・無
B36: 備考１ 要件を満たすことが分かる議事概要を提出すること。このほか要件を満たすことが分かる根拠書類を準備し、
B37: 指定権者からの求めがあった場合には、速やかに提出すること。
B38: 備考２ ④ⅰの委員会には夜勤職員をはじめケア等を行う多職種の職員が参画すること。

Sheet 別紙７
A1: ￥
B2: （別紙７）
B4: 従業者の勤務の体制及び勤務形態一覧表 （ 年 月分） | X4: サービス種類（ ）
X6: 事業所・施設名（ ）
B8: 「人員配置区分― 型」又は「該当する体制等― 」 | AB8: ［入所（利用）定員（見込）数等 名］
B10: 職 種 | C10: 勤務 形態 | D10: 氏 名 | E10: 第1週 | L10: 第2週 | S10: 第3週 | Z10: 第4週 | AG10: 4週の 合計 | AH10: 週平均 の勤務 時間 | AI10: 常勤換 算後の 人数
E11: 1 | F11: 2 | G11: 3 | H11: 4 | I11: 5 | J11: 6 | K11: 7 | L11: 8 | M11: 9 | N11: 10 | O11: 11 | P11: 12 | Q11: 13 | R11: 14 | S11: 15 | T11: 16 | U11: 17 | V11: 18 | W11: 19 | X11: 20 | Y11: 21 | Z11: 22 | AA11: 23 | AB11: 24 | AC11: 25 | AD11: 26 | AE11: 27 | AF11: 28
E12: ＊
B13: （記載例―1） | E13: ① | F13: ① | G13: ③ | H13: ② | I13: ④ | J13: ① | K13: ④
B14: （記載例―2） | E14: ab | F14: ab | G14: ab | H14: cd | I14: cd | J14: e | K14: e
B25: （再掲） 夜勤職員 | C25: １日の夜勤の合計時間
C26: 常勤換算後の人数 （16h換算）
B28: ＜配置状況＞
B30: 看護職員：介護職員
B31: （ ： )
B33: 看護師：准看護師 (日中)
B34: （ ： )
B36: 看護師：准看護師 （夜間）
B37: （ ： )
B41: 備考1 ＊欄には、当該月の曜日を記入してください。
B42: 2 「人員配置区分」又は「該当する体制等」欄には、別紙「介護給付費算定に係る体制等状況一覧表」に掲げる人員配置区分の類型又は該当する
B43: 体制加算の内容をそのまま記載してください。
B44: 3 届出を行う従業者について、4週間分の勤務すべき時間数を記入してください。勤務時間ごとあるいはサービス提供時間単位ごとに区分して
B45: 番号を付し、その番号を記入してください。
... B61: 差し支えありません。

Sheet 別紙７－２
B1: （別紙７－２） | K1: 令和 | N1: 年 | P1: 月 | R1: 日
B2: 有資格者等の割合の参考計算書
I4: 事業所名
I5: 事業所番号
I6: サービス種類
B8: １．割合を計算する職員 | F8: 介護福祉士
F9: 介護職員
B11: ２．有資格者等の割合の算定期間 | F11: 前年度（３月を除く） | J11: 実績月数
B13: ３．常勤換算方法による計算
B14: □ | C14: 前年度（３月を除く） | M14: 常勤換算人数
C15: ①常勤職員の 一月あたりの 勤務時間 | F15: ②常勤換算方法の 対象外である 常勤の職員数 （常勤・専従等） | H15: ③常勤換算方法の対象 である常勤の職員の 勤務延時間数 （常勤・兼務等） | J15: ④非常勤の職員の 勤務延時間数 | M15: =F8 -> 介護福祉士 | P15: =F9 -> 介護職員
B16: 令和 年 | D16: 時間 | E16: =$F$8 -> 介護福祉士 | G16: 人 | I16: 時間 | K16: 時間 | M16: =IF(C16="","",F16+ROUNDDOWN((H16+J16)/C16,1)) | P16: =IF(C16="","",F17+ROUNDDOWN((H17+J17)/C16,1)) | W16: 分子 | X16: 分母
B17: 4月 | E17: =$F$9 -> 介護職員 | G17: 人 | I17: 時間 | K17: 時間 | V17: 割合を計算する職員 | W17: 介護福祉士 | X17: 介護職員
D18: 時間 | E18: =$F$8 -> 介護福祉士 | G18: 人 | I18: 時間 | K18: 時間 | M18: =IF(C18="","",F18+ROUNDDOWN((H18+J18)/C18,1)) | P18: =IF(C18="","",F19+ROUNDDOWN((H19+J19)/C18,1)) | W18: 勤続年数10年以上の介護福祉士 | X18: 介護サービスを直接提供する職員
B19: 5月 | E19: =$F$9 -> 介護職員 | G19: 人 | I19: 時間 | K19: 時間 | W19: 勤続年数７年以上の職員 | X19: -
D20: 時間 | E20: =$F$8 -> 介護福祉士 | G20: 人 | I20: 時間 | K20: 時間 | M20: =IF(C20="","",F20+ROUNDDOWN((H20+J20)/C20,1)) | P20: =IF(C20="","",F21+ROUNDDOWN((H21+J21)/C20,1)) | W20: - | X20: -
B21: 6月 | E21: =$F$9 -> 介護職員 | G21: 人 | I21: 時間 | K21: 時間 | W21: - | X21: -
D22: 時間 | E22: =$F$8 -> 介護福祉士 | G22: 人 | I22: 時間 | K22: 時間 | M22: =IF(C22="","",F22+ROUNDDOWN((H22+J22)/C22,1)) | P22: =IF(C22="","",F23+ROUNDDOWN((H23+J23)/C22,1)) | W22: - | X22: -
B23: 7月 | E23: =$F$9 -> 介護職員 | G23: 人 | I23: 時間 | K23: 時間
D24: 時間 | E24: =$F$8 -> 介護福祉士 | G24: 人 | I24: 時間 | K24: 時間 | M24: =IF(C24="","",F24+ROUNDDOWN((H24+J24)/C24,1)) | P24: =IF(C24="","",F25+ROUNDDOWN((H25+J25)/C24,1))
B25: 8月 | E25: =$F$9 -> 介護職員 | G25: 人 | I25: 時間 | K25: 時間
D26: 時間 | E26: =$F$8 -> 介護福祉士 | G26: 人 | I26: 時間 | K26: 時間 | M26: =IF(C26="","",F26+ROUNDDOWN((H26+J26)/C26,1)) | P26: =IF(C26="","",F27+ROUNDDOWN((H27+J27)/C26,1))
B27: 9月 | E27: =$F$9 -> 介護職員 | G27: 人 | I27: 時間 | K27: 時間
D28: 時間 | E28: =$F$8 -> 介護福祉士 | G28: 人 | I28: 時間 | K28: 時間 | M28: =IF(C28="","",F28+ROUNDDOWN((H28+J28)/C28,1)) | P28: =IF(C28="","",F29+ROUNDDOWN((H29+J29)/C28,1))
B29: 10月 | E29: =$F$9 -> 介護職員 | G29: 人 | I29: 時間 | K29: 時間
D30: 時間 | E30: =$F$8 -> 介護福祉士 | G30: 人 | I30: 時間 | K30: 時間 | M30: =IF(C30="","",F30+ROUNDDOWN((H30+J30)/C30,1)) | P30: =IF(C30="","",F31+ROUNDDOWN((H31+J31)/C30,1))
B31: 11月 | E31: =$F$9 -> 介護職員 | G31: 人 | I31: 時間 | K31: 時間
D32: 時間 | E32: =$F$8 -> 介護福祉士 | G32: 人 | I32: 時間 | K32: 時間 | M32: =IF(C32="","",F32+ROUNDDOWN((H32+J32)/C32,1)) | P32: =IF(C32="","",F33+ROUNDDOWN((H33+J33)/C32,1))
B33: 12月 | E33: =$F$9 -> 介護職員 | G33: 人 | I33: 時間 | K33: 時間
B34: 令和 年 | D34: 時間 | E34: =$F$8 -> 介護福祉士 | G34: 人 | I34: 時間 | K34: 時間 | M34: =IF(C34="","",F34+ROUNDDOWN((H34+J34)/C34,1)) | P34: =IF(C34="","",F35+ROUNDDOWN((H35+J35)/C34,1))
B35: 1月 | E35: =$F$9 -> 介護職員 | G35: 人 | I35: 時間 | K35: 時間
D36: 時間 | E36: =$F$8 -> 介護福祉士 | G36: 人 | I36: 時間 | K36: 時間 | M36: =IF(C36="","",F36+ROUNDDOWN((H36+J36)/C36,1)) | P36: =IF(C36="","",F37+ROUNDDOWN((H37+J37)/C36,1))
B37: 2月 | E37: =$F$9 -> 介護職員 | G37: 人 | I37: 時間 | K37: 時間
J39: 合計 | M39: =IF(SUM(M16:O37)=0,"",SUM(M16:O37)) | P39: =IF(SUM(P16:R37)=0,"",SUM(P16:R37))
J40: 一月あたりの平均値 | M40: =IF(M39="","",ROUNDDOWN(M39/$K$11,1)) | P40: =IF(P39="","",ROUNDDOWN(P39/$K$11,1))
J41: =$M$15 -> 介護福祉士 | P41: =IF(M40="","",M40/P40)
J42: の割合
B44: □ | C44: 届出日の属する月の前３月 | M44: 常勤換算人数
C45: ①常勤職員の 一月あたりの 勤務時間 | F45: ②常勤換算方法の 対象外である 常勤の職員数 （常勤・専従等） | H45: ③常勤換算方法の対象 である常勤の職員の 勤務延時間数 （常勤・兼務等） | J45: ④非常勤の職員の 勤務延時間数 | M45: =F8 -> 介護福祉士 | P45: =F9 -> 介護職員
B46: 令和 年 | D46: 時間 | E46: =$F$8 -> 介護福祉士 | G46: 人 | I46: 時間 | K46: 時間 | M46: =IF(C46="","",F46+ROUNDDOWN((H46+J46)/C46,1)) | P46: =IF(C46="","",F47+ROUNDDOWN((H47+J47)/C46,1))
...

Sheet 別紙７－３
B2: （別紙７ー３） | U2: 令和 | X2: 年 | AA2: 月 | AD2: 日
B4: テクノロジーを導入する場合の夜間の人員配置基準（従来型）に係る届出書
B6: 事 業 所 名
B7: 異動等区分 | G7: □ | H7: 1 新規 | L7: □ | M7: 2 変更 | Q7: □ | R7: 3 終了
B8: 施 設 種 別 | G8: □ | H8: 1 介護老人福祉施設 | P8: □ | Q8: 2 地域密着型介護老人福祉施設
G9: □ | H9: 3 短期入所生活介護
AA12: 有 | AB12: ・ | AC12: 無
C14: ① 入所（利用）者全員に見守り機器を使用 | AA14: □ | AB14: ・ | AC14: □
C16: ② 夜勤職員全員がインカム等のICTを使用 | AA16: □ | AB16: ・ | AC16: □
C18: ③ 導入機器
C20: 名 称
C21: 製造事業者
C22: 用 途
C24: ④ 利用者の安全やケアの質の確保、職員の負担の軽減を図るため、以下のすべての 項目について、テクノロジー導入後、少なくとも３か月以上実施 | AA24: 有 | AB24: ・ | AC24: 無
D26: ⅰ 利用者の安全並びに介護サービスの質の確保及び職員の負担軽減に資する | AA26: □ | AB26: ・ | AC26: □
D27: 方策を検討するための委員会の設置
D29: ⅱ 職員に対する十分な休憩時間の確保等の勤務・雇用条件への配慮 | AA29: □ | AB29: ・ | AC29: □
D31: ⅲ 緊急時の体制整備（近隣在住職員を中心とした緊急参集要員の確保等） | AA31: □ | AB31: ・ | AC31: □
D33: ⅳ 機器の不具合の定期チェックの実施（メーカーとの連携を含む） | AA33: □ | AB33: ・ | AC33: □
D35: ⅴ 職員に対するテクノロジー活用に関する教育の実施 | AA35: □ | AB35: ・ | AC35: □
D37: ⅵ 夜間の訪室が必要な利用者に対する訪室の個別実施 | AA37: □ | AB37: ・ | AC37: □
C39: ⑤ ④ⅰの委員会で安全体制やケアの質の確保、職員の負担軽減が図られている ことを確認 | AA39: □ | AB39: ・ | AC39: □
B40: 備考１ 要件を満たすことが分かる議事概要を提出すること。このほか要件を満たすことが分かる根拠書類を準備し、
B41: 指定権者からの求めがあった場合には、速やかに提出すること。
B42: 備考２ ④ⅰの委員会には夜勤職員をはじめ実際にケア等を行う多職種の職員が参画すること。

Sheet 別紙11
B2: （別紙11）
R3: 令和 | U3: 年 | W3: 月 | Y3: 日
B4: 口腔連携強化加算に関する届出書
B6: 1 | C6: 事業所名
B7: 2 | C7: 異動区分 | H7: □ | I7: 1 新規 | M7: □ | N7: 2 変更 | R7: □ | S7: 3 終了
B8: 3 | C8: 施設種別 | H8: □ | I8: 1 訪問介護事業所
H9: □ | I9: 2 (介護予防）訪問看護事業所（訪問看護ステーション）
H10: □ | I10: 3 (介護予防）訪問リハビリテーション事業所
H11: □ | I11: 4 (介護予防）短期入所生活介護事業所
H12: □ | I12: 5 (介護予防）短期入所療養介護事業所
H13: □ | I13: 6 定期巡回・随時対応型訪問介護看護事業所
B15: 4 | C15: 歯科医療機関との連携の状況 | H15: １．連携歯科医療機関
I16: 歯科医療機関名
I18: 所在地
I22: 歯科医師名
I24: 歯科訪問診療料の算定の実績 | Q24: 年 月 日
I26: 連絡先電話番号
H29: ２．連携歯科医療機関
I30: 歯科医療機関名
I32: 所在地
I36: 歯科医師名
I38: 歯科訪問診療料の算定の実績 | Q38: 年 月 日
I40: 連絡先電話番号
H43: ３．連携歯科医療機関
I44: 歯科医療機関名
I46: 所在地
I50: 歯科医師名
I52: 歯科訪問診療料の算定の実績 | Q52: 年 月 日
I54: 連絡先電話番号
B58: 注１ 「連携歯科医療機関」とは、利用者の口腔の健康状態に係る評価を行うに当たって、歯科医療機関の歯科医師又は歯科医師の指示を受けた歯科衛生士に対して、口腔の健康状態の評価の方法や在宅歯科医療の提供等について相談できる体制を確保している歯科医療機関である。
B59: 注２ 「連携歯科医療機関」は１つ以上の記載が必要である。なお、記入欄が不足している場合には、「歯科医療機関との連携の状況」のみを追加記載した様式を別途添付しても差し支えない。
B60: 注３ 「歯科訪問診療料の算定の実績」とは、歯科診療報酬点数表の区分番号Ｃ000に掲げる歯科訪問診療料の算定の実績であり、直近の算定日を記載すること。
B61: ※ 要件を満たすことが分かる根拠書類を準備し、指定権者からの求めがあった場合には、速やかに提出してください。

Sheet 別紙12－2
B2: （別紙12-２）
X3: 令和 | AA3: 年 | AC3: 月 | AE3: 日
B5: 認知症専門ケア加算に係る届出書
B6: （介護予防）短期入所生活介護、（介護予防）短期入所療養介護 （介護予防）特定施設入居者生活介護、（介護予防）認知症対応型共同生活介護 地域密着型特定施設入居者生活介護、地域密着型介護老人福祉施設入所者生活介護 介護老人福祉施設、介護老人保健施設、介護療養型医療施設、介護医療院
B8: 事 業 所 名
B9: 異動等区分 | F9: □ | G9: １ 新規 | K9: □ | L9: ２ 変更 | Q9: □ | R9: ３ 終了
B10: 施 設 種 別 | F10: □ | G10: １（介護予防）短期入所生活介護 | R10: □ | S10: ２（介護予防）短期入所療養介護
F11: □ | G11: ３（介護予防）特定施設入居者生活介護 | R11: □ | S11: ４（介護予防）認知症対応型共同生活介護
F12: □ | G12: ５ 地域密着型特定施設入居者生活介護 | R12: □ | S12: ６ 地域密着型介護老人福祉施設入所者生活介護
F13: □ | G13: ７ 介護老人福祉施設 | R13: □ | S13: ８ 介護老人保健施設
F14: □ | G14: ９ 介護医療院
B15: 届 出 項 目 | F15: □ | G15: １ 認知症専門ケア加算（Ⅰ） | R15: □ | S15: ２ 認知症専門ケア加算（Ⅱ）
AB17: 有 | AC17: ・ | AD17: 無
B18: １．認知症専門ケア加算（Ⅰ）に係る届出内容
C19: (1) | D19: 利用者又は入所者の総数のうち、日常生活自立度のランクⅢ、Ⅳ又はＭに該当する者 | AB19: □ | AC19: ・ | AD19: □
D20: の割合が50％以上である
D22: ① 利用者又は入所者の総数 注 | X22: 人
D23: ② 日常生活自立度のランクⅢ、Ⅳ又はＭに該当する者の数 注 | X23: 人
D24: ③ ②÷①×100 | T24: =(IFERROR(ROUNDDOWN(T23/T22*100,0),"")) | U24: =(IFERROR(ROUNDDOWN(U23/U22*100,0),"")) | X24: ％
D25: 注 届出日の属する月の前３月の各月末時点の利用者又は入所者の数（訪問サービスでは
E26: 前３月間の利用実人員数又は利用延べ人数）の平均で算定。
C28: (2) | D28: 認知症介護に係る専門的な研修を修了している者を、日常生活自立度のランクⅢ、 | AB28: □ | AC28: ・ | AD28: □
D29: Ⅳ又はMに該当する者の数に応じて必要数以上配置し、チームとして専門的な
D30: 認知症ケアを実施している
D32: 認知症介護に係る専門的な研修を修了している者の数 | X32: 人
E34: 【参考】
E35: 日常生活自立度のランクⅢ、Ⅳ又はＭに該当する者の数 | O35: 研修修了者の必要数
E36: 20人未満 | O36: １以上
E37: 20以上30未満 | O37: ２以上
E38: 30以上40未満 | O38: ３以上
E39: 40以上50未満 | O39: ４以上
E40: 50以上60未満 | O40: ５以上
E41: 60以上70未満 | O41: ６以上
E42: ～ | O42: ～
C44: (3) | D44: 従業者に対して、認知症ケアに関する留意事項の伝達又は技術的指導に係る会議を | AB44: □ | AC44: ・ | AD44: □
D45: 定期的に開催している
B47: ２．認知症専門ケア加算（Ⅱ）に係る届出内容
C48: (1) | D48: 認知症専門ケア加算（Ⅰ）の基準のいずれにも該当している | AB48: □ | AC48: ・ | AD48: □
D49: ※認知症専門ケア加算（Ⅰ）に係る届出内容(1)～(3)も記入すること。
C51: (2) | D51: 認知症介護の指導に係る専門的な研修を修了している者を１名以上配置し、 | AB51: □ | AC51: ・ | AD51: □
...

Sheet 別紙13
B2: （別紙13）
B4: 看取り連携体制加算に係る届出書
B5: （訪問入浴介護事業所、短期入所生活介護事業所、小規模多機能型居宅介護事業所）
B7: 事 業 所 名
B8: 異動等区分 | G8: □ | H8: 1 新規 | L8: □ | M8: 2 変更 | Q8: □ | R8: 3 終了
B9: 事業所等の区分 | G9: □ | H9: 1 訪問入浴介護事業所
G10: □ | H10: 2 短期入所生活介護事業所
G11: □ | H11: 3 小規模多機能型居宅介護事業所
B14: 看取り連携体制加算に係る届出内容 | V14: 有 | W14: ・ | X14: 無
C16: 訪問入浴 介護 | F16: ① | G16: 訪問看護ステーション等との連携により、利用者の状態等に応じた対応ができる連絡体制を確保し、かつ、必要に応じて当該訪問看護ステーション等により訪問看護等が提供されるよう訪問入浴介護を行う日時を当該訪問看護ステーション等と調整している。 | V16: □ | W16: ・ | X16: □
F17: ② | G17: 看取り期における対応方針を定め、利用開始の際に、利用者又はその家族等に対して、当該対応方針の内容を説明し、同意を得ている。 | V17: □ | W17: ・ | X17: □
F18: ③ | G18: 看取りに関する職員研修を行っている。 | V18: □ | W18: ・ | X18: □
F19: ④ | G19: 「人生の最終段階における医療・ケアの決定プロセスに関するガイドライン」等の内容に沿った取組を行っている。 | V19: □ | W19: ・ | X19: □
C21: 短期入所 生活介護 | F21: ① | G21: 看護体制加算（Ⅱ）又は（Ⅳ）イ若しくはロを算定している。 | V21: □ | W21: ・ | X21: □
F22: ② | G22: 看護体制加算（Ⅰ）又は（Ⅲ）イ若しくはロを算定している。かつ、短期入所生活介護事業所の看護職員により、又は病院、診療所、訪問看護ステーション若しくは本体施設の看護職員との連携により24時間連絡でき る体制を確保している。 | V22: □ | W22: ・ | X22: □
F23: ③ | G23: 看取り期における対応方針を定め、利用開始の際に、登録者又はその家族等に当該方針の内容を説明し、同意を得ている。 | V23: □ | W23: ・ | X23: □
F24: ④ | G24: ケアカンファレンスや対応の実践を振り返る等により、看取り期における対応方針の内容その他看取り期におけるサービス体制について、適宜見直しを行っている。 | V24: □ | W24: ・ | X24: □
F25: ⑤ | G25: 短期入所生活介護事業所において看取りを行う際には、個室又は静養室を利用するなど、プライバシーの確保及び家族へ配慮をすることについて十分留意している。 | V25: □ | W25: ・ | X25: □
F26: ⑥ | G26: 「人生の最終段階における医療・ケアの決定プロセスに関するガイドライン」等の内容に沿った取組を行っている。 | V26: □ | W26: ・ | X26: □
C28: 小規模多機能型居宅介護 | F28: ① | G28: 看護職員配置加算（Ⅰ）を算定している。 | V28: □ | W28: ・ | X28: □
F29: ② | G29: 看護師により24時間連絡できる体制を確保している。 | V29: □ | W29: ・ | X29: □
F30: ③ | G30: 看取り期における対応方針を定め、利用開始の際に、登録者又はその家族等に当該方針の内容を説明し、同意を得ている。 | V30: □ | W30: ・ | X30: □
F31: ④ | G31: ケアカンファレンスや対応の実践を振り返る等により、看取り期における対応方針の内容その他看取り期におけるサービス体制について、適宜見直しを行っている。 | V31: □ | W31: ・ | X31: □
F32: ⑤ | G32: 宿泊室等において看取りを行う場合に、プライバシーの確保及び家族へ配慮をすることについて十分留意している。 | V32: □ | W32: ・ | X32: □
F33: ⑥ | G33: 「人生の最終段階における医療・ケアの決定プロセスに関するガイドライン」等の内容に沿った取組を行っている。 | V33: □ | W33: ・ | X33: □
B36: 備考 要件を満たすことが分かる根拠書類を準備し、指定権者からの求めがあった場合には、
B37: 速やかに提出すること。

Sheet 別紙14－4
B2: （別紙１4－４）
V3: 令和 | Y3: 年 | AB3: 月 | AE3: 日
B5: サービス提供体制強化加算に関する届出書
B6: （介護予防）短期入所生活介護、（介護予防）短期入所療養介護、介護老人福祉施設、 地域密着型介護老人福祉施設、介護老人保健施設、介護医療院
B8: 1 事 業 所 名
B9: 2 異 動 区 分 | G9: □ | H9: 1 新規 | L9: □ | M9: 2 変更 | Q9: □ | R9: 3 終了
B10: 3 施 設 種 別 | G10: □ | H10: 1（介護予防）短期入所生活介護（ | R10: □ | S10: ア 単独型 | V10: □ | W10: イ 併設型 | Z10: □ | AA10: ウ 空床利用型）
G11: □ | H11: 2（介護予防）短期入所療養介護 | R11: □ | S11: 3 介護老人福祉施設
G12: □ | H12: 4 地域密着型介護老人福祉施設 | R12: □ | S12: 5 介護老人保健施設
G13: □ | H13: 6 介護医療院
B14: 4 届 出 項 目 | G14: □ | H14: 1 サービス提供体制強化加算（Ⅰ） | S14: □ | T14: 2 サービス提供体制強化加算（Ⅱ）
G15: □ | H15: 3 サービス提供体制強化加算（Ⅲ）
B17: 5 介護職員等の状況
B18: （１）サービス提供体制強化加算（Ⅰ）
B20: 介護福祉士等の 状況
H21: ①に占める②の割合が80％以上 | AB21: 有 | AC21: ・ | AD21: 無
I22: ① | J22: 介護職員の総数（常勤換算） | X22: 人
I23: ② | J23: ①のうち介護福祉士の総数（常勤換算） | X23: 人 | AB23: □ | AC23: ・ | AD23: □
H24: 又は
H25: ①に占める③の割合が35％以上
I26: ③ | J26: ①のうち勤続年数10年以上の介護福祉士の総数（常勤換算） | X26: 人 | AB26: □ | AC26: ・ | AD26: □
B29: サービスの質の向上に資する 取組の状況 | G29: ※（地域密着型）介護老人福祉施設、介護老人保健施設、介護医療院は記載
B33: （２）サービス提供体制強化加算（Ⅱ）
B35: 介護福祉士等の 状況
H36: ①に占める②の割合が60％以上 | AB36: 有 | AC36: ・ | AD36: 無
I37: ① | J37: 介護職員の総数（常勤換算） | X37: 人
I38: ② | J38: ①のうち介護福祉士の総数（常勤換算） | X38: 人 | AB38: □ | AC38: ・ | AD38: □
B41: （３）サービス提供体制強化加算（Ⅲ）
B42: ※介護福祉士等の状況、常勤職員の状況、勤続年数の状況のうち、いずれか１つを満たすこと。
B43: 介護福祉士等の 状況
H44: ①に占める②の割合が50％以上 | AB44: 有 | AC44: ・ | AD44: 無
I45: ① | J45: 介護職員の総数（常勤換算） | X45: 人
I46: ② | J46: ①のうち介護福祉士の総数（常勤換算） | X46: 人 | AB46: □ | AC46: ・ | AD46: □
B48: 常勤職員の 状況
H49: ①に占める②の割合が75％以上 | AB49: 有 | AC49: ・ | AD49: 無
I50: ① | J50: 看護・介護職員の総数（常勤換算） | X50: 人
I51: ② | J51: ①のうち常勤の者の総数（常勤換算） | X51: 人 | AB51: □ | AC51: ・ | AD51: □
B53: 勤続年数の状況
H54: ①に占める②の割合が30％以上 | AB54: 有 | AC54: ・ | AD54: 無
I55: ① | J55: サービスを直接提供する者の総数（常勤換算） | X55: 人
...

Sheet 別紙14－6
B2: （別紙14－6）
U3: 令和 | X3: 年 | AA3: 月 | AD3: 日
B5: サービス提供体制強化加算に関する届出書
B6: （介護予防）特定施設入居者生活介護、地域密着型特定施設入居者生活介護、 （介護予防）認知症対応型共同生活介護
B8: 1 事 業 所 名
B9: 2 異 動 区 分 | G9: □ | H9: 1 新規 | L9: □ | M9: 2 変更 | Q9: □ | R9: 3 終了
B10: 3 施 設 種 別 | G10: □ | H10: 1 （介護予防）特定施設入居者生活介護
G11: □ | H11: 2 地域密着型特定施設入居者生活介護
G12: □ | H12: 3 （介護予防）認知症対応型共同生活介護
B13: 4 届 出 項 目 | G13: □ | H13: 1 サービス提供体制強化加算（Ⅰ） | S13: □ | T13: 2 サービス提供体制強化加算（Ⅱ）
G14: □ | H14: 3 サービス提供体制強化加算（Ⅲ）
B16: 5 介護職員等の状況
B17: （１）サービス提供体制強化加算（Ⅰ）
B19: 介護福祉士等の 状況
H20: ①に占める②の割合が70％以上 | AA20: 有 | AB20: ・ | AC20: 無
I21: ① | J21: 介護職員の総数（常勤換算） | W21: 人
I22: ② | J22: ①のうち介護福祉士の総数（常勤換算） | W22: 人 | AA22: □ | AB22: ・ | AC22: □
H23: 又は
H24: ①に占める③の割合が25％以上
I25: ③ | J25: ①のうち勤続年数10年以上の介護福祉士の総数（常勤換算） | W25: 人 | AA25: □ | AB25: ・ | AC25: □
B28: サービスの質の向上に資する 取組の状況 | G28: ※（介護予防）特定施設入居者生活介護、地域密着型特定施設入居者生活介護は記載
B32: （２）サービス提供体制強化加算（Ⅱ）
B34: 介護福祉士等の 状況
H35: ①に占める②の割合が60％以上 | AA35: 有 | AB35: ・ | AC35: 無
I36: ① | J36: 介護職員の総数（常勤換算） | W36: 人
I37: ② | J37: ①のうち介護福祉士の総数（常勤換算） | W37: 人 | AA37: □ | AB37: ・ | AC37: □
B40: （３）サービス提供体制強化加算（Ⅲ）
B41: ※介護福祉士等の状況、常勤職員の状況、勤続年数の状況のうち、いずれか１つを満たすこと。
B42: 介護福祉士等の 状況
H43: ①に占める②の割合が50％以上 | AA43: 有 | AB43: ・ | AC43: 無
I44: ① | J44: 介護職員の総数（常勤換算） | W44: 人
I45: ② | J45: ①のうち介護福祉士の総数（常勤換算） | W45: 人 | AA45: □ | AB45: ・ | AC45: □
B47: 常勤職員の 状況
H48: ①に占める②の割合が75％以上 | AA48: 有 | AB48: ・ | AC48: 無
I49: ① | J49: 看護・介護職員の総数（常勤換算） | W49: 人
I50: ② | J50: ①のうち常勤の者の総数（常勤換算） | W50: 人 | AA50: □ | AB50: ・ | AC50: □
B52: 勤続年数の状況
H53: ①に占める②の割合が30％以上 | AA53: 有 | AB53: ・ | AC53: 無
I54: ① | J54: サービスを直接提供する者の総数 （常勤換算） | W54: 人
I55: ② | J55: ①のうち勤続年数７年以上の者の総数 （常勤換算） | W55: 人 | AA55: □ | AB55: ・ | AC55: □
...

Sheet 別紙21
B2: （別紙21）
B4: 生活相談員配置等加算に係る届出書
B6: 事 業 所 名
B7: 異動等区分 | G7: □ | H7: 1 新規 | L7: □ | M7: 2 変更 | Q7: □ | R7: 3 終了
B8: 事業所等の区分 | G8: □ | H8: 1 通所介護事業所
G9: □ | H9: 2 地域密着型通所介護事業所
G10: □ | H10: 3 （介護予防）短期入所生活介護事業所
B13: 生活相談員配置等加算に係る届出内容 | V13: 有 | W13: ・ | X13: 無
C15: 通所介護 | F15: ① | G15: 共生型通所介護費を算定している。 | V15: □ | W15: ・ | X15: □
F16: ② | G16: 生活相談員を、共生型通所介護の提供日ごとに、当該共生型通所介護を行う時間帯を通じて１名以上配置している。 | V16: □ | W16: ・ | X16: □
F17: ③ | G17: 当該生活相談員が、地域に貢献する活動を行っている。 | V17: □ | W17: ・ | X17: □
C19: 地域密着型 通所介護 | F19: ① | G19: 共生型地域密着型通所介護費を算定している。 | V19: □ | W19: ・ | X19: □
F20: ② | G20: 生活相談員を、共生型地域密着型通所介護の提供日ごとに、当該共生型地域密着型通所介護を行う時間帯を通じて１名以上配置している。 | V20: □ | W20: ・ | X20: □
F21: ③ | G21: 当該生活相談員が、地域に貢献する活動を行っている。 | V21: □ | W21: ・ | X21: □
C23: (介護予防) 短期入所 生活介護 | F23: ① | G23: 共生型短期入所生活介護費を算定している。 | V23: □ | W23: ・ | X23: □
F24: ② | G24: 生活相談員を、常勤換算方法で１名以上配置している。 | V24: □ | W24: ・ | X24: □
F25: ③ | G25: 当該生活相談員が、地域に貢献する活動を行っている。 | V25: □ | W25: ・ | X25: □
B28: 備考 要件を満たすことが分かる根拠書類を準備し、指定権者からの求めがあった場合には、
B29: 速やかに提出すること。

Sheet 別紙25
B2: （別紙25）
B4: 看護体制加算に係る届出書 （短期入所生活介護事業所）
B6: 事 業 所 名
B7: 異動等区分 | G7: □ | H7: 1 新規 | L7: □ | M7: 2 変更 | Q7: □ | R7: 3 終了
B8: 届 出 項 目 | G8: □ | H8: 1 看護体制加算（Ⅰ） | Q8: □ | R8: 2 看護体制加算（Ⅱ）
G9: □ | H9: 3 看護体制加算（Ⅲ）イ | Q9: □ | R9: 4 看護体制加算（Ⅲ）ロ
G10: □ | H10: 5 看護体制加算（Ⅳ）イ | Q10: □ | R10: 6 看護体制加算（Ⅳ）ロ
B13: 看護体制加算に係る届出内容
C15: 定員及び利用者数の状況
C17: 定員 | N17: 人 | P17: 利用者数 | Y17: 人
C19: 看護職員の状況
C21: 看護師 | J21: 常勤 | P21: 人
C22: 看護職員（看護師・准看護師） | J22: 常勤換算 | P22: 人
C24: 連携する病院・診療所・訪問看護ステーション
C26: 病院・診療所・訪問看護ステーション名 | P26: 事業所番号
C33: 24時間常時連絡できる体制を整備している。 | W33: 有 | X33: ・ | Y33: 無
W34: □ | X34: ・ | Y34: □
C36: 中重度者の受入状況
C38: ［ | D38: □ | E38: 前年度 | G38: □ | H38: 前三月 | J38: ］における（[ ]はいずれかの□を■にする） | W38: 有 | X38: ・ | Y38: 無
C39: 利用者の総数のうち、要介護３、要介護４又は要介護５の利用者の | W39: □ | X39: ・ | Y39: □
C40: 占める割合が70％以上
B42: 備考 看護体制について、体制を整備している場合について提出してください。

Sheet 別紙25－2
B2: （別紙25－2）
B4: 看護体制加算に係る届出書
B6: 事 業 所 名
B7: 異動等区分 | G7: □ | H7: 1 新規 | L7: □ | M7: 2 変更 | Q7: □ | R7: 3 終了
B8: 施 設 種 別 | G8: □ | H8: 1 介護老人福祉施設 | P8: □ | Q8: 2 地域密着型介護老人福祉施設
B9: 届 出 項 目 | G9: □ | H9: 1 看護体制加算（Ⅰ）イ | Q9: □ | R9: 2 看護体制加算（Ⅰ）ロ
G10: □ | H10: 3 看護体制加算（Ⅱ）イ | Q10: □ | R10: 4 看護体制加算（Ⅱ）ロ
B13: 看護体制加算に関する届出内容
C15: 定員及び入所者の状況
C17: 定員 | N17: 人 | P17: 入所者数 | Y17: 人
C19: 看護職員の状況
C21: 保 健 師 | H21: 常勤 | N21: 人 | O21: 常勤換算 | U21: 人
C22: 看 護 師 | H22: 常勤 | N22: 人 | O22: 常勤換算 | U22: 人
C23: 准看護師 | H23: 常勤 | N23: 人 | O23: 常勤換算 | U23: 人
C25: 連携する病院・診療所・訪問看護ステーション
C27: 病院・診療所・訪問看護ステーション名 | P27: 事業所番号
C34: 24時間常時連絡できる体制を整備している。 | W34: 有 | X34: ・ | Y34: 無
W35: □ | X35: ・ | Y35: □

Sheet 別紙26
B2: （別紙26）
B4: 医療連携強化加算に係る届出書 （短期入所生活介護事業所）
B6: 事 業 所 名
B7: 異動等区分 | G7: □ | H7: 1 新規 | L7: □ | M7: 2 変更 | Q7: □ | R7: 3 終了
B10: 医療連携強化加算に係る届出内容 | V10: 有 | W10: ・ | X10: 無
C12: ① | E12: 看護体制加算（Ⅱ）又は（Ⅳ）を算定している。 | V12: □ | W12: ・ | X12: □
C13: ② | E13: 利用者の急変の予測や早期発見等のため、看護職員による定期的な巡視を行っている。 | V13: □ | W13: ・ | X13: □
C14: ③ | E14: 主治の医師と連絡が取れない等の場合に備えて、あらかじめ協力医療機関を定め、緊急やむを得ない場合の対応に係る取り決めを行っている。 | V14: □ | W14: ・ | X14: □
C15: ④ | E15: 主治の医師との連携方法や搬送方法も含め、急変時の医療提供の方針について、利用者から同意を得ている。また当該同意を文書で記録している。 | V15: □ | W15: ・ | X15: □
C16: ⑤ | E16: 同加算を算定する利用者は、以下のいずれかに該当する者である。 イ 喀痰吸引を実施している状態 ロ 呼吸障害等により人工呼吸器を使用している状態 ハ 中心静脈注射を実施している状態 ニ 人工腎臓を実施している状態 ホ 重篤な心機能障害、呼吸障害等により常時モニター測定を 実施している状態 ヘ 人工膀胱又は人工肛門の処置を実施している状態 ト 経鼻胃管や胃瘻等の経腸栄養が行われている状態 チ 褥瘡に対する治療を実施している状態 リ 気管切開が行われている状態 | V16: □ | W16: ・ | X16: □
C17: ⑥ | E17: 在宅中重度受入加算を算定していない。 | V17: □ | W17: ・ | X17: □
B20: 備考 要件を満たすことが分かる根拠書類を準備し、指定権者からの求めがあった場合には、
B21: 速やかに提出すること。

Sheet 別紙27
B2: （別紙27） | W2: 令和 | Y2: 年 | AA2: 月 | AC2: 日
B4: テクノロジーの導入による夜勤職員配置加算に係る届出書
B6: 事 業 所 名
B7: 異動等区分 | G7: □ | H7: 1 新規 | L7: □ | M7: 2 変更 | Q7: □ | R7: 3 終了
B8: 施 設 種 別 | G8: □ | H8: 1 介護老人福祉施設 | Q8: □ | R8: 2 地域密着型介護老人福祉施設
G9: □ | H9: 3 短期入所生活介護
B11: 以下について、該当する届出項目における必要事項を記載すること。
B13: 配置要件① 最低基準に加えて配置する人員が「0.9人配置」
C15: ① 入所（利用）者数
N17: 人
C19: ② 見守り機器を導入して見守りを行っている対象者数
N21: 人
C23: ③ ①に占める②の割合 | Z23: 有 | AA23: ・ | AB23: 無
N25: ％ | P25: → | S25: １０％以上 | Z25: □ | AA25: ・ | AB25: □
C27: ④ 導入機器
C29: 名 称
C30: 製造事業者
C31: 用 途
Z32: 有 | AA32: ・ | AB32: 無
C33: ⑤ 導入機器の継続的な使用（９週間以上） | Z33: □ | AA33: ・ | AB33: □
C35: ⑥ 導入機器を安全かつ有効に活用するための委員会における、ヒヤリハット・ 介護事故が減少していることの確認、必要な分析・検討等 | Z35: □ | AA35: ・ | AB35: □
B38: 配置要件② 最低基準に加えて配置する人員が「0.6人配置」
Z40: 有 | AA40: ・ | AB40: 無
C41: ① 入所（利用）者全員に見守り機器を使用 | Z41: □ | AA41: ・ | AB41: □
C43: ② 夜勤職員全員がインカム等のICTを使用 | Z43: □ | AA43: ・ | AB43: □
C45: ③ 導入機器
C47: 名 称
C48: 製造事業者
C49: 用 途
C51: ④ 利用者の安全やケアの質の確保、職員の負担の軽減を図るため、以下のすべての 項目について、テクノロジー導入後、少なくとも３か月以上実施 | Z51: 有 | AA51: ・ | AB51: 無
D53: ⅰ 利用者の安全やケアの質の確保、職員の負担を軽減するための委員会の設置 | Z53: □ | AA53: ・ | AB53: □
D55: ⅱ 職員に対する十分な休憩時間の確保等の勤務・雇用条件への配慮 | Z55: □ | AA55: ・ | AB55: □
